Workbook

Sheet สขร1-สิงหาคม 69
K1: แบบ สขร. 1
A2: แบบสรุปผลการดำเนินการจัดซื้อจัดจ้างในรอบเดือนสิงหาคม พ.ศ.2569
A3: องค์การบริหารส่วนตำบลกุตาไก้ อำเภอปลาปาก จังหวัดนครพนม
A4: วันที่ 31 สิงหาคม พ.ศ. 2569
A5: ลำดับที่ | B5: งานที่จัดซื้อหรือจัดจ้าง | C5: วงเงินที่จะซื้อหรือจ้าง | D5: ราคากลาง | E5: วิธีซื้อหรือจ้าง | F5: รายชื่อผู้เสนอราคาและราคาที่เสนอ | H5: ผู้ได้รับการคัดเลือกและราคาที่ตกลงซื้อหรือจ้าง | J5: เหตุผลที่คัดเลือก | K5: เลขที่และวันที่ของสัญญา | L5: หมายเหตุ
C6: (บาท) | D6: (บาท) | F6: ผู้เสนอราคา | G6: ราคาที่เสนอ | H6: ผู้ได้รับการคัดเลือก | I6: ราคาที่ตกลงซื้อหรือจ้าง | J6: โดยสรุป | K6: หรือข้อตกลงในการซื้อหรือจ้าง
A7: 1 | B7: จัดซื้อน้ำดื่มประจำเดือนสิงหาคม 2569 | C7: 4000 | D7: 4,000.00 | E7: เฉพาะเจาะจง/ ดำเนินการตาม ว119 | F7: ร้านภูไท | G7: 4000 | H7: ร้านภูไท | I7: 4000 | J7: ตาม ว119/ราคาต่ำสุด | K7: 3-ส.ค-2569 | L7: ไม่ลง eGp ตาม ว322
A8: 2 | B8: จัดซื้อวัสดุงานบ้านงานครัว (สำนักปลัด) | C8: 5680 | D8: 5680 | E8: เฉพาะเจาะจง | F8: วีระซัฟฟลาย | G8: 5680 | H8: วีระซัฟฟลาย | I8: 5680 | J8: ราคาต่ำสุด | K8: 274/2569 ลว 3-ส.ค-2569
A9: 3 | B9: ซื้อวัสดุคอมพิวเตอร์ (สำนักปลัด) | C9: 7150 | D9: 7150 | E9: เฉพาะเจาะจง | F9: หจก.กวงเชียง(2537) | G9: 7150 | H9: หจก.กวงเชียง(2537) | I9: 7150 | J9: ราคาต่ำสุด | K9: 275/2569 ลว 3-ส.ค-2569
A10: 4 | B10: จัดซื้อวัสดุน้ำมันเชื้อเพลิงและหล่อลื่น รถบรรทุกขยะ 80-8595 นครพนม | C10: 5000 | D10: 5000 | E10: เฉพาะเจาะจง/ตาม แนวทางการจัดซื้อน้ำมันเชื้อเพลิงของหน่วยงานของรัฐ | F10: หจก.พนมบริการ | G10: 5000 | H10: หจก.พนมบริการ | I10: 5000 | J10: จัดซื้อน้ำมันเชื้อเพลิง ตามแนวทางการจัดซื้อน้ำมันเชื้อเพลิงของหน่วยงานของรัฐ ผู้ค้าให้เครดิต | K10: 4-ส.ค-2569 ใบส่งของเล่มที่ 13 เลขที่ 35 | L10: ไม่ลง eGp ตาม ว322
A11: 5 | B11: จัดซื้อวัสดุน้ำมันเชื้อเพลิงและหล่อลื่น กง 1621 นครพนม | C11: 2500 | D11: 2500 | E11: เฉพาะเจาะจง/ตาม แนวทางการจัดซื้อน้ำมันเชื้อเพลิงของหน่วยงานของรัฐ | F11: หจก.พนมบริการ | G11: 2500 | H11: หจก.พนมบริการ | I11: 2500 | J11: จัดซื้อน้ำมันเชื้อเพลิง ตามแนวทางการจัดซื้อน้ำมันเชื้อเพลิงของหน่วยงานของรัฐ ผู้ค้าให้เครดิต | K11: 4-ส.ค-2569 ใบส่งของเล่มที่ 13 เลขที่ 34 | L11: ไม่ลง eGp ตาม ว322
A12: 6 | B12: จัดซื้อวัสดุน้ำมันเชื้อเพลิงและหล่อลื่น 80-8462 นครพนม | C12: 4000 | D12: 4000 | E12: เฉพาะเจาะจง/ตาม แนวทางการจัดซื้อน้ำมันเชื้อเพลิงของหน่วยงานของรัฐ | F12: หจก.พนมบริการ | G12: 4000 | H12: หจก.พนมบริการ | I12: 4000 | J12: จัดซื้อน้ำมันเชื้อเพลิง ตามแนวทางการจัดซื้อน้ำมันเชื้อเพลิงของหน่วยงานของรัฐ ผู้ค้าให้เครดิต | K12: 5-ส.ค-2569 ใบส่งของเล่มที่ 13 เลขที่ 37 | L12: ไม่ลง eGp ตาม ว322
A13: 7 | B13: จัดซื้อวัสดุน้ำมันเชื้อเพลิงและหล่อลื่น กจ 1745 นครพนม | C13: 3000 | D13: 3000 | E13: เฉพาะเจาะจง/ตาม แนวทางการจัดซื้อน้ำมันเชื้อเพลิงของหน่วยงานของรัฐ | F13: หจก.พนมบริการ | G13: 3000 | H13: หจก.พนมบริการ | I13: 3000 | J13: จัดซื้อน้ำมันเชื้อเพลิง ตามแนวทางการจัดซื้อน้ำมันเชื้อเพลิงของหน่วยงานของรัฐ ผู้ค้าให้เครดิต | K13: 5-ส.ค-2569 ใบส่งของเล่มที่ 13 เลขที่ 36 | L13: ไม่ลง eGp ตาม ว322
A14: 8 | B14: จัดซื้อวัสดุน้ำมันเชื้อเพลิงและหล่อลื่น รถจักยานยนต์ส่วนกลาง ทะเบียน 1 กฉ 9362 นครพนม | C14: 1000 | D14: 1000 | E14: เฉพาะเจาะจง/ตาม แนวทางการจัดซื้อน้ำมันเชื้อเพลิงของหน่วยงานของรัฐ | F14: หจก.พนมบริการ | G14: 1000 | H14: หจก.พนมบริการ | I14: 1000 | J14: จัดซื้อน้ำมันเชื้อเพลิง ตามแนวทางการจัดซื้อน้ำมันเชื้อเพลิงของหน่วยงานของรัฐ ผู้ค้าให้เครดิต | K14: 5-ส.ค-2569 ใบส่งของเล่มที่ 13 เลขที่ 39 | L14: ไม่ลง eGp ตาม ว322
A15: 9 | B15: จัดซื้อวัสดุสำนักงาน (สำนักปลัด) | C15: 4330 | D15: 4330 | E15: เฉพาะเจาะจง | F15: ร้านปริญญาการพิมพ์ | G15: 4330 | H15: ร้านปริญญาการพิมพ์ | I15: 4330 | J15: ราคาต่ำสุด | K15: 276/2569 ลว 6-ส.ค-2569 | L15: ไม่ลง eGp ตาม ว322
A16: 10 | B16: จัดซื้อวัสดุไฟฟ้าและวิทยุ | C16: 2280 | D16: 2280 | E16: เฉพาะเจาะจง | F16: หจก.กวงเชียง(2537) | G16: 2280 | H16: หจก.กวงเชียง(2537) | I16: 2280 | J16: ราคาต่ำสุด | K16: 277/2569 ลว 6-ส.ค-2569 | L16: ไม่ลง eGp ตาม ว322
A17: 11 | B17: จัดซื้อวัสดุไฟฟ้า (กองช่าง) | C17: 10350 | D17: 10350 | E17: เฉพาะเจาะจง | F17: ร้าน ป.วัชรา | G17: 10350 | H17: ร้าน ป.วัชรา | I17: 10350 | J17: ราคาต่ำสุด | K17: 278/2569 ลว 11-ส.ค-2569
A18: 12 | B18: จัดซื้อครุภัณฑ์สำรวจ-กล้องระดับ | C18: 30500 | D18: 30500 | E18: เฉพาะเจาะจง | F18: หจก.กวงเชียง(2537) | G18: 30500 | H18: หจก.กวงเชียง(2537) | I18: 30500 | J18: ราคาต่ำสุด | K18: 279/2569 ลว 11-ส.ค-2569
A19: 13 | B19: จัดซื้อครุภัณฑ์ก่อสร้าง-แบบหล่อ+เหล็กกระทุ้ง | C19: 12900 | D19: 12900 | E19: เฉพาะเจาะจง | F19: หจก.กวงเชียง(2537) | G19: 12900 | H19: หจก.กวงเชียง(2537) | I19: 12900 | J19: ราคาต่ำสุด | K19: 280/2569 ลว 11-ส.ค-2569
A20: 14 | B20: จัดจ้างขุดลอกร่องระบายน้ำและกำจัดสิ่งกีดขวาง | C20: 5000 | D20: 5000 | E20: เฉพาะเจาะจง | F20: นายอุทิศ อุเทนธรรม | G20: 5000 | H20: นายอุทิศ อุเทนธรรม | I20: 5000 | J20: ราคาต่ำสุด | K20: 281/2569 ลว 11-ส.ค-2569
A21: 15 | B21: จัดซื้อวัสดุไฟฟ้าและวิทยุ (ถ่านรีโมทโปรเจกเตอร์) | C21: 300 | D21: 300 | E21: เฉพาะเจาะจง | F21: หจก.กวงเชียง(2537) | G21: 300 | H21: หจก.กวงเชียง(2537) | I21: 300 | J21: ราคาต่ำสุด | K21: 282/2569 ลว 11-ส.ค-2569 | L21: ไม่ลง eGp ตาม ว322
A22: 16 | B22: จัดจ้างทำตรายาง (กองคลัง) (นางสาวปิติภัทร บุตราช) นักวิชาการจัดเก็บรายได้ | C22: 640 | D22: 640 | E22: เฉพาะเจาะจง | F22: ร้านปริญญาการพิมพ์ | G22: 640 | H22: ร้านปริญญาการพิมพ์ | I22: 640 | J22: ราคาต่ำสุด | K22: 283/2569 ลว 11-ส.ค-2569 | L22: ไม่ลง eGp ตาม ว322
A23: 17 | B23: จัดซื้อวัสดุน้ำมันเชื้อเพลิงและหล่อลื่น หมายเลขทะเบียน บจ 7439 นครพนม | C23: 3000 | D23: 3000 | E23: เฉพาะเจาะจง/ตาม แนวทางการจัดซื้อน้ำมันเชื้อเพลิงของหน่วยงานของรัฐ | F23: หจก.พนมบริการ | G23: 3000 | H23: หจก.พนมบริการ | I23: 3000 | J23: จัดซื้อน้ำมันเชื้อเพลิง ตามแนวทางการจัดซื้อน้ำมันเชื้อเพลิงของหน่วยงานของรัฐ ผู้ค้าให้เครดิต | K23: 13-ส.ค-2569 ใบส่งของเล่มที่ 14 เลขที่ 05 | L23: ไม่ลง eGp ตาม ว322
A24: 18 | B24: จัดซื้อวัสดุน้ำมันเชื้อเพลิงและหล่อลื่น หมายเลขทะเบียน กจ 7003 นครพนม | C24: 3000 | D24: 3000 | E24: เฉพาะเจาะจง/ตาม แนวทางการจัดซื้อน้ำมันเชื้อเพลิงของหน่วยงานของรัฐ | F24: หจก.พนมบริการ | G24: 3000 | H24: หจก.พนมบริการ | I24: 3000 | J24: จัดซื้อน้ำมันเชื้อเพลิง ตามแนวทางการจัดซื้อน้ำมันเชื้อเพลิงของหน่วยงานของรัฐ ผู้ค้าให้เครดิต | K24: 13-ส.ค-2569 ใบส่งของเล่มที่ 14 เลขที่ 04 | L24: ไม่ลง eGp ตาม ว322
A25: 19 | B25: จัดซื้อวัสดุน้ำมันเชื้อเพลิงและหล่อลื่น หมายเลขทะเบียน กง 1621 นครพนม | C25: 2500 | D25: 2500 | E25: เฉพาะเจาะจง/ตาม แนวทางการจัดซื้อน้ำมันเชื้อเพลิงของหน่วยงานของรัฐ | F25: หจก.พนมบริการ | G25: 2500 | H25: หจก.พนมบริการ | I25: 2500 | J25: จัดซื้อน้ำมันเชื้อเพลิง ตามแนวทางการจัดซื้อน้ำมันเชื้อเพลิงของหน่วยงานของรัฐ ผู้ค้าให้เครดิต | K25: 17-ส.ค-2569 ใบส่งของเล่มที่ 14 เลขที่ 19 | L25: ไม่ลง eGp ตาม ว322
A26: 20 | B26: จัดซื้อวัสดุน้ำมันเชื้อเพลิงและหล่อลื่น รถบรรทุกขยะ 80-8595 นครพนม | C26: 5000 | D26: 5000 | E26: เฉพาะเจาะจง/ตาม แนวทางการจัดซื้อน้ำมันเชื้อเพลิงของหน่วยงานของรัฐ | F26: หจก.พนมบริการ | G26: 5000 | H26: หจก.พนมบริการ | I26: 5000 | J26: จัดซื้อน้ำมันเชื้อเพลิง ตามแนวทางการจัดซื้อน้ำมันเชื้อเพลิงของหน่วยงานของรัฐ ผู้ค้าให้เครดิต | K26: 17-ส.ค-2569 ใบส่งของเล่มที่ 14 เลขที่ 20 | L26: ไม่ลง eGp ตาม ว322
A27: 21 | B27: จัดซื้อครุภัณฑ์สำนักงาน-ตู้เหล็ก (กองการศึกษา) | C27: 26400 | D27: 26400 | E27: เฉพาะเจาะจง | F27: หจก.กวงเชียง(2537) | G27: 26400 | H27: หจก.กวงเชียง(2537) | I27: 26400 | J27: ราคาต่ำสุด | K27: 284/2569 ลว 18-ส.ค-2569
A28: 22 | B28: จัดจ้างซ่อมแซมเครื่องปรับอากาศ ศพด.โพนทา | C28: 4400 | D28: 4400 | E28: เฉพาะเจาะจง | F28: ร้านเล็กแอร์ | G28: 4400 | H28: ร้านเล็กแอร์ | I28: 4400 | J28: ราคาต่ำสุด | K28: 285/2569 ลว 19-ส.ค-2569 | L28: ไม่ลง eGp ตาม ว322
A29: 23 | B29: จัดซื้อวัสดุฟ้าและวิทยุตู้คอนซูมเมอร์กันดูด 64 A ขนาด 4 ช่อง | C29: 2560 | D29: 2560 | E29: เฉพาะเจาะจง | F29: ร้าน ป.วัชรา | G29: 2560 | H29: ร้าน ป.วัชรา | I29: 2560 | J29: ราคาต่ำสุด | K29: 286/2569 ลว 20-ส.ค-2569 | L29: ไม่ลง eGp ตาม ว322
A30: 24 | B30: จัดซื้อวัสดุวิทยาศาสตร์หรือการแพทย์ | C30: 4000 | D30: 4000 | E30: เฉพาะเจาะจง | F30: พี พี เจ เคมิคอล | G30: 4000 | H30: พี พี เจ เคมิคอล | I30: 4000 | J30: ราคาต่ำสุด | K30: 287/2569 ลว 20-ส.ค-2569 | L30: ไม่ลง eGp ตาม ว322
A31: 25 | B31: จัดจ้างซ่อมระบบประปา ศพด.โพนทา | C31: 9750 | D31: 9750 | E31: เฉพาะเจาะจง | F31: ร้าน ป.วัชรา | G31: 9750 | H31: ร้าน ป.วัชรา | I31: 9750 | J31: ราคาต่ำสุด | K31: 288/2569 ลว 26-ส.ค-2569
A32: 26 | B32: ='สขร1-มีค69'!$B$37 -> จัดซื้ออาหารเสริมนมให้แก่เด็กนักเรียนในโรงเรียนในสังกัดคณะกรรมการศึกษาขั้นพื้นฐาน (สพฐ) 6 แห่ง | C32: 103939 | D32: 103939 | E32: ='สขร1-มีค69'!$E$37 -> เฉพาะเจาะจง/ตามหลักเกณฑ์ฯ อสค. | F32: ='สขร1-มีค69'!$F$37 -> บริษัท แมรี่แอนแดรี่โปรดักส์ | G32: 103939 | H32: ='สขร1-มีค69'!$F$37 -> บริษัท แมรี่แอนแดรี่โปรดักส์ | I32: 103939 | J32: ='สขร1-มีค69'!$J$37 -> ราคาต่ำสุด/ตามหลักเกณฑ์ฯ อสค. | K32: 289/2569 ลว 26-ส.ค-2569
A33: 27 | B33: จัดซื้ออาหารเสริมนมให้แก่เด็กเล็กเด็กนักเรียนในสังกัดองค์การบริหารฯ จำนวน 4 แห่ง | C33: 20787.8 | D33: 20787.8 | E33: ='สขร1-มีค69'!$E$37 -> เฉพาะเจาะจง/ตามหลักเกณฑ์ฯ อสค. | F33: ='สขร1-มีค69'!$F$37 -> บริษัท แมรี่แอนแดรี่โปรดักส์ | G33: 20787.8 | H33: ='สขร1-มีค69'!$F$37 -> บริษัท แมรี่แอนแดรี่โปรดักส์ | I33: 20787.8 | J33: ='สขร1-มีค69'!$J$37 -> ราคาต่ำสุด/ตามหลักเกณฑ์ฯ อสค. | K33: 290/2569 ลว 26-ส.ค-2569
A34: 28 | B34: จัดจ้างเหมายานพาหนะรับ-ส่งเด็กเล็กตามโครงการสงเคราะห์ ประจำเดือนกันยายน 2569 | C34: 12000 | D34: 12000 | E34: เฉพาะเจาะจง | F34: นางสาวธัญวรินทร์ สารโภคา | G34: 12000 | H34: นางสาวธัญวรินทร์ สารโภคา | I34: 12000 | J34: ราคาต่ำสุด | K34: 291/2569 ลว 27-ส.ค-2569
A35: 29 | B35: จัดซื้อวัสดุน้ำมันเชื้อเพลิงและหล่อลื่น ทะเบียน กง 1621 นครพนม | C35: 2500 | D35: 2500 | E35: เฉพาะเจาะจง/ตาม แนวทางการจัดซื้อน้ำมันเชื้อเพลิงของหน่วยงานของรัฐ | F35: หจก.พนมบริการ | G35: 2500 | H35: หจก.พนมบริการ | I35: 2500 | J35: จัดซื้อน้ำมันเชื้อเพลิง ตามแนวทางการจัดซื้อน้ำมันเชื้อเพลิงของหน่วยงานของรัฐ ผู้ค้าให้เครดิต | K35: 26-ส.ค-2569 ใบส่งของเล่มที่ 14 เลขที่ 47 | L35: ไม่ลง eGp ตาม ว322
A36: 30 | B36: จัดซื้อวัสดุน้ำมันเชื้อเพลิงและหล่อลื่น ทะเบียน บจ 7439 นครพนม | C36: 3000 | D36: 3000 | E36: เฉพาะเจาะจง/ตาม แนวทางการจัดซื้อน้ำมันเชื้อเพลิงของหน่วยงานของรัฐ | F36: หจก.พนมบริการ | G36: 3000 | H36: หจก.พนมบริการ | I36: 3000 | J36: จัดซื้อน้ำมันเชื้อเพลิง ตามแนวทางการจัดซื้อน้ำมันเชื้อเพลิงของหน่วยงานของรัฐ ผู้ค้าให้เครดิต | K36: 26-ส.ค-2569 ใบส่งของเล่มที่ 14 เลขที่ 46 | L36: ไม่ลง eGp ตาม ว322
A37: 31 | B37: จัดจ้างแม่บ้านนางสาวเพ็ญณภา อ่อนพุทรา ประจำเดือนสิงหาคม 2569 | C37: 9000 | D37: 9000 | E37: เฉพาะเจาะจง | F37: นางสาวเพ็ญณภา อ่อนพุทรา | G37: 9000 | H37: นางสาวเพ็ญณภา อ่อนพุทรา | I37: 9000 | J37: ราคาต่ำสุด | K37: 290/2569 ลว 26-ส.ค-2569 | L37: ไม่ลง eGp ตาม ว322
A38: 32 | B38: จัดซื้อวัสดุน้ำมันเชื้อเพลิงและหล่อลื่น ทะเบียน 80-8595 นครพนม | C38: 5000 | D38: 5000 | E38: เฉพาะเจาะจง/ตาม แนวทางการจัดซื้อน้ำมันเชื้อเพลิงของหน่วยงานของรัฐ | F38: หจก.พนมบริการ | G38: 5000 | H38: หจก.พนมบริการ | I38: 5000 | J38: จัดซื้อน้ำมันเชื้อเพลิง ตามแนวทางการจัดซื้อน้ำมันเชื้อเพลิงของหน่วยงานของรัฐ ผู้ค้าให้เครดิต | K38: 26-ส.ค-2569 ใบส่งของเล่มที่ 15 เลขที่ 08 | L38: ไม่ลง eGp ตาม ว322

Sheet สขร1-กรกฎาคม 69
K1: แบบ สขร. 1
A2: แบบสรุปผลการดำเนินการจัดซื้อจัดจ้างในรอบเดือนกรกฎาคม พ.ศ.2569
A3: องค์การบริหารส่วนตำบลกุตาไก้ อำเภอปลาปาก จังหวัดนครพนม
A4: วันที่ 31 กรกฎาคม พ.ศ. 2569
A5: ลำดับที่ | B5: งานที่จัดซื้อหรือจัดจ้าง | C5: วงเงินที่จะซื้อหรือจ้าง | D5: ราคากลาง | E5: วิธีซื้อหรือจ้าง | F5: รายชื่อผู้เสนอราคาและราคาที่เสนอ | H5: ผู้ได้รับการคัดเลือกและราคาที่ตกลงซื้อหรือจ้าง | J5: เหตุผลที่คัดเลือก | K5: เลขที่และวันที่ของสัญญา | L5: หมายเหตุ
C6: (บาท) | D6: (บาท) | F6: ผู้เสนอราคา | G6: ราคาที่เสนอ | H6: ผู้ได้รับการคัดเลือก | I6: ราคาที่ตกลงซื้อหรือจ้าง | J6: โดยสรุป | K6: หรือข้อตกลงในการซื้อหรือจ้าง
A7: 1 | B7: จัดซื้อน้ำดื่มประจำเดือนกรกฎาคม 2569 | C7: 4000 | D7: 4,000.00 | E7: เฉพาะเจาะจง/ ดำเนินการตาม ว119 | F7: ร้านภูไท | G7: 4000 | H7: ร้านภูไท | I7: 4000 | J7: ตาม ว119/ราคาต่ำสุด | K7: 1-ก.ค-2569 | L7: ไม่ลง eGp ตาม ว322
A8: 2 | B8: จัดจ้างซ่อมบำรุงรักษาเครื่องปรับอากาศอาคารร่มโพธิ์ทอง | C8: 6350 | D8: 6350 | E8: เฉพาะเจาะจง | F8: ร้านเล็กแอร์ | G8: 6350 | H8: ร้านเล็กแอร์ | I8: 6350 | J8: ราคาต่ำสุด | K8: 241/2569 ลว 1-ก.ค-2569
A9: 3 | B9: จัดซื้ออาหารเสริมนมให้แก่เด็กเล็กเด็กนักเรียนในสังกัดองค์การบริหารฯ จำนวน 4 แห่ง | C9: 18898 | D9: 18898 | E9: ='สขร1-มีค69'!$E$37 -> เฉพาะเจาะจง/ตามหลักเกณฑ์ฯ อสค. | F9: ='สขร1-มีค69'!$F$37 -> บริษัท แมรี่แอนแดรี่โปรดักส์ | G9: 18898 | H9: ='สขร1-มีค69'!$F$37 -> บริษัท แมรี่แอนแดรี่โปรดักส์ | I9: 18898 | J9: ='สขร1-มีค69'!$J$37 -> ราคาต่ำสุด/ตามหลักเกณฑ์ฯ อสค. | K9: 242/2569 ลว 1-ก.ค-2569
A10: 4 | B10: ='สขร1-มีค69'!$B$37 -> จัดซื้ออาหารเสริมนมให้แก่เด็กนักเรียนในโรงเรียนในสังกัดคณะกรรมการศึกษาขั้นพื้นฐาน (สพฐ) 6 แห่ง | C10: 93974.6 | D10: 93974.6 | E10: ='สขร1-มีค69'!$E$37 -> เฉพาะเจาะจง/ตามหลักเกณฑ์ฯ อสค. | F10: ='สขร1-มีค69'!$F$37 -> บริษัท แมรี่แอนแดรี่โปรดักส์ | G10: 93974.6 | H10: ='สขร1-มีค69'!$F$37 -> บริษัท แมรี่แอนแดรี่โปรดักส์ | I10: 93974.6 | J10: ='สขร1-มีค69'!$J$37 -> ราคาต่ำสุด/ตามหลักเกณฑ์ฯ อสค. | K10: 243/2569 ลว 1-ก.ค-2569
A11: 5 | B11: จัดซื้อวัสดุน้ำมันเชื้อเพลิงและหล่อลื่น รถบรรทุกขยะ 80-8595 นครพนม | C11: 5000 | D11: 5000 | E11: เฉพาะเจาะจง/ตาม แนวทางการจัดซื้อน้ำมันเชื้อเพลิงของหน่วยงานของรัฐ | F11: หจก.พนมบริการ | G11: 5000 | H11: หจก.พนมบริการ | I11: 5000 | J11: จัดซื้อน้ำมันเชื้อเพลิง ตามแนวทางการจัดซื้อน้ำมันเชื้อเพลิงของหน่วยงานของรัฐ ผู้ค้าให้เครดิต | K11: 2-ก.ค-2569 ใบส่งของเล่มที่ 11 เลขที่ 21 | L11: ไม่ลง eGp ตาม ว322
A12: 6 | B12: จัดซื้อวัสดุน้ำมันเชื้อเพลิงและหล่อลื่น ทะเบียน กง 1621 นครพนม | C12: 2500 | D12: 2500 | E12: เฉพาะเจาะจง/ตาม แนวทางการจัดซื้อน้ำมันเชื้อเพลิงของหน่วยงานของรัฐ | F12: หจก.พนมบริการ | G12: 2500 | H12: หจก.พนมบริการ | I12: 2500 | J12: จัดซื้อน้ำมันเชื้อเพลิง ตามแนวทางการจัดซื้อน้ำมันเชื้อเพลิงของหน่วยงานของรัฐ ผู้ค้าให้เครดิต | K12: 2-ก.ค-2569 ใบส่งของเล่มที่ 11 เลขที่ 22 | L12: ไม่ลง eGp ตาม ว322
A13: 7 | B13: จัดซื้อแบตเตอรี่เครื่องพ่นหมอกควัน | C13: 2940 | D13: 2940 | E13: เฉพาะเจาะจง | F13: หจก.กวงเชียง(2537) | G13: 2940 | H13: หจก.กวงเชียง(2537) | I13: 2940 | J13: ราคาต่ำสุด | K13: 244/2569 ลว 3-ก.ค-2569 | L13: ไม่ลง eGp ตาม ว322
A14: 8 | B14: จัดจ้างทำป้ายไวนิลทำเนียบผู้ปฏิบัติงานให้บริการระบบการแพทย์ฉุกเฉิน (EMS) องค์การบริหารส่วนตำบลกุตาไก้ | C14: 415 | D14: 415 | E14: เฉพาะเจาะจง | F14: ร้านปลาปากอิงค์เจ็ท | G14: 415 | H14: ร้านปลาปากอิงค์เจ็ท | I14: 415 | J14: ราคาต่ำสุด | K14: 245/2569 ลว 3-ก.ค-2569 | L14: ไม่ลง eGp ตาม ว322
A15: 9 | B15: จัดซื้อวัสดุน้ำมันเชื้อเพลิงและหล่อลื่น กจ 1745 นครพนม | C15: 3000 | D15: 3000 | E15: เฉพาะเจาะจง/ตาม แนวทางการจัดซื้อน้ำมันเชื้อเพลิงของหน่วยงานของรัฐ | F15: หจก.พนมบริการ | G15: 3000 | H15: หจก.พนมบริการ | I15: 3000 | J15: จัดซื้อน้ำมันเชื้อเพลิง ตามแนวทางการจัดซื้อน้ำมันเชื้อเพลิงของหน่วยงานของรัฐ ผู้ค้าให้เครดิต | K15: 3-ก.ค-2569 ใบส่งของเล่มที่ 11 เลขที่ 24 | L15: ไม่ลง eGp ตาม ว322
A16: 10 | B16: จัดซื้อวัสดุสำนักงาน (สำนักปลัด) | C16: 4710 | D16: 4710 | E16: เฉพาะเจาะจง | F16: ร้านปริญญาการพิมพ์ | G16: 4710 | H16: ร้านปริญญาการพิมพ์ | I16: 4710 | J16: ราคาต่ำสุด | K16: 246/2569 ลว 8-ก.ค-2569 | L16: ไม่ลง eGp ตาม ว322
A17: 11 | B17: จัดจ้างบำรุงรักษารถยนต์ส่วนกลาง ทะเบียน กจ 7003 นครพนม | C17: 3939.95 | D17: 3939.95 | E17: เฉพาะเจาะจง | F17: บจ.โตโยต้าเจริญศรี | G17: 3939.95 | H17: บจ.โตโยต้าเจริญศรี | I17: 3939.95 | J17: ราคาต่ำสุด | K17: 247/2569 ลว 8-ก.ค-2569 | L17: ไม่ลง eGp ตาม ว322
A18: 12 | B18: จัดจ้างซ่อมบำรุงรถยนต์ส่วนกลาง หมายเลขทะเบียน กจ 7003 นครพนม | C18: 3000 | D18: 3000 | E18: เฉพาะเจาะจง/ตาม แนวทางการจัดซื้อน้ำมันเชื้อเพลิงของหน่วยงานของรัฐ | F18: หจก.พนมบริการ | G18: 3000 | H18: หจก.พนมบริการ | I18: 3000 | J18: จัดซื้อน้ำมันเชื้อเพลิง ตามแนวทางการจัดซื้อน้ำมันเชื้อเพลิงของหน่วยงานของรัฐ ผู้ค้าให้เครดิต | K18: 9-ก.ค-2569 ใบส่งของเล่มที่ 11 เลขที่ 36 | L18: ไม่ลง eGp ตาม ว322
A19: 13 | B19: จัดซื้อวัสดุน้ำมันเชื้อเพลิงและหล่อลื่น กข 2971 นครพนม | C19: 2500 | D19: 2500 | E19: เฉพาะเจาะจง/ตาม แนวทางการจัดซื้อน้ำมันเชื้อเพลิงของหน่วยงานของรัฐ | F19: หจก.พนมบริการ | G19: 2500 | H19: หจก.พนมบริการ | I19: 2500 | J19: จัดซื้อน้ำมันเชื้อเพลิง ตามแนวทางการจัดซื้อน้ำมันเชื้อเพลิงของหน่วยงานของรัฐ ผู้ค้าให้เครดิต | K19: 9-ก.ค-2569 ใบส่งของเล่มที่ 11 เลขที่ 40 | L19: ไม่ลง eGp ตาม ว322
A20: 14 | B20: จัดจ้างซ่อมเครื่องปริ้นเตอร์ Brotherpcp-1510 หมายเลขครุภัณฑ์416-58-003 | C20: 600 | D20: 600 | E20: เฉพาะเจาะจง | F20: หจก.กวงเชียง(2537) | G20: 600 | H20: หจก.กวงเชียง(2537) | I20: 600 | J20: ราคาต่ำสุด | K20: 248/2569 ลว 9-ก.ค-2569 | L20: ไม่ลง eGp ตาม ว322
A21: 15 | B21: จัดซื้อวัสดุน้ำมันเชื้อเพลิงและหล่อลื่น รถบรรทุกขยะ 80-8595 นครพนม | C21: 5000 | D21: 5000 | E21: เฉพาะเจาะจง/ตาม แนวทางการจัดซื้อน้ำมันเชื้อเพลิงของหน่วยงานของรัฐ | F21: หจก.พนมบริการ | G21: 5000 | H21: หจก.พนมบริการ | I21: 5000 | J21: จัดซื้อน้ำมันเชื้อเพลิง ตามแนวทางการจัดซื้อน้ำมันเชื้อเพลิงของหน่วยงานของรัฐ ผู้ค้าให้เครดิต | K21: 10-ก.ค-2569 ใบส่งของเล่มที่ 11 เลขที่ 47 | L21: ไม่ลง eGp ตาม ว322
A22: 16 | B22: จัดซื้อวัสดุน้ำมันเชื้อเพลิงและหล่อลื่น ทะเบียน กง 1621 นครพนม | C22: 2500 | D22: 2500 | E22: เฉพาะเจาะจง/ตาม แนวทางการจัดซื้อน้ำมันเชื้อเพลิงของหน่วยงานของรัฐ | F22: หจก.พนมบริการ | G22: 2500 | H22: หจก.พนมบริการ | I22: 2500 | J22: จัดซื้อน้ำมันเชื้อเพลิง ตามแนวทางการจัดซื้อน้ำมันเชื้อเพลิงของหน่วยงานของรัฐ ผู้ค้าให้เครดิต | K22: 10-ก.ค-2569 ใบส่งของเล่มที่ 11 เลขที่ 48 | L22: ไม่ลง eGp ตาม ว322
A23: 17 | B23: จัดจ้างซ่อมบำรุงรักษาเครื่องปรับอากาศ ศพด.โพนทา | C23: 9400 | D23: 9400 | E23: เฉพาะเจาะจง | F23: ร้านเล็กแอร์ | G23: 9400 | H23: ร้านเล็กแอร์ | I23: 9400 | J23: ราคาต่ำสุด | K23: 249/2569 ลว 15-ก.ค-2569
A24: 18 | B24: จัดซื้อวัสดุไฟฟ้า (กองการศึกษา) | C24: 9219 | D24: 9219 | E24: เฉพาะเจาะจง | F24: ร้าน ป.วัชรา | G24: 9219 | H24: ร้าน ป.วัชรา | I24: 9219 | J24: ราคาต่ำสุด | K24: 250/2569 ลว 15-ก.ค-2569
A25: 19 | B25: จัดซื้อวัสดุก่อสร้าง (กองการศึกษา) | C25: 15380 | D25: 15380 | E25: เฉพาะเจาะจง | F25: ร้าน ป.วัชรา | G25: 15380 | H25: ร้าน ป.วัชรา | I25: 15380 | J25: ราคาต่ำสุด | K25: 251/2569 ลว 15-ก.ค-2569
A26: 20 | B26: จัดจ้างซ่อมรถกู้ชีพ (ซ่อมแอร์) | C26: 6500 | D26: 6500 | E26: เฉพาะเจาะจง | F26: ร้านเอ็น เค พี คาร์แคร์ | G26: 6500 | H26: ร้านเอ็น เค พี คาร์แคร์ | I26: 6500 | J26: ราคาต่ำสุด | K26: 252/2569 ลว 15-ก.ค-2569
A27: 21 | B27: จัดซื้อวัสดุน้ำมันเชื้อเพลิงและหล่อลื่น รถกู้ชีพกู้ภัย บจ 7439 นครพนม | C27: 3000 | D27: 3000 | E27: เฉพาะเจาะจง/ตาม แนวทางการจัดซื้อน้ำมันเชื้อเพลิงของหน่วยงานของรัฐ | F27: หจก.พนมบริการ | G27: 3000 | H27: หจก.พนมบริการ | I27: 3000 | J27: จัดซื้อน้ำมันเชื้อเพลิง ตามแนวทางการจัดซื้อน้ำมันเชื้อเพลิงของหน่วยงานของรัฐ ผู้ค้าให้เครดิต | K27: 15-ก.ค-2569 ใบส่งของเล่มที่ 12 เลขที่ 07 | L27: ไม่ลง eGp ตาม ว322
A28: 22 | B28: จัดซื้อกระดาษ (สำนักปลัด) | C28: 14500 | D28: 14500 | E28: เฉพาะเจาะจง | F28: ร้านสาม อ. เทคนิค | G28: 14500 | H28: ร้านสาม อ. เทคนิค | I28: 14500 | J28: ราคาต่ำสุด | K28: 253/2569 ลว 17-ก.ค-2569
A29: 23 | B29: จัดซื้อกระดาษ (กองการศึกษา) | C29: 7250 | D29: 7250 | E29: เฉพาะเจาะจง | F29: ร้านสาม อ. เทคนิค | G29: 7250 | H29: ร้านสาม อ. เทคนิค | I29: 7250 | J29: ราคาต่ำสุด | K29: 254/2569 ลว 17-ก.ค-2569
A30: 24 | B30: จัดซื้อวัสดุสำนักงาน | C30: 5365 | D30: 5365 | E30: เฉพาะเจาะจง | F30: ร้านสาม อ. เทคนิค | G30: 5365 | H30: ร้านสาม อ. เทคนิค | I30: 5365 | J30: ราคาต่ำสุด | K30: 255/2569 ลว 17-ก.ค-2569
A31: 25 | B31: ซื้อวัสดุ (สำนักปลัด) | C31: 17400 | D31: 17400 | E31: เฉพาะเจาะจง | F31: วีระซัฟฟลาย | G31: 17400 | H31: วีระซัฟฟลาย | I31: 17400 | J31: ราคาต่ำสุด | K31: 256/2569 ลว 17-ก.ค-2569
A32: 26 | B32: จัดซื้อวัสดุสำนักงาน (กองการศึกษา) | C32: 5840 | D32: 5840 | E32: เฉพาะเจาะจง | F32: ร้านปริญญาการพิมพ์ | G32: 5840 | H32: ร้านปริญญาการพิมพ์ | I32: 5840 | J32: ราคาต่ำสุด | K32: 257/2569 ลว 20-ก.ค-2569
A33: 27 | B33: ซื้อวัสดุคอมพิวเตอร์ (กองการศึกษา) | C33: 13500 | D33: 13500 | E33: เฉพาะเจาะจง | F33: หจก.กวงเชียง(2537) | G33: 13500 | H33: หจก.กวงเชียง(2537) | I33: 13500 | J33: ราคาต่ำสุด | K33: 258/2569 ลว 20-ก.ค-2569
A34: 28 | B34: จัดจ้างซ่อมรถ กข 7003 นพ (กองช่าง) เปลี่ยนกระจก | C34: 8907.6 | D34: 8907.6 | E34: เฉพาะเจาะจง | F34: บจ.โตโยต้าเจริญศรี | G34: 8907.6 | H34: บจ.โตโยต้าเจริญศรี | I34: 8907.6 | J34: ราคาต่ำสุด | K34: 259/2569 ลว 20-ก.ค-2569
B35: จัดซื้อวัสดุน้ำมันเชื้อเพลิงและหล่อลื่น กจ 1745 นครพนม | C35: 3000 | D35: 3000 | E35: เฉพาะเจาะจง/ตาม แนวทางการจัดซื้อน้ำมันเชื้อเพลิงของหน่วยงานของรัฐ | F35: หจก.พนมบริการ | G35: 3000 | H35: หจก.พนมบริการ | I35: 3000 | J35: จัดซื้อน้ำมันเชื้อเพลิง ตามแนวทางการจัดซื้อน้ำมันเชื้อเพลิงของหน่วยงานของรัฐ ผู้ค้าให้เครดิต | K35: 21-ก.ค-2569 ใบส่งของเล่มที่ 12 เลขที่ 27 | L35: ไม่ลง eGp ตาม ว322
A36: 29 | B36: โครงการก่อสร้างถนน คสล.รหัสทางหลวง นพ.ถ.21-0001 สายทางบ้านดอนดู่-บ้านนาดอกไม้ ม.3 บ้านดอนดู่ | C36: 1340000 | D36: 1908503.9 | E36: e-bidding | F36: หจก.อุบลรัตน์ก่อสร้าง 2015 | G36: 1340000 | H36: หจก.อุบลรัตน์ก่อสร้าง 2015 | I36: 1340000 | J36: ราคาต่ำสุด | K36: 260/2569 ลว 21-ก.ค-2569
F37: หจก.พาหุงรุงเรือง | G37: 1344080
F38: หจก.สกลนครสิทธิชัยวิศวกรรม | G38: 1612000
F39: หจก.ภูริพัฒน์ กรุ๊ป | G39: 1777777
F40: หจก.นครหลวงท่าอุเทน คอนสตัคชั่นจำกัด | G40: 1791000
A41: 30 | B41: โครงการก่อสร้างถนน สายทางบ้านนาดอกไม้-บ้านนาขาม ม.11 | C41: 1140000 | D41: 1681186.3 | E41: e-bidding | F41: หจก.อุบลรัตน์ก่อสร้าง 2015 | G41: 1140000 | H41: หจก.อุบลรัตน์ก่อสร้าง 2015 | I41: 1140000 | J41: ราคาต่ำสุด | K41: 261/2569 ลว 21-ก.ค-2569
F42: หจก.พาหุงรุ่งเรือง | G42: 1308000
F43: หจก.ภูริพัฒน์ กรุ๊ป | G43: 1344444
F44: หจก.รัตนชาติการโยธา | G44: 1350000
F45: หจก.สกลนครสิทธิชัยวิศวกรรม | G45: 1482000
F46: หจก.เค.เค มุกดาหารก่อสร้าง | G46: 1628888
A47: 31 | B47: จัดซื้อวัสดุน้ำมันเชื้อเพลิงและหล่อลื่น ทะเบียน กง 1621 นครพนม | C47: 2500 | D47: 2500 | E47: เฉพาะเจาะจง/ตาม แนวทางการจัดซื้อน้ำมันเชื้อเพลิงของหน่วยงานของรัฐ | F47: หจก.พนมบริการ | G47: 2500 | H47: หจก.พนมบริการ | I47: 2500 | J47: จัดซื้อน้ำมันเชื้อเพลิง ตามแนวทางการจัดซื้อน้ำมันเชื้อเพลิงของหน่วยงานของรัฐ ผู้ค้าให้เครดิต | K47: 21-ก.ค-2569 ใบส่งของเล่มที่ 12 เลขที่ 26 | L47: ไม่ลง eGp ตาม ว322
A48: 32 | B48: จัดจ้างซ่อมรถยนต์ กจ 7003นพ (ระบบแอร์) | C48: 9500 | D48: 9500 | E48: เฉพาะเจาะจง | F48: ร้านเอ็น เค พี คาร์แคร์ | G48: 9500 | H48: ร้านเอ็น เค พี คาร์แคร์ | I48: 9500 | J48: ราคาต่ำสุด | K48: 262/2569 ลว 22-ก.ค-2569
A49: 33 | B49: จัดซื้อวัสดุงานบ้านงานครัว (สำนักปลัด) | C49: 20730 | D49: 20730 | E49: เฉพาะเจาะจง | F49: ร้านโอเค 20 บาท | G49: 20730 | H49: ร้านโอเค 20 บาท | I49: 20730 | J49: ราคาต่ำสุด | K49: 263/2569 ลว 22-ก.ค-2569
A50: 34 | B50: จัดซื้อวัสดุปรับสภาพแวดล้อมฯ หมู่ที่ 7 น.ส.ธัญนาฎ จันทร์นิยม | C50: 40000 | D50: 40000 | E50: เฉพาะเจาะจง | F50: ร้านเพิ่มพลูคูณยั่งยืน | G50: 40000 | H50: ร้านเพิ่มพลูคูณยั่งยืน | I50: 40000 | J50: ราคาต่ำสุด | K50: 264/2569 ลว 22-ก.ค-2569
A51: 35 | B51: จัดซื้อวัสดุปรับสภาพแวดล้อมฯ หมู่ที่ 10 นายไพรัส ยวยยี | C51: 40000 | D51: 40000 | E51: เฉพาะเจาะจง | F51: ร้านเพิ่มพลูคูณยั่งยืน | G51: 40000 | H51: ร้านเพิ่มพลูคูณยั่งยืน | I51: 40000 | J51: ราคาต่ำสุด | K51: 265/2569 ลว 22-ก.ค-2569
A52: 36 | B52: จัดซื้อวัสดุปรับสภาพแวดล้อมฯ หมู่ที่ 2 นายบุญมี สิมลี | C52: 39600 | D52: 39600 | E52: เฉพาะเจาะจง | F52: ร้านเพิ่มพลูคูณยั่งยืน | G52: 39600 | H52: ร้านเพิ่มพลูคูณยั่งยืน | I52: 39600 | J52: ราคาต่ำสุด | K52: 266/2569 ลว 22-ก.ค-2569
A53: 37 | B53: จัดซื้อวัสดุปรับสภาพแวดล้อมฯ หมู่ที่ 2 นายแวว น้อยชาลี | C53: 39600 | D53: 39600 | E53: เฉพาะเจาะจง | F53: ร้านเพิ่มพลูคูณยั่งยืน | G53: 39600 | H53: ร้านเพิ่มพลูคูณยั่งยืน | I53: 39600 | J53: ราคาต่ำสุด | K53: 267/2569 ลว 22-ก.ค-2569
A54: 38 | B54: จัดซื้อวัสดุปรับสภาพแวดล้อมฯ หมู่ที่ 10 นายโสภา พรมด้วง | C54: 39600 | D54: 39600 | E54: เฉพาะเจาะจง | F54: ร้านเพิ่มพลูคูณยั่งยืน | G54: 39600 | H54: ร้านเพิ่มพลูคูณยั่งยืน | I54: 39600 | J54: ราคาต่ำสุด | K54: 268/2569 ลว 22-ก.ค-2569
A55: 39 | B55: จัดซื้อวัสดุน้ำมันเชื้อเพลิงและหล่อลื่นสำหรับรถจักยานยนต์หมายเลข ทะเบียน 1 กถ 5030 นครพนม และเครื่องตัดหญ้า (กองการศึกษาฯ) | C55: 1000 | D55: 1000 | E55: เฉพาะเจาะจง/ตาม แนวทางการจัดซื้อน้ำมันเชื้อเพลิงของหน่วยงานของรัฐ | F55: หจก.พนมบริการ | G55: 1000 | H55: หจก.พนมบริการ | I55: 1000 | J55: จัดซื้อน้ำมันเชื้อเพลิง ตามแนวทางการจัดซื้อน้ำมันเชื้อเพลิงของหน่วยงานของรัฐ ผู้ค้าให้เครดิต | K55: 23-ก.ค-2569 ใบส่งของเล่มที่ 12 เลขที่ 31 | L55: ไม่ลง eGp ตาม ว322
A56: 40 | B56: จัดซื้อวัสดุน้ำมันเชื้อเพลิงและหล่อลื่น รถบรรทุกขยะ 80-8595 นครพนม | C56: 5000 | D56: 5000 | E56: เฉพาะเจาะจง/ตาม แนวทางการจัดซื้อน้ำมันเชื้อเพลิงของหน่วยงานของรัฐ | F56: หจก.พนมบริการ | G56: 5000 | H56: หจก.พนมบริการ | I56: 5000 | J56: จัดซื้อน้ำมันเชื้อเพลิง ตามแนวทางการจัดซื้อน้ำมันเชื้อเพลิงของหน่วยงานของรัฐ ผู้ค้าให้เครดิต | K56: 23-ก.ค-2569 ใบส่งของเล่มที่ 12 เลขที่ 32 | L56: ไม่ลง eGp ตาม ว322
A57: 41 | B57: จัดซื้อวัสดุน้ำมันเชื้อเพลิงตามโครงการรณรงค์ป้องกันไข้เลือดออก ประจำปีงบประมาณ 2569 | C57: 15600 | D57: 15600 | E57: เฉพาะเจาะจง/ตาม แนวทางการจัดซื้อน้ำมันเชื้อเพลิงของหน่วยงานของรัฐ | F57: หจก.พนมบริการ | G57: 15600 | H57: หจก.พนมบริการ | I57: 15600 | J57: จัดซื้อน้ำมันเชื้อเพลิง ตามแนวทางการจัดซื้อน้ำมันเชื้อเพลิงของหน่วยงานของรัฐ ผู้ค้าให้เครดิต | K57: 23-ก.ค-2569 ใบส่งของเล่มที่ P21 เลขที่ 28 | L57: ไม่ลง eGp ตาม ว322
A58: 42 | B58: จัดจ้างป้ายตามโครงการปรับสภาพแวดล้อมและสิ่งอำนวยความสะดวกของผู้สูงอายุให้เหมาะสมและปลอดภัย ประจำปีงบประมาณ 2569 | C58: 1200 | D58: 1200 | E58: เฉพาะเจาะจง | F58: ร้านปลาปากอิงค์เจ็ท | G58: 1200 | H58: ร้านปลาปากอิงค์เจ็ท | I58: 1200 | J58: ราคาต่ำสุด | K58: 269/2569 ลว 27-ก.ค-2569 | L58: ไม่ลง eGp ตาม ว322
A59: 43 | B59: จัดซื้อวัสดุน้ำมันเชื้อเพลิงตามโครงการรณรงค์ป้องกันไข้เลือดออก ประจำปีงบประมาณ 2569 | C59: 15600 | D59: 15600 | E59: เฉพาะเจาะจง/ตาม แนวทางการจัดซื้อน้ำมันเชื้อเพลิงของหน่วยงานของรัฐ | F59: หจก.พนมบริการ | G59: 15600 | H59: หจก.พนมบริการ | I59: 15600 | J59: จัดซื้อน้ำมันเชื้อเพลิง ตามแนวทางการจัดซื้อน้ำมันเชื้อเพลิงของหน่วยงานของรัฐ ผู้ค้าให้เครดิต | K59: 27-ก.ค-2569 ใบส่งของเล่มที่ P21 เลขที่ 29 | L59: ไม่ลง eGp ตาม ว322
A60: 44 | B60: จัดซื้อวัสดุน้ำมันเชื้อเพลิงตามโครงการรณรงค์ป้องกันไข้เลือดออก ประจำปีงบประมาณ 2569 | C60: 15800 | D60: 15800 | E60: เฉพาะเจาะจง/ตาม แนวทางการจัดซื้อน้ำมันเชื้อเพลิงของหน่วยงานของรัฐ | F60: หจก.พนมบริการ | G60: 15800 | H60: หจก.พนมบริการ | I60: 15800 | J60: จัดซื้อน้ำมันเชื้อเพลิง ตามแนวทางการจัดซื้อน้ำมันเชื้อเพลิงของหน่วยงานของรัฐ ผู้ค้าให้เครดิต | K60: 29-ก.ค-2569 ใบส่งของเล่มที่ P21 เลขที่ 30 | L60: ไม่ลง eGp ตาม ว322
A61: 45 | B61: จัดซื้ออาหารเสริมนมให้แก่เด็กเล็กเด็กนักเรียนในสังกัดองค์การบริหารฯ จำนวน 4 แห่ง | C61: 18898 | D61: 18898 | E61: ='สขร1-มีค69'!$E$37 -> เฉพาะเจาะจง/ตามหลักเกณฑ์ฯ อสค. | F61: ='สขร1-มีค69'!$F$37 -> บริษัท แมรี่แอนแดรี่โปรดักส์ | G61: 18898 | H61: ='สขร1-มีค69'!$F$37 -> บริษัท แมรี่แอนแดรี่โปรดักส์ | I61: 18898 | J61: ='สขร1-มีค69'!$J$37 -> ราคาต่ำสุด/ตามหลักเกณฑ์ฯ อสค. | K61: 271/2569 ลว 31-ก.ค-2569
A62: 46 | B62: จัดจ้างเหมายานพาหนะรับ-ส่งเด็กเล็กตามโครงการสงเคราะห์ ประจำเดือนสิงหาคม 2569 | C62: 12000 | D62: 12000 | E62: เฉพาะเจาะจง | F62: นางสาวธัญวรินทร์ สารโภคา | G62: 12000 | H62: นางสาวธัญวรินทร์ สารโภคา | I62: 12000 | J62: ราคาต่ำสุด | K62: 272/2569 ลว 31-ก.ค-2569
A63: 47 | B63: จัดจ้างแม่บ้านนางสาวเพ็ญณภา อ่อนพุทรา ประจำเดือนกรกฎาคม 2569 | C63: 9000 | D63: 9000 | E63: เฉพาะเจาะจง | F63: นางสาวเพ็ญณภา อ่อนพุทรา | G63: 9000 | H63: นางสาวเพ็ญณภา อ่อนพุทรา | I63: 9000 | J63: ราคาต่ำสุด | K63: 273/2569 ลว 31-ก.ค-2569 | L63: ไม่ลง eGp ตาม ว322

Sheet สขร1-มิถุนายน 69 
K1: แบบ สขร. 1
A2: แบบสรุปผลการดำเนินการจัดซื้อจัดจ้างในรอบเดือนมิถุนายน พ.ศ.2569
A3: องค์การบริหารส่วนตำบลกุตาไก้ อำเภอปลาปาก จังหวัดนครพนม
A4: วันที่ 30 มิถุนายน พ.ศ. 2569
A5: ลำดับที่ | B5: งานที่จัดซื้อหรือจัดจ้าง | C5: วงเงินที่จะซื้อหรือจ้าง | D5: ราคากลาง | E5: วิธีซื้อหรือจ้าง | F5: รายชื่อผู้เสนอราคาและราคาที่เสนอ | H5: ผู้ได้รับการคัดเลือกและราคาที่ตกลงซื้อหรือจ้าง | J5: เหตุผลที่คัดเลือก | K5: เลขที่และวันที่ของสัญญา | L5: หมายเหตุ
C6: (บาท) | D6: (บาท) | F6: ผู้เสนอราคา | G6: ราคาที่เสนอ | H6: ผู้ได้รับการคัดเลือก | I6: ราคาที่ตกลงซื้อหรือจ้าง | J6: โดยสรุป | K6: หรือข้อตกลงในการซื้อหรือจ้าง
A7: 1 | B7: จัดซื้อน้ำดื่มประจำเดือนมิถุนายน | C7: 4000 | D7: 4,000.00 | E7: เฉพาะเจาะจง/ ดำเนินการตาม ว119 | F7: ร้านภูไท | G7: 4000 | H7: ร้านภูไท | I7: 4000 | J7: ตาม ว119/ราคาต่ำสุด | K7: 2-มิ.ย-2569 | L7: ไม่ลง eGp ตาม ว322
A8: 2 | B8: จัดจ้างซ่อมบำรุงยานพาหนะ กจ 1745 นครพนม | C8: 12000 | D8: 12000 | E8: เฉพาะเจาะจง | F8: หจก.สยามการยางออโต้เซอร์วิส | G8: 12000 | H8: หจก.สยามการยางออโต้เซอร์วิส | I8: 12000 | J8: ราคาต่ำสุด | K8: 211/2569 ลว 2-มิ.ย-2569
A9: 3 | B9: จัดซื้อวัสดุโครงการเพิ่มศักยภาพผู้ปฏิบัติงานกู้ชีพ/กู้ภัย | C9: 17520 | D9: 17520 | E9: เฉพาะเจาะจง | F9: หนองแสงฟาร์ม่า | G9: 17520 | H9: หนองแสงฟาร์ม่า | I9: 17520 | J9: ราคาต่ำสุด | K9: 212/2569 ลว 2-มิ.ย-2569
A10: 4 | B10: จัดจ้างแม่บ้านนางสาวเพ็ญณภา อ่อนพุทรา ประจำเดือนมิถุนายน 2569 | C10: 8400 | D10: 8400 | E10: เฉพาะเจาะจง | F10: นางสาวเพ็ญณภา อ่อนพุทรา | G10: 8400 | H10: นางสาวเพ็ญณภา อ่อนพุทรา | I10: 8400 | J10: ราคาต่ำสุด | K10: 213/2569 ลว 2-มิ.ย-2569
A11: 5 | B11: จัดซื้อวัสดุน้ำมันเชื้อเพลิงและหล่อลื่น รถกู้ชีพกู้ภัย บจ 7439 นครพนม | C11: 3000 | D11: 3000 | E11: เฉพาะเจาะจง/ตาม แนวทางการจัดซื้อน้ำมันเชื้อเพลิงของหน่วยงานของรัฐ | F11: หจก.พนมบริการ | G11: 3000 | H11: หจก.พนมบริการ | I11: 3000 | J11: จัดซื้อน้ำมันเชื้อเพลิง ตามแนวทางการจัดซื้อน้ำมันเชื้อเพลิงของหน่วยงานของรัฐ ผู้ค้าให้เครดิต | K11: 4-มิ.ย-2569 ใบส่งของเล่มที่ 9 เลขที่ 44 | L11: ไม่ลง eGp ตาม ว322
A12: 6 | B12: จัดซื้อวัสดุน้ำมันเชื้อเพลิงและหล่อลื่น กจ 1745 นครพนม | C12: 3000 | D12: 3000 | E12: เฉพาะเจาะจง/ตาม แนวทางการจัดซื้อน้ำมันเชื้อเพลิงของหน่วยงานของรัฐ | F12: หจก.พนมบริการ | G12: 3000 | H12: หจก.พนมบริการ | I12: 3000 | J12: จัดซื้อน้ำมันเชื้อเพลิง ตามแนวทางการจัดซื้อน้ำมันเชื้อเพลิงของหน่วยงานของรัฐ ผู้ค้าให้เครดิต | K12: 4-มิ.ย-2569 ใบส่งของเล่มที่ 9 เลขที่ 42 | L12: ไม่ลง eGp ตาม ว322
A13: 7 | B13: จัดซื้อวัสดุน้ำมันเชื้อเพลิงและหล่อลื่น กง 1621 นครพนม | C13: 2500 | D13: 2500 | E13: เฉพาะเจาะจง/ตาม แนวทางการจัดซื้อน้ำมันเชื้อเพลิงของหน่วยงานของรัฐ | F13: หจก.พนมบริการ | G13: 2500 | H13: หจก.พนมบริการ | I13: 2500 | J13: จัดซื้อน้ำมันเชื้อเพลิง ตามแนวทางการจัดซื้อน้ำมันเชื้อเพลิงของหน่วยงานของรัฐ ผู้ค้าให้เครดิต | K13: 4-มิ.ย-2569 ใบส่งของเล่มที่ 10 เลขที่ 24 | L13: ไม่ลง eGp ตาม ว322
A14: 8 | B14: จัดซื้อน้ำมันเชื้อเพลิง (แก๊สโซฮอล์ 95) ตามโครงการหน้าบ้านสวยหลังบ้านสวน ประจำปีงบประมาณ 2569 | C14: 10000 | D14: 10000 | E14: เฉพาะเจาะจง | F14: หจก.พนมบริการ | G14: 10000 | H14: หจก.พนมบริการ | I14: 10000 | J14: ราคาต่ำสุด | K14: 214/2569 ลว 5-มิ.ย-2569
A15: 9 | B15: จัดซื้อวัสดุสำนักงาน (กองคลัง) | C15: 600 | D15: 600 | E15: เฉพาะเจาะจง | F15: ร้านสาม อ. เทคนิค | G15: 600 | H15: ร้านสาม อ. เทคนิค | I15: 600 | J15: ราคาต่ำสุด | K15: 215/2569 ลว 5-มิ.ย-2569
A16: 10 | B16: จัดซื้อวัสดุคอมพิวเตอร์ (กองคลัง) | C16: 4750 | D16: 4750 | E16: เฉพาะเจาะจง | F16: หจก.กวงเชียง(2537) | G16: 4750 | H16: หจก.กวงเชียง(2537) | I16: 4750 | J16: ราคาต่ำสุด | K16: 216/2569 ลว 5-มิ.ย-2569
A17: 11 | B17: โครงการก่อสร้างห้องเก็บพัสดุศูนย์พัฒนาเด็กเล็ก ตำบลกุตาไก้ ขนาดกว้าง 5 เมตร ยาว 8 เมตร ตามแบบแปลน อบต.กุตาไก้กำหนด | C17: 300000 | D17: 301662.35 | E17: เฉพาะเจาะจง | F17: หจก.สุขเกษมคอนสตรัคชั่น 2021 | G17: 300000 | H17: หจก.สุขเกษมคอนสตรัคชั่น 2021 | I17: 300000 | J17: ราคาต่ำสุด | K17: 217/2569 ลว 8-มิ.ย-2569
A18: 12 | B18: จัดซื้อวัสดุน้ำมันเชื้อเพลิงและหล่อลื่น รถบรรทุกขยะ 80-8595 นครพนม | C18: 5000 | D18: 5000 | E18: เฉพาะเจาะจง/ตาม แนวทางการจัดซื้อน้ำมันเชื้อเพลิงของหน่วยงานของรัฐ | F18: หจก.พนมบริการ | G18: 5000 | H18: หจก.พนมบริการ | I18: 5000 | J18: จัดซื้อน้ำมันเชื้อเพลิง ตามแนวทางการจัดซื้อน้ำมันเชื้อเพลิงของหน่วยงานของรัฐ ผู้ค้าให้เครดิต | K18: 8-มิ.ย-2569 ใบส่งของเล่มที่ 10 เลขที่ 03 | L18: ไม่ลง eGp ตาม ว322
A19: 13 | B19: จัดจ้างซ่อมบำรุงรถยนต์ส่วนกลาง หมายเลขทะเบียน กจ 7003 นครพนม | C19: 3000 | D19: 3000 | E19: เฉพาะเจาะจง/ตาม แนวทางการจัดซื้อน้ำมันเชื้อเพลิงของหน่วยงานของรัฐ | F19: หจก.พนมบริการ | G19: 3000 | H19: หจก.พนมบริการ | I19: 3000 | J19: จัดซื้อน้ำมันเชื้อเพลิง ตามแนวทางการจัดซื้อน้ำมันเชื้อเพลิงของหน่วยงานของรัฐ ผู้ค้าให้เครดิต | K19: 9-มิ.ย-2569 ใบส่งของเล่มที่ 10 เลขที่ 04 | L19: ไม่ลง eGp ตาม ว322
A20: 14 | B20: จัดซื้อวัสดุน้ำมันเชื้อเพลิงและหล่อลื่น ทะเบียน 81-1331 นครพนม | C20: 4500 | D20: 4500 | E20: เฉพาะเจาะจง/ตาม แนวทางการจัดซื้อน้ำมันเชื้อเพลิงของหน่วยงานของรัฐ | F20: หจก.พนมบริการ | G20: 4500 | H20: หจก.พนมบริการ | I20: 4500 | J20: จัดซื้อน้ำมันเชื้อเพลิง ตามแนวทางการจัดซื้อน้ำมันเชื้อเพลิงของหน่วยงานของรัฐ ผู้ค้าให้เครดิต | K20: 10-มิ.ย-2569 ใบส่งของเล่มที่ 10 เลขที่ 07 | L20: ไม่ลง eGp ตาม ว322
A21: 15 | B21: จัดซื้อวัสดุสำนักงาน | C21: 2430 | D21: 2430 | E21: เฉพาะเจาะจง | F21: ร้านปริญญาการพิมพ์ | G21: 2430 | H21: ร้านปริญญาการพิมพ์ | I21: 2430 | J21: ราคาต่ำสุด | K21: 218/2569 ลว 10-มิ.ย-2569
A22: 16 | B22: จัดซื้อผ้าม่านและราง | C22: 13500 | D22: 13500 | E22: เฉพาะเจาะจง | F22: ร้านโอเคผ้าม่าน | G22: 13500 | H22: ร้านโอเคผ้าม่าน | I22: 13500 | J22: ราคาต่ำสุด | K22: 219/2569 ลว 10-มิ.ย-2569
A23: 17 | B23: จัดซื้อกระดาษกองคลัง | C23: 5075 | D23: 5075 | E23: เฉพาะเจาะจง | F23: ร้านสาม อ. เทคนิค | G23: 5075 | H23: ร้านสาม อ. เทคนิค | I23: 5075 | J23: ราคาต่ำสุด | K23: 220/2569 ลว 10-มิ.ย-2569
A24: 18 | B24: จัดซื้อวัสดุน้ำมันเชื้อเพลิงและหล่อลื่น หมายเลขทะเบียน 80-8462 นครพนม | C24: 4000 | D24: 4000 | E24: เฉพาะเจาะจง/ตาม แนวทางการจัดซื้อน้ำมันเชื้อเพลิงของหน่วยงานของรัฐ | F24: หจก.พนมบริการ | G24: 4000 | H24: หจก.พนมบริการ | I24: 4000 | J24: จัดซื้อน้ำมันเชื้อเพลิง ตามแนวทางการจัดซื้อน้ำมันเชื้อเพลิงของหน่วยงานของรัฐ ผู้ค้าให้เครดิต | K24: 12-มิ.ย-2569 ใบส่งของเล่มที่ 10 เลขที่ 18 | L24: ไม่ลง eGp ตาม ว322
A25: 19 | B25: จัดซื้อวัสดุน้ำมันเชื้อเพลิงและหล่อลื่น (เครื่องตัดหญ้า หมายเลขครุภัณฑ์ 441-63-001 | C25: 1000 | D25: 1000 | E25: เฉพาะเจาะจง/ตาม แนวทางการจัดซื้อน้ำมันเชื้อเพลิงของหน่วยงานของรัฐ | F25: หจก.พนมบริการ | G25: 1000 | H25: หจก.พนมบริการ | I25: 1000 | J25: จัดซื้อน้ำมันเชื้อเพลิง ตามแนวทางการจัดซื้อน้ำมันเชื้อเพลิงของหน่วยงานของรัฐ ผู้ค้าให้เครดิต | K25: 12-มิ.ย-2569 ใบส่งของเล่มที่ 10 เลขที่ 16 | L25: ไม่ลง eGp ตาม ว322
A26: 20 | B26: จัดซื้อวัสดุน้ำมันเชื้อเพลิงและหล่อลื่น กข 2971 นครพนม | C26: 2500 | D26: 2500 | E26: เฉพาะเจาะจง/ตาม แนวทางการจัดซื้อน้ำมันเชื้อเพลิงของหน่วยงานของรัฐ | F26: หจก.พนมบริการ | G26: 2500 | H26: หจก.พนมบริการ | I26: 2500 | J26: จัดซื้อน้ำมันเชื้อเพลิง ตามแนวทางการจัดซื้อน้ำมันเชื้อเพลิงของหน่วยงานของรัฐ ผู้ค้าให้เครดิต | K26: 12-มิ.ย-2569 ใบส่งของเล่มที่ 10 เลขที่ 17 | L26: ไม่ลง eGp ตาม ว322
A27: 21 | B27: จัดซื้อวัสดุน้ำมันเชื้อเพลิงและหล่อลื่น ทะเบียน กง 1621 นครพนม | C27: 2500 | D27: 2500 | E27: เฉพาะเจาะจง/ตาม แนวทางการจัดซื้อน้ำมันเชื้อเพลิงของหน่วยงานของรัฐ | F27: หจก.พนมบริการ | G27: 2500 | H27: หจก.พนมบริการ | I27: 2500 | J27: จัดซื้อน้ำมันเชื้อเพลิง ตามแนวทางการจัดซื้อน้ำมันเชื้อเพลิงของหน่วยงานของรัฐ ผู้ค้าให้เครดิต | K27: 12-มิ.ย-2569 ใบส่งของเล่มที่ 9 เลขที่ 43 | L27: ไม่ลง eGp ตาม ว322
A28: 22 | B28: จัดซื้อผ้าม่านและราง (กองการศึกษา) | C28: 39220 | D28: 39220 | E28: เฉพาะเจาะจง | F28: ร้านโอเคผ้าม่าน | G28: 39220 | H28: ร้านโอเคผ้าม่าน | I28: 39220 | J28: ราคาต่ำสุด | K28: 221/2569 ลว 16-มิ.ย-2569
A29: 23 | B29: จ้างซ่อมท่อระบายน้ำ หมู่ที่ 12 | C29: 13400 | D29: 13400 | E29: เฉพาะเจาะจง | F29: นายอุทิศ อุเทนธรรม | G29: 13400 | H29: นายอุทิศ อุเทนธรรม | I29: 13400 | J29: ราคาต่ำสุด | K29: 222/2569 ลว 16-มิ.ย-2569
A30: 24 | B30: จัดซื้อวัสดุงานบ้านงานครัว (สำนักปลัด) | C30: 550 | D30: 550 | E30: เฉพาะเจาะจง | F30: เอกศิริพาณิชย์ | G30: 550 | H30: เอกศิริพาณิชย์ | I30: 550 | J30: ราคาต่ำสุด | K30: 223/2569 ลว 22-มิ.ย-2569
A31: 25 | B31: จัดจ้างซ่อมแซมเครื่องคอมพิวเตอร์โน๊ตบุ๊ก รหัส 416-53-004 | C31: 600 | D31: 600 | E31: เฉพาะเจาะจง | F31: หจก.กวงเชียง(2537) | G31: 600 | H31: หจก.กวงเชียง(2537) | I31: 600 | J31: ราคาต่ำสุด | K31: 224/2569 ลว 23-มิ.ย-2569
A32: 26 | B32: จัดจ้างทำตรายาง (สำนักปลัด) | C32: 1000 | D32: 1000 | E32: เฉพาะเจาะจง | F32: ร้านปริญญาการพิมพ์ | G32: 1000 | H32: ร้านปริญญาการพิมพ์ | I32: 1000 | J32: ราคาต่ำสุด | K32: 225/2569 ลว 24-มิ.ย-2569
A33: 27 | B33: จัดซื้อโน๊ตบุ๊กกองช่าง 2 เครื่อง | C33: 50000 | D33: 50000 | E33: เฉพาะเจาะจง | F33: หจก.กวงเชียง(2537) | G33: 50000 | H33: หจก.กวงเชียง(2537) | I33: 50000 | J33: ราคาต่ำสุด | K33: 226/2569 ลว 26-มิ.ย-2569
A34: 28 | B34: จัดจ้างซ่อมแซมประตูห้องน้ำชาย-หญิงอาคารห้องประชุมโพธิ์ทองฯ | C34: 22300 | D34: 22300 | E34: เฉพาะเจาะจง | F34: นายพลากร ขันสำรอง | G34: 22300 | H34: นายพลากร ขันสำรอง | I34: 22300 | J34: ราคาต่ำสุด | K34: 227/2569 ลว 26-มิ.ย-2569
A35: 29 | B35: จัดซื้อวัสดุก่อสร้าง | C35: 24969 | D35: 24969 | E35: เฉพาะเจาะจง | F35: ร้าน ป.วัชรา | G35: 24969 | H35: ร้าน ป.วัชรา | I35: 24969 | J35: ราคาต่ำสุด | K35: 228/2569 ลว 26-มิ.ย-2569
A36: 30 | B36: ซื้อวัสดุคอมพิวเตอร์(สำนักปลัด) จำนวน 4 รายการ | C36: 11500 | D36: 11500 | E36: เฉพาะเจาะจง | F36: หจก.กวงเชียง(2537) | G36: 11500 | H36: หจก.กวงเชียง(2537) | I36: 11500 | J36: ราคาต่ำสุด | K36: 229/2569 ลว 26-มิ.ย-2569
A37: 31 | B37: จัดซื้อโต๊ะเก้าอี้ทำงาน (กองช่าง) | C37: 14000 | D37: 14000 | E37: เฉพาะเจาะจง | F37: หจก.กวงเชียง(2537) | G37: 14000 | H37: หจก.กวงเชียง(2537) | I37: 14000 | J37: ราคาต่ำสุด | K37: 230/2569 ลว 26-มิ.ย-2569
A38: 32 | B38: จัดซื้อครุภัณฑ์สำนักงาน (กองการศึกษา) | C38: 27800 | D38: 27800 | E38: เฉพาะเจาะจง | F38: หจก.กวงเชียง(2537) | G38: 27800 | H38: หจก.กวงเชียง(2537) | I38: 27800 | J38: ราคาต่ำสุด | K38: 231/2569 ลว 26-มิ.ย-2569
A39: 33 | B39: จ้างซ่อมรถยนต์ บจ 7439 นครพนม | C39: 41948.28 | D39: 41948.28 | E39: เฉพาะเจาะจง | F39: บริษัทโตโยต้านครพนมจำกัด | G39: 41948.28 | H39: บริษัทโตโยต้านครพนมจำกัด | I39: 41948.28 | J39: ราคาต่ำสุด | K39: 232/2569 ลว 30-มิ.ย-2569
A40: 34 | B40: จัดจ้างทำวัสดุโฆษณาและเผยแพร่(ป้ายประชาสัมพันธ์ร่วมใจต้านทุจริตคอร์รัปชั่นขององค์การบริหารส่วนตำบลกุตาไก้) | C40: 3240 | D40: 3240 | E40: เฉพาะเจาะจง | F40: ร้านปลาปากอิงค์เจท | G40: 3240 | H40: ร้านปลาปากอิงค์เจท | I40: 3240 | J40: ราคาต่ำสุด | K40: 233/2569 ลว 30-มิ.ย-2569
A41: 35 | B41: จัดจ้างซ่อมแซมบำรุงรักษารถจักยานยนต์ส่วนกลาง ทะเบียน 1 กฉ 9362 นครพนม | C41: 3830 | D41: 3830 | E41: เฉพาะเจาะจง | F41: ร้านก็อตการช่าง | G41: 3830 | H41: ร้านก็อตการช่าง | I41: 3830 | J41: ราคาต่ำสุด | K41: 234/2569 ลว 30-มิ.ย-2569 | P41: =B43:P43 -> 0
A42: 36 | B42: จ้างซ่อมแซมผิวถนนบ่อพักน้ำฝาปิดบ่อพักและและฝาปิดรางระบายน้ำ | C42: 50600 | D42: 50600 | E42: เฉพาะเจาะจง | F42: หจก.สุขเกษมคอนสตรัคชั่น 2021 | G42: 50600 | H42: หจก.สุขเกษมคอนสตรัคชั่น 2021 | I42: 50600 | J42: ราคาต่ำสุด | K42: 235/2569 ลว 30-มิ.ย-2569
A43: 37 | B43: จัดจ้างแม่บ้านนางสาวเพ็ญณภา อ่อนพุทรา ประจำเดือนมิถุนายน 2569 | C43: 9000 | D43: 9000 | E43: เฉพาะเจาะจง | F43: นางสาวเพ็ญณภา อ่อนพุทรา | G43: 9000 | H43: นางสาวเพ็ญณภา อ่อนพุทรา | I43: 9000 | J43: ราคาต่ำสุด | K43: 236/2569 ลว 30-มิ.ย-2569
A44: 38 | B44: ซื้อแอร์ กองการศึกษา | C44: 141300 | D44: 141300 | E44: เฉพาะเจาะจง | F44: หจก.กวงเชียง(2537) | G44: 141300 | H44: หจก.กวงเชียง(2537) | I44: 141300 | J44: ราคาต่ำสุด | K44: 237/2569 ลว 30-มิ.ย-2569
A45: 39 | B45: จัดจ้างเหมายานพาหนะรับ-ส่งเด็กเล็กตามโครงการสงเคราะห์ ประจำเดือนกรกฎาคม 2569 | C45: 12000 | D45: 12000 | E45: เฉพาะเจาะจง | F45: นางสาวธัญวรินทร์ สารโภคา | G45: 12000 | H45: นางสาวธัญวรินทร์ สารโภคา | I45: 12000 | J45: ราคาต่ำสุด | K45: 238/2569 ลว 30-มิ.ย-2569
A46: 40 | B46: ซื้อคอมพิวเตอร์ (กองการศึกษา) | C46: 31000 | D46: 31000 | E46: เฉพาะเจาะจง | F46: หจก.กวงเชียง(2537) | G46: 31000 | H46: หจก.กวงเชียง(2537) | I46: 31000 | J46: ราคาต่ำสุด | K46: 239/2569 ลว 30-มิ.ย-2569
A47: 41 | B47: ซื้อคอมพิวเตอร์ (กองคลัง) | C47: 70000 | D47: 70000 | E47: เฉพาะเจาะจง | F47: หจก.กวงเชียง(2537) | G47: 70000 | H47: หจก.กวงเชียง(2537) | I47: 70000 | J47: ราคาต่ำสุด | K47: 240/2569 ลว 30-มิ.ย-2569
B50: =A52:B52 -> 0

Sheet สขร1-พฤษภาคม 69
K1: แบบ สขร. 1
A2: แบบสรุปผลการดำเนินการจัดซื้อจัดจ้างในรอบเดือนพฤษภาคม พ.ศ.2569
A3: องค์การบริหารส่วนตำบลกุตาไก้ อำเภอปลาปาก จังหวัดนครพนม
A4: วันที่ 31 พฤษภาคม พ.ศ. 2569
A5: ลำดับที่ | B5: งานที่จัดซื้อหรือจัดจ้าง | C5: วงเงินที่จะซื้อหรือจ้าง | D5: ราคากลาง | E5: วิธีซื้อหรือจ้าง | F5: รายชื่อผู้เสนอราคาและราคาที่เสนอ | H5: ผู้ได้รับการคัดเลือกและราคาที่ตกลงซื้อหรือจ้าง | J5: เหตุผลที่คัดเลือก | K5: เลขที่และวันที่ของสัญญา | L5: หมายเหตุ
C6: (บาท) | D6: (บาท) | F6: ผู้เสนอราคา | G6: ราคาที่เสนอ | H6: ผู้ได้รับการคัดเลือก | I6: ราคาที่ตกลงซื้อหรือจ้าง | J6: โดยสรุป | K6: หรือข้อตกลงในการซื้อหรือจ้าง
A7: 1 | B7: จัดซื้อน้ำดื่มประจำเดือนพฤษภาคม | C7: 4000 | D7: 4,000.00 | E7: เฉพาะเจาะจง/ ดำเนินการตาม ว119 | F7: ร้านภูไท | G7: 4000 | H7: ร้านภูไท | I7: 4000 | J7: ตาม ว119/ราคาต่ำสุด | K7: 1-พ.ค-2569 | L7: ไม่ลง eGp ตาม ว322
A8: 2 | B8: จัดซื้อไฟฉุกเฉิน | C8: 27100 | D8: 27100 | E8: เฉพาะเจาะจง | F8: ร้านชนะภัย and Rescue (C.A.R ) | G8: 27100 | H8: ร้านชนะภัย and Rescue (C.A.R ) | I8: 27100 | J8: ราคาต่ำสุด | K8: 188/2569 ลว 1-พ.ค-2569
A9: 3 | B9: ซ่อมรถสำนักปลัด | C9: 9950 | D9: 9950 | E9: เฉพาะเจาะจง | F9: ร้านเอ็น เค พี คาร์แคร์ | G9: 9950 | H9: ร้านเอ็น เค พี คาร์แคร์ | I9: 9950 | J9: ราคาต่ำสุด | K9: 189/2569 ลว 1-พ.ค-2569
A10: 4 | B10: ซ่อมหลังคา ศพด.กุตาไก้ | C10: 6948 | D10: 6948 | E10: เฉพาะเจาะจง | F10: ร้านเล็กแอร์ | G10: 6948 | H10: ร้านเล็กแอร์ | I10: 6948 | J10: ราคาต่ำสุด | K10: 190/2569 ลว 1-พ.ค-2569
A11: 5 | B11: จัดซื้อวัสดุไฟฟ้า | C11: 46000 | D11: 46000 | E11: เฉพาะเจาะจง | F11: ร้าน ป.วัชรา | G11: 46000 | H11: ร้าน ป.วัชรา | I11: 46000 | J11: ราคาต่ำสุด | K11: 191/2569 ลว 1-พ.ค-2569
A12: 6 | B12: ซื้อวัสดุงานบ้านงานครัว (กองการศึกษา) | C12: 20000 | D12: 20000 | E12: เฉพาะเจาะจง | F12: เอกศิริพาณิชย์ | G12: 20000 | H12: เอกศิริพาณิชย์ | I12: 20000 | J12: ราคาต่ำสุด | K12: 192/2569 ลว 1-พ.ค-2569
A13: 7 | B13: จัดจ้างทำพระบรมฉายาลักษณ์รัชกาลที่ 10 และพระบรมราชินีและป้ายองค์การบริหารส่วนตำบลกุตาไก้ | C13: 1660 | D13: 1660 | E13: เฉพาะเจาะจง | F13: ร้านปลาปากอิงค์เจท | G13: 1660 | H13: ร้านปลาปากอิงค์เจท | I13: 1660 | J13: ราคาต่ำสุด | K13: 193/2569 ลว 6-พ.ค-2569
A14: 8 | B14: จัดจ้างทำป้ายไวนิลประชาสัมพันธ์แหล่งน้ำอันตรายระวังเด็กจมน้ำ จำนวน 2 ป้าย | C14: 540 | D14: 540 | E14: เฉพาะเจาะจง | F14: ร้านปลาปากอิงค์เจท | G14: 540 | H14: ร้านปลาปากอิงค์เจท | I14: 540 | J14: ราคาต่ำสุด | K14: 194/2569 ลว 6-พ.ค-2569
A15: 9 | B15: จัดซื้อวัสดุน้ำมันเชื้อเพลิงและหล่อลื่น ทะเบียน กง 1621 นครพนม | C15: 2500 | D15: 2500 | E15: เฉพาะเจาะจง/ตาม แนวทางการจัดซื้อน้ำมันเชื้อเพลิงของหน่วยงานของรัฐ | F15: หจก.พนมบริการ | G15: 2500 | H15: หจก.พนมบริการ | I15: 2500 | J15: จัดซื้อน้ำมันเชื้อเพลิง ตามแนวทางการจัดซื้อน้ำมันเชื้อเพลิงของหน่วยงานของรัฐ ผู้ค้าให้เครดิต | K15: 7-พ.ค-2569 | L15: ไม่ลง eGp ตาม ว322
A16: 10 | B16: จัดซื้อวัสดุน้ำมันเชื้อเพลิงและหล่อลื่น ทะเบียน กข 2971 นครพนม | C16: 2500 | D16: 2500 | E16: เฉพาะเจาะจง/ตาม แนวทางการจัดซื้อน้ำมันเชื้อเพลิงของหน่วยงานของรัฐ | F16: หจก.พนมบริการ | G16: 2500 | H16: หจก.พนมบริการ | I16: 2500 | J16: จัดซื้อน้ำมันเชื้อเพลิง ตามแนวทางการจัดซื้อน้ำมันเชื้อเพลิงของหน่วยงานของรัฐ ผู้ค้าให้เครดิต | K16: 7-พ.ค-2569 | L16: ไม่ลง eGp ตาม ว322
A17: 11 | B17: จัดจ้างซ่อมบำรุงรถยนต์ส่วนกลาง หมายเลขทะเบียน กจ.7003 นครพนม | C17: 3000 | D17: 3000 | E17: เฉพาะเจาะจง/ตาม แนวทางการจัดซื้อน้ำมันเชื้อเพลิงของหน่วยงานของรัฐ | F17: หจก.พนมบริการ | G17: 3000 | H17: หจก.พนมบริการ | I17: 3000 | J17: จัดซื้อน้ำมันเชื้อเพลิง ตามแนวทางการจัดซื้อน้ำมันเชื้อเพลิงของหน่วยงานของรัฐ ผู้ค้าให้เครดิต | K17: 7-พ.ค-2569 | L17: ไม่ลง eGp ตาม ว322
A18: 12 | B18: จัดซื้อวัสดุน้ำมันเชื้อเพลิงและหล่อลื่น หมายเลขทะเบียน 80-8462 นครพนม | C18: 4000 | D18: 4000 | E18: เฉพาะเจาะจง/ตาม แนวทางการจัดซื้อน้ำมันเชื้อเพลิงของหน่วยงานของรัฐ | F18: หจก.พนมบริการ | G18: 4000 | H18: หจก.พนมบริการ | I18: 4000 | J18: จัดซื้อน้ำมันเชื้อเพลิง ตามแนวทางการจัดซื้อน้ำมันเชื้อเพลิงของหน่วยงานของรัฐ ผู้ค้าให้เครดิต | K18: 7-พ.ค-2569 | L18: ไม่ลง eGp ตาม ว322
A19: 13 | B19: จัดซื้อวัสดุน้ำมันเชื้อเพลิงและหล่อลื่น รถกู้ชีพกู้ภัย บจ 7439 นครพนม | C19: 3000 | D19: 3000 | E19: เฉพาะเจาะจง/ตาม แนวทางการจัดซื้อน้ำมันเชื้อเพลิงของหน่วยงานของรัฐ | F19: หจก.พนมบริการ | G19: 3000 | H19: หจก.พนมบริการ | I19: 3000 | J19: จัดซื้อน้ำมันเชื้อเพลิง ตามแนวทางการจัดซื้อน้ำมันเชื้อเพลิงของหน่วยงานของรัฐ ผู้ค้าให้เครดิต | K19: 7-พ.ค-2569 | L19: ไม่ลง eGp ตาม ว322
A20: 14 | B20: จัดซื้อวัสดุน้ำมันเชื้อเพลิงและหล่อลื่น กจ 1745 นครพนม | C20: 3000 | D20: 3000 | E20: เฉพาะเจาะจง/ตาม แนวทางการจัดซื้อน้ำมันเชื้อเพลิงของหน่วยงานของรัฐ | F20: หจก.พนมบริการ | G20: 3000 | H20: หจก.พนมบริการ | I20: 3000 | J20: จัดซื้อน้ำมันเชื้อเพลิง ตามแนวทางการจัดซื้อน้ำมันเชื้อเพลิงของหน่วยงานของรัฐ ผู้ค้าให้เครดิต | K20: 7-พ.ค-2569 | L20: ไม่ลง eGp ตาม ว322
A21: 15 | B21: จัดซื้อวัสดุน้ำมันเชื้อเพลิงและหล่อลื่น รถบรรทุกขยะ 80-8595 นครพนม | C21: 4500 | D21: 4500 | E21: เฉพาะเจาะจง/ตาม แนวทางการจัดซื้อน้ำมันเชื้อเพลิงของหน่วยงานของรัฐ | F21: หจก.พนมบริการ | G21: 4500 | H21: หจก.พนมบริการ | I21: 4500 | J21: จัดซื้อน้ำมันเชื้อเพลิง ตามแนวทางการจัดซื้อน้ำมันเชื้อเพลิงของหน่วยงานของรัฐ ผู้ค้าให้เครดิต | K21: 7-พ.ค-2569 | L21: ไม่ลง eGp ตาม ว322
A22: 16 | B22: โครงการต่อเติมศาลาอเนกประสงค์ หมู่ที่ 7 บ้านนาเรียงด้านหลังร้านค้าชุมชน กว้าง 11 เมตร ยาว 15 เมตร ตามแบบแปลน อบต.กุตาไก้ | C22: 400000 | D22: 402851.16 | E22: เฉพาะเจาะจง | F22: ห้างหุ้นส่วนจำกัด เพชรมุกดาก่อสร้าง | G22: 400000 | H22: ห้างหุ้นส่วนจำกัด เพชรมุกดาก่อสร้าง | I22: 400000 | J22: ราคาต่ำสุด | K22: 195/2569 ลว 7-พ.ค-2569
A23: 17 | B23: โครงการก่อสร้างถนนคอนกรีตเสริมเหล็ก หมู่ที่ 9 บ้านโคกสะอาด จากร้านค้าชุมชน-บ้านนางมาลา เหลาหนาด กว้าง 5 เมตร ยาว 49 เมตร หนา 0.15 เมตร อ้างแบบมาตรฐานงานทางสำหรับ อปท. แบบเลขที่ ทถ-2-203 | C23: 149500 | D23: 169030.9 | E23: เฉพาะเจาะจง | F23: หจก.สุขเกษมคอนสตรัคชั่น 2021 | G23: 149500 | H23: หจก.สุขเกษมคอนสตรัคชั่น 2021 | I23: 149500 | J23: ราคาต่ำสุด | K23: 196/2569 ลว 7-พ.ค-2569
A24: 18 | B24: โครงการก่อสร้างถนนคอนกรีตเสริมเหล็ก หมู่ที่ 9 บ้านโคกสะอาด จากบ้านนายพรทวี แสนตื้อ-บ้านนายเอกชัย แสนตื้อ กว้าง 5 เมตร ยาว 82 เมตร หนา 0.15 เมตร อ้างแบบมาตรฐานงานทางสำหรับ อปท.แบบเลขที่ ทถ-2-203 | C24: 252200 | D24: 284921.37 | E24: เฉพาะเจาะจง | F24: หจก.สุขเกษมคอนสตรัคชั่น 2022 | G24: 252200 | H24: หจก.สุขเกษมคอนสตรัคชั่น 2022 | I24: 252200 | J24: ราคาต่ำสุด | K24: 197/2569 ลว 7-พ.ค-2569
A25: 19 | B25: โครงการปรับปรุงฝารางระบายน้ำแบบฝาตะแกรงเหล็ก หมู่ที่ 3 บ้านดอนดู่ จากบ้านนางอนมมา ชาลีบุญ-ศาลาประชาคม กว้าง 0.45 -0.50 เมตร ยาว 132 เมตร ตามแบบแปลน อบต.กุตาไก้กำหนด | C25: 400500 | D25: 417471.76 | E25: เฉพาะเจาะจง | F25: ห้างหุ้นส่วนจำกัด เพชรมุกดาก่อสร้าง | G25: 400500 | H25: ห้างหุ้นส่วนจำกัด เพชรมุกดาก่อสร้าง | I25: 400500 | J25: ราคาต่ำสุด | K25: 198/2569 ลว 7-พ.ค-2569
A26: 20 | B26: จัดซื้อแท็บเล็ต | C26: 22000 | D26: 22000 | E26: เฉพาะเจาะจง | F26: หจก.กวงเชียง(2537) | G26: 22000 | H26: หจก.กวงเชียง(2537) | I26: 22000 | J26: ราคาต่ำสุด | K26: 199/2569 ลว 7-พ.ค-2569
A27: 21 | B27: จัดจ้างซ่อม-ล้างแอร์ | C27: 10200 | D27: 10200 | E27: เฉพาะเจาะจง | F27: ร้านเล็กแอร์ | G27: 10200 | H27: ร้านเล็กแอร์ | I27: 10200 | J27: ราคาต่ำสุด | K27: 200/2569 ลว 7-พ.ค-2569
A28: 22 | B28: จัดจ้างครุภัณฑ์สำนักงาน (โพเดียม) | C28: 900 | D28: 900 | E28: เฉพาะเจาะจง | F28: นายพุทธา หาได้ | G28: 900 | H28: นายพุทธา หาได้ | I28: 900 | J28: ราคาต่ำสุด | K28: 201/2569 ลว 11-พ.ค-2569
A29: 23 | B29: จัดจ้างเครื่องปรับอากาศ ศพด.ตำบลกุตาไก้ | C29: 3000 | D29: 3000 | E29: เฉพาะเจาะจง | F29: ร้านเล็กแอร์ | G29: 3000 | H29: ร้านเล็กแอร์ | I29: 3000 | J29: ราคาต่ำสุด | K29: 202/2569 ลว 11-พ.ค-2569
A30: 24 | B30: จัดซื้อวัสดุน้ำมันเชื้อเพลิงและหล่อลื่น กง 1621 นครพนม | C30: 2500 | D30: 2500 | E30: เฉพาะเจาะจง/ตาม แนวทางการจัดซื้อน้ำมันเชื้อเพลิงของหน่วยงานของรัฐ | F30: หจก.พนมบริการ | G30: 2500 | H30: หจก.พนมบริการ | I30: 2500 | J30: จัดซื้อน้ำมันเชื้อเพลิง ตามแนวทางการจัดซื้อน้ำมันเชื้อเพลิงของหน่วยงานของรัฐ ผู้ค้าให้เครดิต | K30: 15-พ.ค-2569 | L30: ไม่ลง eGp ตาม ว322
A31: 25 | B31: จัดซื้อวัสดุน้ำมันเชื้อเพลิงและหล่อลื่น รถบรรทุกขยะ 80-8595 นครพนม | C31: 5000 | D31: 5000 | E31: เฉพาะเจาะจง/ตาม แนวทางการจัดซื้อน้ำมันเชื้อเพลิงของหน่วยงานของรัฐ | F31: หจก.พนมบริการ | G31: 5000 | H31: หจก.พนมบริการ | I31: 5000 | J31: จัดซื้อน้ำมันเชื้อเพลิง ตามแนวทางการจัดซื้อน้ำมันเชื้อเพลิงของหน่วยงานของรัฐ ผู้ค้าให้เครดิต | K31: 20-พ.ค-2569 | L31: ไม่ลง eGp ตาม ว322
A32: 26 | B32: จัดซื้อวัสดุคอมพิวเตอร์ (กองการศึกษา) | C32: 9500 | D32: 9500 | E32: เฉพาะเจาะจง | F32: หจก.กวงเชียง(2537) | G32: 9500 | H32: หจก.กวงเชียง(2537) | I32: 9500 | J32: ราคาต่ำสุด | K32: 203/2569 ลว 20-พ.ค-2569
A33: 27 | B33: จัดซื้อวัสดุน้ำมันเชื้อเพลิงและหล่อลื่น กจ 1745 นครพนม | C33: 3000 | D33: 3000 | E33: เฉพาะเจาะจง/ตาม แนวทางการจัดซื้อน้ำมันเชื้อเพลิงของหน่วยงานของรัฐ | F33: หจก.พนมบริการ | G33: 3000 | H33: หจก.พนมบริการ | I33: 3000 | J33: จัดซื้อน้ำมันเชื้อเพลิง ตามแนวทางการจัดซื้อน้ำมันเชื้อเพลิงของหน่วยงานของรัฐ ผู้ค้าให้เครดิต | K33: 21-พ.ค-2569 | L33: ไม่ลง eGp ตาม ว322
A34: 28 | B34: จัดซื้อวัสดุน้ำมันเชื้อเพลิงและหล่อลื่น รถกู้ชีพกู้ภัย บจ 7439 นครพนม | C34: 3000 | D34: 3000 | E34: เฉพาะเจาะจง/ตาม แนวทางการจัดซื้อน้ำมันเชื้อเพลิงของหน่วยงานของรัฐ | F34: หจก.พนมบริการ | G34: 3000 | H34: หจก.พนมบริการ | I34: 3000 | J34: จัดซื้อน้ำมันเชื้อเพลิง ตามแนวทางการจัดซื้อน้ำมันเชื้อเพลิงของหน่วยงานของรัฐ ผู้ค้าให้เครดิต | K34: 21-พ.ค-2569 | L34: ไม่ลง eGp ตาม ว322
A35: 29 | B35: จัดซื้อวัสดุสำนักงาน (กองช่าง) | C35: 10375 | D35: 10375 | E35: เฉพาะเจาะจง | F35: ร้านปริญญาการพิมพ์ | G35: 10375 | H35: ร้านปริญญาการพิมพ์ | I35: 10375 | J35: ราคาต่ำสุด | K35: 204/2569 ลว 21-พ.ค-2569 | O35: =A35:O35 -> 0 | P35: =B35:P35 -> 0
A36: 30 | B36: จัดซื้อวัสดุสำนักงาน (กองการศึกษา) | C36: 7520 | D36: 7520 | E36: เฉพาะเจาะจง | F36: หจก.กวงเชียง(2537) | G36: 7520 | H36: หจก.กวงเชียง(2537) | I36: 7520 | J36: ราคาต่ำสุด | K36: 205/2569 ลว 21-พ.ค-2569
A37: 31 | B37: จัดซื้อตามโครงการป้องกันไข้เลือดออก | C37: 42000 | D37: 42000 | E37: เฉพาะเจาะจง | F37: ห้างหุ้นส่วนจำกัด ธนวิทย์เซ็นเตอร์ | G37: 42000 | H37: ห้างหุ้นส่วนจำกัด ธนวิทย์เซ็นเตอร์ | I37: 42000 | J37: ราคาต่ำสุด | K37: 206/2569 ลว 21-พ.ค-2569
A38: 32 | B38: ='สขร1-มีค69'!$B$37 -> จัดซื้ออาหารเสริมนมให้แก่เด็กนักเรียนในโรงเรียนในสังกัดคณะกรรมการศึกษาขั้นพื้นฐาน (สพฐ) 6 แห่ง | C38: 141477.3 | D38: 141477.3 | E38: ='สขร1-มีค69'!$E$37 -> เฉพาะเจาะจง/ตามหลักเกณฑ์ฯ อสค. | F38: ='สขร1-มีค69'!$F$37 -> บริษัท แมรี่แอนแดรี่โปรดักส์ | G38: 141477.3 | H38: ='สขร1-มีค69'!$F$37 -> บริษัท แมรี่แอนแดรี่โปรดักส์ | I38: 141477.3 | J38: ='สขร1-มีค69'!$J$37 -> ราคาต่ำสุด/ตามหลักเกณฑ์ฯ อสค. | K38: 207/2569 ลว 21-พ.ค-2569
A39: 33 | B39: ='สขร1-มีค69'!$B$36 -> จัดซื้ออาหารเสริมนมให้แก่เด็กเล็กเด็กนักเรียนในสังกัดองค์การบริหารฯ จำนวน 4 แห่ง | C39: 28604.7 | D39: 28604.7 | E39: ='สขร1-มีค69'!$E$37 -> เฉพาะเจาะจง/ตามหลักเกณฑ์ฯ อสค. | F39: ='สขร1-มีค69'!$F$37 -> บริษัท แมรี่แอนแดรี่โปรดักส์ | G39: 28604.7 | H39: ='สขร1-มีค69'!$F$37 -> บริษัท แมรี่แอนแดรี่โปรดักส์ | I39: 28604.7 | J39: ='สขร1-มีค69'!$J$37 -> ราคาต่ำสุด/ตามหลักเกณฑ์ฯ อสค. | K39: 208/2569 ลว 21-พ.ค-2569
A40: 34 | B40: จัดซื้อวัสดุน้ำมันเชื้อเพลิงและหล่อลื่น ทะเบียน กง 1621 นครพนม | C40: 2500 | D40: 2500 | E40: เฉพาะเจาะจง/ตาม แนวทางการจัดซื้อน้ำมันเชื้อเพลิงของหน่วยงานของรัฐ | F40: หจก.พนมบริการ | G40: 2500 | H40: หจก.พนมบริการ | I40: 2500 | J40: จัดซื้อน้ำมันเชื้อเพลิง ตามแนวทางการจัดซื้อน้ำมันเชื้อเพลิงของหน่วยงานของรัฐ ผู้ค้าให้เครดิต | K40: 25-พ.ค-2569 | L40: ไม่ลง eGp ตาม ว322
A41: 35 | B41: จัดจ้างซ่อมรถยนต์ส่วนกลาง ทะเบียน 80-8462 นครพนม | C41: 4040.64 | D41: 4040.64 | E41: เฉพาะเจาะจง | F41: บจ.อีซูซุนครพนม | G41: 4040.64 | H41: บจ.อีซูซุนครพนม | I41: 4040.64 | J41: ราคาต่ำสุด | K41: 209/2569 ลว 25-พ.ค-2569
A42: 36 | B42: จัดจ้างเหมายานพาหนะรับ-ส่งเด็กเล็กตามโครงการสงเคราะห์ ประจำเดือนมิถุนายน 2569 | C42: 12000 | D42: 12000 | E42: เฉพาะเจาะจง | F42: นางสาวธัญวรินทร์ สารโภคา | G42: 12000 | H42: นางสาวธัญวรินทร์ สารโภคา | I42: 12000 | J42: ราคาต่ำสุด | K42: 210/2569 ลว 25-พ.ค-2569

Sheet สขร1-เมษายน69 
K1: แบบ สขร. 1
A2: แบบสรุปผลการดำเนินการจัดซื้อจัดจ้างในรอบเดือน มีนาคม พ.ศ.2569
A3: องค์การบริหารส่วนตำบลกุตาไก้ อำเภอปลาปาก จังหวัดนครพนม
A4: วันที่ 30 เมษายน พ.ศ. 2569
A5: ลำดับที่ | B5: งานที่จัดซื้อหรือจัดจ้าง | C5: วงเงินที่จะซื้อหรือจ้าง | D5: ราคากลาง | E5: วิธีซื้อหรือจ้าง | F5: รายชื่อผู้เสนอราคาและราคาที่เสนอ | H5: ผู้ได้รับการคัดเลือกและราคาที่ตกลงซื้อหรือจ้าง | J5: เหตุผลที่คัดเลือก | K5: เลขที่และวันที่ของสัญญา | L5: หมายเหตุ
C6: (บาท) | D6: (บาท) | F6: ผู้เสนอราคา | G6: ราคาที่เสนอ | H6: ผู้ได้รับการคัดเลือก | I6: ราคาที่ตกลงซื้อหรือจ้าง | J6: โดยสรุป | K6: หรือข้อตกลงในการซื้อหรือจ้าง
A7: 1 | B7: จัดซื้อน้ำดื่มประจำเดือนเมษายน | C7: 4000 | D7: 4,000.00 | E7: เฉพาะเจาะจง/ ดำเนินการตาม ว119 | F7: ร้านภูไท | G7: 4000 | H7: ร้านภูไท | I7: 4000 | J7: ตาม ว119/ราคาต่ำสุด | K7: 1-เม.ย.-2569 | L7: ไม่ลง eGp ตาม ว322
A8: 2 | B8: จัดซื้อวัสดุน้ำมันเชื้อเพลิงและหล่อลื่น | C8: 2500 | D8: 2500 | E8: เฉพาะเจาะจง/ตาม แนวทางการจัดซื้อน้ำมันเชื้อเพลิงของหน่วยงานของรัฐ | F8: หจก.พนมบริการ | G8: 2500 | H8: หจก.พนมบริการ | I8: 2500 | J8: จัดซื้อน้ำมันเชื้อเพลิง ตามแนวทางการจัดซื้อน้ำมันเชื้อเพลิงของหน่วยงานของรัฐ ผู้ค้าให้เครดิต | K8: 1-เม.ย.-2569 | L8: ไม่ลง eGp ตาม ว322
A9: 3 | B9: จัดซื้อวัสดุน้ำมันเชื้อเพลิงและหล่อลื่น | C9: 2000 | D9: 2000 | E9: เฉพาะเจาะจง/ตาม แนวทางการจัดซื้อน้ำมันเชื้อเพลิงของหน่วยงานของรัฐ | F9: หจก.พนมบริการ | G9: 2000 | H9: หจก.พนมบริการ | I9: 2000 | J9: จัดซื้อน้ำมันเชื้อเพลิง ตามแนวทางการจัดซื้อน้ำมันเชื้อเพลิงของหน่วยงานของรัฐ ผู้ค้าให้เครดิต | K9: 1-เม.ย.-2569 | L9: ไม่ลง eGp ตาม ว322
A10: 4 | B10: จัดซื้อวัสดุน้ำมันเชื้อเพลิงและหล่อลื่น | C10: 4000 | D10: 4000 | E10: เฉพาะเจาะจง/ตาม แนวทางการจัดซื้อน้ำมันเชื้อเพลิงของหน่วยงานของรัฐ | F10: หจก.พนมบริการ | G10: 4000 | H10: หจก.พนมบริการ | I10: 4000 | J10: จัดซื้อน้ำมันเชื้อเพลิง ตามแนวทางการจัดซื้อน้ำมันเชื้อเพลิงของหน่วยงานของรัฐ ผู้ค้าให้เครดิต | K10: 2-เม.ย.-2569 | L10: ไม่ลง eGp ตาม ว322
A11: 5 | B11: จัดซื้อวัสดุน้ำมันเชื้อเพลิงและหล่อลื่น | C11: 3000 | D11: 3000 | E11: เฉพาะเจาะจง/ตาม แนวทางการจัดซื้อน้ำมันเชื้อเพลิงของหน่วยงานของรัฐ | F11: หจก.พนมบริการ | G11: 3000 | H11: หจก.พนมบริการ | I11: 3000 | J11: จัดซื้อน้ำมันเชื้อเพลิง ตามแนวทางการจัดซื้อน้ำมันเชื้อเพลิงของหน่วยงานของรัฐ ผู้ค้าให้เครดิต | K11: 2-เม.ย.-2569 | L11: ไม่ลง eGp ตาม ว322
A12: 6 | B12: จัดซื้อวัสดุน้ำมันเชื้อเพลิงและหล่อลื่น | C12: 4500 | D12: 4500 | E12: เฉพาะเจาะจง/ตาม แนวทางการจัดซื้อน้ำมันเชื้อเพลิงของหน่วยงานของรัฐ | F12: หจก.พนมบริการ | G12: 4500 | H12: หจก.พนมบริการ | I12: 4500 | J12: จัดซื้อน้ำมันเชื้อเพลิง ตามแนวทางการจัดซื้อน้ำมันเชื้อเพลิงของหน่วยงานของรัฐ ผู้ค้าให้เครดิต | K12: 2-เม.ย.-2569 | L12: ไม่ลง eGp ตาม ว322
A13: 7 | B13: จัดซื้อวัสดุน้ำมันเชื้อเพลิงและหล่อลื่น ทะเบียน กง 1621 นครพนม | C13: 2000 | D13: 2000 | E13: เฉพาะเจาะจง/ตาม แนวทางการจัดซื้อน้ำมันเชื้อเพลิงของหน่วยงานของรัฐ | F13: หจก.พนมบริการ | G13: 2000 | H13: หจก.พนมบริการ | I13: 2000 | J13: จัดซื้อน้ำมันเชื้อเพลิง ตามแนวทางการจัดซื้อน้ำมันเชื้อเพลิงของหน่วยงานของรัฐ ผู้ค้าให้เครดิต | K13: 7-เม.ย.-2569 | L13: ไม่ลง eGp ตาม ว322
A14: 8 | B14: จัดจ้างโครงการก่อสร้างรางระบายน้ำคอนกรีตเสริมเหล็ก หมู่ที่ 8 บ้านนาดอกไม้ จากบ้านนางวันทัย อินโสม-บ้านนายติ่ง บุญละ กว้าง 0.30 เมตร ยาว 194.80 เมตร ลึก 0.30 เมตร 4 จุด | C14: 410000 | D14: 418713.45 | E14: เฉพาะเจาะจง | F14: หจก.สุขเกษมคอนสตรัคชั่น 2021 | G14: 410000 | H14: หจก.สุขเกษมคอนสตรัคชั่น 2021 | I14: 410000 | J14: ราคาต่ำสุด | K14: 157/2569 ลว 7 เม.ย.2569
A15: 9 | B15: จัดจ้างโครงการวางท่อระบายคอนกรีตเสริมเหล็ก หมทู่ที่ 10 บ้านกุตาไก้ หน้าโรงเรียนบ้านกุตาไก้-บ้านนาเรียง ขนาด 0.60x1.00 เมตร ยาว 206 เมตร | C15: 400800 | D15: 394648.11 | E15: เฉพาะเจาะจง | F15: หจก.สุขเกษมคอนสตรัคชั่น 2021 | G15: 394600 | H15: หจก.สุขเกษมคอนสตรัคชั่น 2021 | I15: 394600 | J15: ราคาต่ำสุด | K15: 158/2569 ลว 7 เม.ย.2569
A16: 10 | B16: จัดจ้างทำป้ายไวนิลประชาสัมพันธ์หน่วยงานสำหรับผู้มาติดต่อราชการ ขนาดสูง 1.2x2.5 เมตร | C16: 540 | D16: 540 | E16: เฉพาะเจาะจง | F16: ร้านปลาปากอิงค์เจท | G16: 540 | H16: ร้านปลาปากอิงค์เจท | I16: 540 | J16: ราคาต่ำสุด | K16: 159/2569 ลว 7 เม.ย.2569
A17: 11 | B17: จัดจ้างทำป้ายไวนิลการป้องกันและลดอุบัติเหตุทางถนนช่วงเทศกาลสงกรานต์ ประจำปีงบประมาณ 2569 | C17: 3240 | D17: 3240 | E17: เฉพาะเจาะจง | F17: ร้านปลาปากอิงค์เจท | G17: 3240 | H17: ร้านปลาปากอิงค์เจท | I17: 3240 | J17: ราคาต่ำสุด | K17: 160/2569 ลว 8 เม.ย.2569
A18: 12 | B18: จัดจ้างโครงการก่อสร้างถนน คสล. ม.4 บ้านกุตาไก้ สายทางวิสาหกิจชุมชนขนมจีน-แยกไปหนองขาม กว้าง 4 เมตร ยาว 176 เมตร หนา 0.15 เมตร | C18: 446700 | D18: 503437.19 | E18: เฉพาะเจาะจง | F18: หจก.ปลาปากการโยธา | G18: 446700 | H18: หจก.ปลาปากการโยธา | I18: 446700 | J18: ราคาต่ำสุด | K18: 161/2569 ลว 9 เม.ย.2569
A19: 13 | B19: จัดซื้อน้ำดื่มบริการประชาชน (สงกรานต์) | C19: 10836 | D19: 10836 | E19: เฉพาะเจาะจง | F19: ร้านโอเค 20 บาท | G19: 10836 | H19: ร้านโอเค 20 บาท | I19: 10836 | J19: ราคาต่ำสุด | K19: 162/2569 ลว 9 เม.ย.2569
A20: 14 | B20: จัดซื้อวัสดุน้ำมันเชื้อเพลิงและหล่อลื่น รถกู้ชีพกู้ภัย บจ 7439 นครพนม | C20: 2500 | D20: 2500 | E20: เฉพาะเจาะจง/ตาม แนวทางการจัดซื้อน้ำมันเชื้อเพลิงของหน่วยงานของรัฐ | F20: หจก.พนมบริการ | G20: 2500 | H20: หจก.พนมบริการ | I20: 2500 | J20: จัดซื้อน้ำมันเชื้อเพลิง ตามแนวทางการจัดซื้อน้ำมันเชื้อเพลิงของหน่วยงานของรัฐ ผู้ค้าให้เครดิต | K20: 9-เม.ย.-2569 | L20: ไม่ลง eGp ตาม ว322
A21: 15 | B21: จัดซื้อวัสดุน้ำมันเชื้อเพลิงและหล่อลื่น รถบรรทุกขยะ 80-8595 นครพนม | C21: 4500 | D21: 4500 | E21: เฉพาะเจาะจง/ตาม แนวทางการจัดซื้อน้ำมันเชื้อเพลิงของหน่วยงานของรัฐ | F21: หจก.พนมบริการ | G21: 4500 | H21: หจก.พนมบริการ | I21: 4500 | J21: จัดซื้อน้ำมันเชื้อเพลิง ตามแนวทางการจัดซื้อน้ำมันเชื้อเพลิงของหน่วยงานของรัฐ ผู้ค้าให้เครดิต | K21: 9-เม.ย.-2569 | L21: ไม่ลง eGp ตาม ว322
A22: 16 | B22: จัดซื้อวัสดุเครื่องแต่งกาย | C22: 3140 | D22: 3140 | E22: เฉพาะเจาะจง | F22: ร้านเอกศิริพาณิชย์ | G22: 3140 | H22: ร้านเอกศิริพาณิชย์ | I22: 3140 | J22: ราคาต่ำสุด | K22: 163/2569 ลว 10 เม.ย.2569
A23: 17 | B23: จัดซื้อวัสดุสำนักงาน (สำนักปลัด)ชั้น | C23: 8050 | D23: 8050 | E23: เฉพาะเจาะจง | F23: หจก.กวงเชียง(2537) | G23: 8050 | H23: หจก.กวงเชียง(2537) | I23: 8050 | J23: ราคาต่ำสุด | K23: 165/2569 ลว 10 เม.ย.2569
A24: 18 | B24: จัดซื้อวัคซีน | C24: 62320 | D24: 62320 | E24: เฉพาะเจาะจง | F24: เอ็น เค พี เวชภัณฑ์สัตว์ | G24: 62320 | H24: เอ็น เค พี เวชภัณฑ์สัตว์ | I24: 62320 | J24: ราคาต่ำสุด | K24: 166/2569 ลว 10 เม.ย.2569
A25: 19 | B25: ซื้อครุภัณฑ์สำนักงาน กองคลัง โต๊ะ+เก้าอี้ | C25: 10500 | D25: 10500 | E25: เฉพาะเจาะจง | F25: หจก.กวงเชียง(2537) | G25: 10500 | H25: หจก.กวงเชียง(2537) | I25: 10500 | J25: ราคาต่ำสุด | K25: 167/2569 ลว 10 เม.ย.2569
A26: 20 | B26: จัดซื้อวัสดุสำนักงาน (สำนักปลัด) | C26: 1560 | D26: 1560 | E26: เฉพาะเจาะจง | F26: วีระซัฟฟลาย | G26: 1560 | H26: วีระซัฟฟลาย | I26: 1560 | J26: ราคาต่ำสุด | K26: 168/2569 ลว 16 เม.ย.2569
A27: 21 | B27: จัดซื้อวัสดุก่อสร้าง (ท่อ คสล.) | C27: 45200 | D27: 45200 | E27: เฉพาะเจาะจง | F27: ร้านเพิ่มพลูคูณยั่งยืน | G27: 45200 | H27: ร้านเพิ่มพลูคูณยั่งยืน | I27: 45200 | J27: ราคาต่ำสุด | K27: 169/2569 ลว 17 เม.ย.2569
A28: 22 | B28: จัดซื้อกระดาษ A4 (สำนักปลัด) | C28: 14500 | D28: 14500 | E28: เฉพาะเจาะจง | F28: ร้านสาม อ. เทคนิค | G28: 14500 | H28: ร้านสาม อ. เทคนิค | I28: 14500 | J28: ราคาต่ำสุด | K28: 170/2569 ลว 17 เม.ย.2569
A29: 23 | B29: จัดซื้อวัสดุน้ำมันเชื้อเพลิงและหล่อลื่น กง 1621 นครพนม | C29: 2000 | D29: 2000 | E29: เฉพาะเจาะจง/ตาม แนวทางการจัดซื้อน้ำมันเชื้อเพลิงของหน่วยงานของรัฐ | F29: หจก.พนมบริการ | G29: 2000 | H29: หจก.พนมบริการ | I29: 2000 | J29: จัดซื้อน้ำมันเชื้อเพลิง ตามแนวทางการจัดซื้อน้ำมันเชื้อเพลิงของหน่วยงานของรัฐ ผู้ค้าให้เครดิต | K29: 17-เม.ย.-2569 | L29: ไม่ลง eGp ตาม ว322
A30: 24 | B30: จัดซื้อวัสดุน้ำมันเชื้อเพลิงและหล่อลื่น กจ 1745 นครพนม | C30: 2500 | D30: 2500 | E30: เฉพาะเจาะจง/ตาม แนวทางการจัดซื้อน้ำมันเชื้อเพลิงของหน่วยงานของรัฐ | F30: หจก.พนมบริการ | G30: 2500 | H30: หจก.พนมบริการ | I30: 2500 | J30: จัดซื้อน้ำมันเชื้อเพลิง ตามแนวทางการจัดซื้อน้ำมันเชื้อเพลิงของหน่วยงานของรัฐ ผู้ค้าให้เครดิต | K30: 17-เม.ย.-2569 | L30: ไม่ลง eGp ตาม ว322
A31: 25 | B31: จัดซื้อวัสดุน้ำมันเชื้อเพลิงและหล่อลื่น กข 2971 นครพนม | C31: 2500 | D31: 2500 | E31: เฉพาะเจาะจง/ตาม แนวทางการจัดซื้อน้ำมันเชื้อเพลิงของหน่วยงานของรัฐ | F31: หจก.พนมบริการ | G31: 2500 | H31: หจก.พนมบริการ | I31: 2500 | J31: จัดซื้อน้ำมันเชื้อเพลิง ตามแนวทางการจัดซื้อน้ำมันเชื้อเพลิงของหน่วยงานของรัฐ ผู้ค้าให้เครดิต | K31: 17-เม.ย.-2569 | L31: ไม่ลง eGp ตาม ว322
A32: 26 | B32: จัดซื้อวัสดุวิทยาศาสตร์หรือการแพทย์ | C32: 1440 | D32: 1440 | E32: เฉพาะเจาะจง | F32: ชลลี่ เมดิคอล | G32: 1440 | H32: ชลลี่ เมดิคอล | I32: 1440 | J32: ราคาต่ำสุด | K32: 171/2569 ลว 21 เม.ย.2569
A33: 27 | B33: จัดซื้อวัสดุคอมพิวเตอร์ (กองคลัง) | C33: 2250 | D33: 2250 | E33: เฉพาะเจาะจง | F33: หจก.กวงเชียง(2537) | G33: 2250 | H33: หจก.กวงเชียง(2537) | I33: 2250 | J33: ราคาต่ำสุด | K33: 172/2569 ลว 21 เม.ย.2569
A34: 28 | B34: จัดซื้อวัสดุน้ำมันเชื้อเพลิงและหล่อลื่น รถบรรทุกขยะ 80-8595 นครพนม | C34: 4500 | D34: 4500 | E34: เฉพาะเจาะจง/ตาม แนวทางการจัดซื้อน้ำมันเชื้อเพลิงของหน่วยงานของรัฐ | F34: หจก.พนมบริการ | G34: 4500 | H34: หจก.พนมบริการ | I34: 4500 | J34: จัดซื้อน้ำมันเชื้อเพลิง ตามแนวทางการจัดซื้อน้ำมันเชื้อเพลิงของหน่วยงานของรัฐ ผู้ค้าให้เครดิต | K34: 21-เม.ย.-2569 | L34: ไม่ลง eGp ตาม ว322
A35: 29 | B35: จัดซื้อวัสดุสำนักงาน (กองช่าง) | C35: 3625 | D35: 3625 | E35: เฉพาะเจาะจง | F35: ร้านสาม อ. เทคนิค | G35: 3625 | H35: ร้านสาม อ. เทคนิค | I35: 3625 | J35: ราคาต่ำสุด | K35: 173/2569 ลว 23 เม.ย.2569
A36: 30 | B36: จัดซื้อวัสดุคอมพิวเตอร์ (กองช่าง) | C36: 1900 | D36: 1900 | E36: เฉพาะเจาะจง | F36: หจก.กวงเชียง(2537) | G36: 1900 | H36: หจก.กวงเชียง(2537) | I36: 1900 | J36: ราคาต่ำสุด | K36: 174/2569 ลว 23 เม.ย.2569
A37: 31 | B37: จัดจ้างโครงการก่อสร้างถนน คสล. ม.6 บ้านวังโพธิ์ สายที่ 2 สายทางบ้านนายสมชาย รัตนา-บ้านนางสมร มีสิมมา กว้าง 3 เมตร ยาว 218 เมตร หนา 0.15 เมตร | C37: 401300 | D37: 445697.42 | E37: เฉพาะเจาะจง | F37: หจก.ปลาปากการโยธา | G37: 401300 | H37: หจก.ปลาปากการโยธา | I37: 401300 | J37: ราคาต่ำสุด | K37: 175/2569 ลว 24 เม.ย.2569 | N37: =A37:N37 -> 0
A38: 32 | B38: จัดจ้างโครงการก่อสร้างรางระบายน้ำคสล.ม.5 บ้านกุตาไก้ จากร้านค้าชุมชน-บ้านนายอุดร อุสันสาห์ กว้าง 0.40 เมตร ยาว 154 เมตร | C38: 375000 | D38: 383966.47 | E38: เฉพาะเจาะจง | F38: หจก.ปลาปากการโยธา | G38: 375000 | H38: หจก.ปลาปากการโยธา | I38: 375000 | J38: ราคาต่ำสุด | K38: 176/2569 ลว 24 เม.ย.2569
A39: 33 | B39: จัดจ้างโครงก่อสร้างถนนคสล.ม.2 บ้านโพนทา สายทางบ้านนายวสุ น้อยชาลี - บ้านนายศรรักษ์ อุสาหะ กว้าง 3.50 เมตร ยาว 40 เมตร หนา 0.15 เมตร | C39: 84800 | D39: 95280.11 | E39: เฉพาะเจาะจง | F39: หจก.ปลาปากการโยธา | G39: 84800 | H39: หจก.ปลาปากการโยธา | I39: 84800 | J39: ราคาต่ำสุด | K39: 177/2569 ลว 24 เม.ย.2569
A40: 34 | B40: จัดจ้างโครงการก่อสร้างถนนคสล. ม.2 บ้านโพนทา สายทางบ้านนายเคน อินแสงแวง-บ้านนางแนวดี สมเภา กว้าง 4 เมตร ยาว 75 เมตร หนา 0.15 เมตร | C40: 186200 | D40: 209952.88 | E40: เฉพาะเจาะจง | F40: หจก.ปลาปากการโยธา | G40: 186200 | H40: หจก.ปลาปากการโยธา | I40: 186200 | J40: ราคาต่ำสุด | K40: 178/2569 ลว 24 เม.ย.2569
A41: 35 | B41: จัดจ้างโครงการก่อสร้างถนนคสล. ม.2 บ้านโพนทา สายทางบ้านนายราเชนทร์ เทพคำดี-บ้านนายสัน แสงดี กว้าง 4 เมตร ยาว 52 เมตร หนา 0.15 เมตร | C41: 128900 | D41: 138197.7 | E41: เฉพาะเจาะจง | F41: หจก.ปลาปากการโยธา | G41: 128900 | H41: หจก.ปลาปากการโยธา | I41: 128900 | J41: ราคาต่ำสุด | K41: 179/2569 ลว 24 เม.ย.2569
A42: 36 | B42: จัดจ้างซ่อมบำรุงรถยนต์ส่วนกลาง หมายเลขทะเบียน กจ.7003 นครพนม | C42: 3489.06 | D42: 3489.06 | E42: เฉพาะเจาะจง | F42: บจ.โตโยต้าเจริญศรี | G42: 3489.06 | H42: บจ.โตโยต้าเจริญศรี | I42: 3489.06 | J42: ราคาต่ำสุด | K42: 180/2569 ลว 27 เม.ย.2569
A43: 37 | B43: จัดจ้างวัสดุโฆษณาและเผยแพร่ | C43: 720 | D43: 720 | E43: เฉพาะเจาะจง | F43: ร้านปลาปากอิงค์เจท | G43: 720 | H43: ร้านปลาปากอิงค์เจท | I43: 720 | J43: ราคาต่ำสุด | K43: 181/2569 ลว 27 เม.ย.2569
A44: 38 | B44: จัดจ้างทำตรายาง (กองช่าง) | C44: 1180 | D44: 1180 | E44: เฉพาะเจาะจง | F44: ร้านปริญญาการพิมพ์ | G44: 1180 | H44: ร้านปริญญาการพิมพ์ | I44: 1180 | J44: ราคาต่ำสุด | K44: 182/2569 ลว 28 เม.ย.2569
A45: 39 | B45: จัดซื้อวัสดุสำนักงาน (สำนักปลัด) | C45: 1250 | D45: 1250 | E45: เฉพาะเจาะจง | F45: ร้านเอกศิริพาณิชย์ | G45: 1250 | H45: ร้านเอกศิริพาณิชย์ | I45: 1250 | J45: ราคาต่ำสุด | K45: 183/2569 ลว 28 เม.ย.2569
A46: 40 | B46: จัดจ้างทำตรายาง (กองคลัง) | C46: 800 | D46: 800 | E46: เฉพาะเจาะจง | F46: ร้านปริญญาการพิมพ์ | G46: 800 | H46: ร้านปริญญาการพิมพ์ | I46: 800 | J46: ราคาต่ำสุด | K46: 184/2569 ลว 29 เม.ย.2569
A47: 41 | B47: จัดจ้างโครงการก่อสร้างถนนคอนกรีตเสริมเหล็กพร้อมฝาระบายน้ำแบบตะแกรงเหล็ก หมู่ที่ 12 บ้านดอนดู่ สายทางบ้านนายพิน สุขัน-บ้านนางบุญมา ราชวงค์ กว้าง 4 เมตร ยาว 73 เมตร หนา 0.15 เมตร | C47: 402900 | D47: 417738.98 | E47: เฉพาะเจาะจง | F47: หจก.ปลาปากการโยธา | G47: 402900 | H47: หจก.ปลาปากการโยธา | I47: 402900 | J47: ราคาต่ำสุด | K47: 185/2569 ลว 30 เม.ย.2569
A48: 42 | B48: จัดจ้างโครงการต่อเติมด้านข้างอาคาร ศพด.โพนทา พร้อมห้องเก็บพัสดุ (กองการศึกษา) ขนาดกว้าง 5 เมตร ยาว 17.50 เมตร | C48: 500000 | D48: 500164.65 | E48: เฉพาะเจาะจง | F48: หจก.ปลาปากการโยธา | G48: 500000 | H48: หจก.ปลาปากการโยธา | I48: 500000 | J48: ราคาต่ำสุด | K48: 186/2569 ลว 30 เม.ย.2569
A49: 43 | B49: จัดจ้างเหมายานพาหนะรับ-ส่งเด็กเล็กตามโครงการสงเคราะห์ ประจำเดือนพฤษภาคม 2569 | C49: 12000 | D49: 12000 | E49: เฉพาะเจาะจง | F49: นางสาวธัญวรินทร์ สารโภคา | G49: 12000 | H49: นางสาวธัญวรินทร์ สารโภคา | I49: 12000 | J49: ราคาต่ำสุด | K49: 187/2569 ลว 30 เม.ย.2569

Sheet สขร1-มีค69
K1: แบบ สขร. 1
A2: แบบสรุปผลการดำเนินการจัดซื้อจัดจ้างในรอบเดือน มีนาคม พ.ศ.2569
A3: องค์การบริหารส่วนตำบลกุตาไก้ อำเภอปลาปาก จังหวัดนครพนม
A4: วันที่ 31 มีนาคม พ.ศ. 2569
A5: ลำดับที่ | B5: งานที่จัดซื้อหรือจัดจ้าง | C5: วงเงินที่จะซื้อหรือจ้าง | D5: ราคากลาง | E5: วิธีซื้อหรือจ้าง | F5: รายชื่อผู้เสนอราคาและราคาที่เสนอ | H5: ผู้ได้รับการคัดเลือกและราคาที่ตกลงซื้อหรือจ้าง | J5: เหตุผลที่คัดเลือก | K5: เลขที่และวันที่ของสัญญา | L5: หมายเหตุ
C6: (บาท) | D6: (บาท) | F6: ผู้เสนอราคา | G6: ราคาที่เสนอ | H6: ผู้ได้รับการคัดเลือก | I6: ราคาที่ตกลงซื้อหรือจ้าง | J6: โดยสรุป | K6: หรือข้อตกลงในการซื้อหรือจ้าง
A7: 1 | B7: จัดซื้อน้ำดื่มประจำเดือนมีนาคม | C7: 4000 | D7: 4,000.00 | E7: เฉพาะเจาะจง/ ดำเนินการตาม ว119 | F7: ร้านภูไท | G7: 4000 | H7: ร้านภูไท | I7: 4000 | J7: ตาม ว119/ราคาต่ำสุด | K7: 2-มี.ค.-2569 | L7: ไม่ลง eGp ตาม ว322
A8: 2 | B8: จัดซื้อวัสดุคอมพิวเตอร์ | C8: 2670 | D8: 2670 | E8: เฉพาะเจาะจง | F8: ร้านปริญญาการพิมพ์ | G8: 2670 | H8: ร้านปริญญาการพิมพ์ | I8: 2670 | J8: ราคาต่ำสุด | K8: 135/2569 ลว 2 มี.ค.2569 | L8: ไม่ลง eGp ตาม ว322
A9: 3 | B9: จัดซื้อวัสดุน้ำมันเชื้อเพลิงและหล่อลื่น ทะเบียน กข 2971 นครพนม | C9: 2000 | D9: 2000 | E9: เฉพาะเจาะจง/ตาม แนวทางการจัดซื้อน้ำมันเชื้อเพลิงของหน่วยงานของรัฐ | F9: หจก.พนมบริการ | G9: 2000 | H9: หจก.พนมบริการ | I9: 2000 | J9: จัดซื้อน้ำมันเชื้อเพลิง ตามแนวทางการจัดซื้อน้ำมันเชื้อเพลิงของหน่วยงานของรัฐ ผู้ค้าให้เครดิต | K9: 5-มี.ค.-2569 | L9: ไม่ลง eGp ตาม ว322
A10: 4 | B10: จัดจ้างซ่อมระบบไฟฟ้า(ศพด.) | C10: 46960 | D10: 46960 | E10: เฉพาะเจาะจง | F10: นายวิทยา ระพันธ์คำ | G10: 46960 | H10: นายวิทยา ระพันธ์คำ | I10: 46960 | J10: ราคาต่ำสุด | K10: 136/2569 ลว 6 มี.ค.2569
A11: 5 | B11: จัดจ้างซ่อมรถบรรทุกขยะ | C11: 21238.43 | D11: 21238.43 | E11: เฉพาะเจาะจง | F11: หจก.เจริญศรีเซลล์ | G11: 21238.43 | H11: หจก.เจริญศรีเซลล์ | I11: 21238.43 | J11: ราคาต่ำสุด | K11: 137/2569 ลว 9 มี.ค.2569
A12: 6 | B12: จัดซื้อชุดกีฬา | C12: 39600 | D12: 39600 | E12: เฉพาะเจาะจง | F12: ประทุมมาสปอร์ต | G12: 39600 | H12: ประทุมมาสปอร์ต | I12: 39600 | J12: ราคาต่ำสุด | K12: 138/2569 ลว 9 มี.ค.2569
A13: 7 | B13: จัดซื้อวัสดุน้ำมันเชื้อเพลิงและหล่อลื่น ทะเบียน บจ 7439 นครพนม | C13: 2500 | D13: 2500 | E13: เฉพาะเจาะจง/ตาม แนวทางการจัดซื้อน้ำมันเชื้อเพลิงของหน่วยงานของรัฐ | F13: หจก.พนมบริการ | G13: 2500 | H13: หจก.พนมบริการ | I13: 2500 | J13: จัดซื้อน้ำมันเชื้อเพลิง ตามแนวทางการจัดซื้อน้ำมันเชื้อเพลิงของหน่วยงานของรัฐ ผู้ค้าให้เครดิต | K13: 9-มี.ค.-2569 | L13: ไม่ลง eGp ตาม ว322
A14: 8 | B14: จัดซื้อวัสดุน้ำมันเชื้อเพลิงและหล่อลื่น ทะเบียน กง 1621 นครพนม | C14: 2000 | D14: 2000 | E14: เฉพาะเจาะจง/ตาม แนวทางการจัดซื้อน้ำมันเชื้อเพลิงของหน่วยงานของรัฐ | F14: หจก.พนมบริการ | G14: 2000 | H14: หจก.พนมบริการ | I14: 2000 | J14: จัดซื้อน้ำมันเชื้อเพลิง ตามแนวทางการจัดซื้อน้ำมันเชื้อเพลิงของหน่วยงานของรัฐ ผู้ค้าให้เครดิต | K14: 9-มี.ค.-2569 | L14: ไม่ลง eGp ตาม ว322
A15: 9 | B15: จัดซื้อวัสดุน้ำมันเชื้อเพลิงและหล่อลื่นรถบรรทุกขยะ ทะเบียน 80-8595 นครพนม | C15: 4500 | D15: 4500 | E15: เฉพาะเจาะจง/ตาม แนวทางการจัดซื้อน้ำมันเชื้อเพลิงของหน่วยงานของรัฐ | F15: หจก.พนมบริการ | G15: 4500 | H15: หจก.พนมบริการ | I15: 4500 | J15: จัดซื้อน้ำมันเชื้อเพลิง ตามแนวทางการจัดซื้อน้ำมันเชื้อเพลิงของหน่วยงานของรัฐ ผู้ค้าให้เครดิต | K15: 9-มี.ค.-2569 | L15: ไม่ลง eGp ตาม ว322
A16: 10 | B16: ซ่อมรถกู้ชีพ | C16: 21750 | D16: 21750 | E16: เฉพาะเจาะจง | F16: หจก.สยามการยาง | G16: 21750 | H16: หจก.สยามการยาง | I16: 21750 | J16: ราคาต่ำสุด | K16: 139/2569 ลว 11 มี.ค.2569
A17: 11 | B17: จัดซื้อวัสดุน้ำมันเชื้อเพลิงและหล่อลื่นรถกระเช้า ทะเบียน 80-8462 นครพนม | C17: 3000 | D17: 3000 | E17: เฉพาะเจาะจง/ตาม แนวทางการจัดซื้อน้ำมันเชื้อเพลิงของหน่วยงานของรัฐ | F17: หจก.พนมบริการ | G17: 3000 | H17: หจก.พนมบริการ | I17: 3000 | J17: จัดซื้อน้ำมันเชื้อเพลิง ตามแนวทางการจัดซื้อน้ำมันเชื้อเพลิงของหน่วยงานของรัฐ ผู้ค้าให้เครดิต | K17: 11-มี.ค.-2569 | L17: ไม่ลง eGp ตาม ว322
A18: 12 | B18: จัดซื้อวัสดุน้ำมันเชื้อเพลิงและหล่อลื่น ทะเบียน กจ 7003 นครพนม | C18: 2500 | D18: 2500 | E18: เฉพาะเจาะจง/ตาม แนวทางการจัดซื้อน้ำมันเชื้อเพลิงของหน่วยงานของรัฐ | F18: หจก.พนมบริการ | G18: 2500 | H18: หจก.พนมบริการ | I18: 2500 | J18: จัดซื้อน้ำมันเชื้อเพลิง ตามแนวทางการจัดซื้อน้ำมันเชื้อเพลิงของหน่วยงานของรัฐ ผู้ค้าให้เครดิต | K18: 11-มี.ค.-2569 | L18: ไม่ลง eGp ตาม ว322
A19: 13 | B19: จัดจ้างซ่อมแซมเครื่องคอมพิวเตอร์ตั้งโต๊ะแบบประมวลผล รหัสครุภัณฑ์ 416-58-002 | C19: 950 | D19: 950 | E19: เฉพาะเจาะจง | F19: หจก.กวงเชียง(2537) | G19: 950 | H19: หจก.กวงเชียง(2537) | I19: 950 | J19: ราคาต่ำสุด | K19: 140/2569 ลว 12 มี.ค.2569 | L19: ไม่ลง eGp ตาม ว322
A20: 14 | B20: จัดซื้อวัสดุสำนักงาน (กองคลัง) | C20: 14000 | D20: 14000 | E20: เฉพาะเจาะจง | F20: ร้านปริญญาการพิมพ์ | G20: 14000 | H20: ร้านปริญญาการพิมพ์ | I20: 14000 | J20: ราคาต่ำสุด | K20: 141/2569 ลว 12 มี.ค.2569
A21: 15 | B21: จัดจ้างวัสดุโฆษณาและเผยแพร่ (ป้ายไวนิลประชาสัมพันธ์แผนพัฒนาท้องถิ่น ฉบับที่ 3 (พ.ศ.2571-2575) ของอบต.กุตาไก้ | C21: 1800 | D21: 1800 | E21: เฉพาะเจาะจง | F21: ร้านปลาปากอิงค์เจ็ท | G21: 1800 | H21: ร้านปลาปากอิงค์เจ็ท | I21: 1800 | J21: ราคาต่ำสุด | K21: 142/2569 ลว 17 มี.ค.2569 | L21: ไม่ลง eGp ตาม ว322
A22: 16 | B22: ซ่อมรถบรรทุกน้ำ | C22: 6841.58 | D22: 6841.58 | E22: เฉพาะเจาะจง | F22: หจก.เจริญศรีเซลล์ | G22: 6841.58 | H22: หจก.เจริญศรีเซลล์ | I22: 6841.58 | J22: ราคาต่ำสุด | K22: 143/2569 ลว 17 มี.ค.2569
A23: 17 | B23: จัดซื้อวัสดุน้ำมันเชื้อเพลิงและหล่อลื่น ทะเบียน กง 1621 นครพนม | C23: 2000 | D23: 2000 | E23: เฉพาะเจาะจง/ตาม แนวทางการจัดซื้อน้ำมันเชื้อเพลิงของหน่วยงานของรัฐ | F23: หจก.พนมบริการ | G23: 2000 | H23: หจก.พนมบริการ | I23: 2000 | J23: จัดซื้อน้ำมันเชื้อเพลิง ตามแนวทางการจัดซื้อน้ำมันเชื้อเพลิงของหน่วยงานของรัฐ ผู้ค้าให้เครดิต | K23: 17-มี.ค.-2569 | L23: ไม่ลง eGp ตาม ว322
A24: 18 | B24: จัดซื้อวัสดุน้ำมันเชื้อเพลิงและหล่อลื่นรถบรรทุกขยะ ทะเบียน 80-8595 นครพนม | C24: 4500 | D24: 4500 | E24: เฉพาะเจาะจง/ตาม แนวทางการจัดซื้อน้ำมันเชื้อเพลิงของหน่วยงานของรัฐ | F24: หจก.พนมบริการ | G24: 4500 | H24: หจก.พนมบริการ | I24: 4500 | J24: จัดซื้อน้ำมันเชื้อเพลิง ตามแนวทางการจัดซื้อน้ำมันเชื้อเพลิงของหน่วยงานของรัฐ ผู้ค้าให้เครดิต | K24: 17-มี.ค.-2569 | L24: ไม่ลง eGp ตาม ว322
A25: 19 | B25: จัดซื้อวัสดุน้ำมันเชื้อเพลิงและหล่อลื่นรถบรรทุกน้ำ ทะเบียน 81-1331 นครพนม | C25: 4000 | D25: 4000 | E25: เฉพาะเจาะจง/ตาม แนวทางการจัดซื้อน้ำมันเชื้อเพลิงของหน่วยงานของรัฐ | F25: หจก.พนมบริการ | G25: 4000 | H25: หจก.พนมบริการ | I25: 4000 | J25: จัดซื้อน้ำมันเชื้อเพลิง ตามแนวทางการจัดซื้อน้ำมันเชื้อเพลิงของหน่วยงานของรัฐ ผู้ค้าให้เครดิต | K25: 17-มี.ค.-2569 | L25: ไม่ลง eGp ตาม ว322
A26: 20 | B26: จัดซื้อวัสดุน้ำมันเชื้อเพลิงและหล่อลื่น ทะเบียน บจ 7439 นครพนม (รถกู้ชีพกู้ภัย) | C26: 2500 | D26: 2500 | E26: เฉพาะเจาะจง/ตาม แนวทางการจัดซื้อน้ำมันเชื้อเพลิงของหน่วยงานของรัฐ | F26: หจก.พนมบริการ | G26: 2500 | H26: หจก.พนมบริการ | I26: 2500 | J26: จัดซื้อน้ำมันเชื้อเพลิง ตามแนวทางการจัดซื้อน้ำมันเชื้อเพลิงของหน่วยงานของรัฐ ผู้ค้าให้เครดิต | K26: 17-มี.ค.-2569 | L26: ไม่ลง eGp ตาม ว322
A27: 21 | B27: จัดซื้อวัสดุน้ำมันเชื้อเพลิงและหล่อลื่น ทะเบียน กจ 1745 นครพนม | C27: 2500 | D27: 2500 | E27: เฉพาะเจาะจง/ตาม แนวทางการจัดซื้อน้ำมันเชื้อเพลิงของหน่วยงานของรัฐ | F27: หจก.พนมบริการ | G27: 2500 | H27: หจก.พนมบริการ | I27: 2500 | J27: จัดซื้อน้ำมันเชื้อเพลิง ตามแนวทางการจัดซื้อน้ำมันเชื้อเพลิงของหน่วยงานของรัฐ ผู้ค้าให้เครดิต | K27: 17-มี.ค.-2569 | L27: ไม่ลง eGp ตาม ว322
A28: 22 | B28: จัดซื้อลำโพง ขนาด 15 นิ้ว | C28: 1680 | D28: 1680 | E28: เฉพาะเจาะจง | F28: ร้าน ป.วัชรา | G28: 1680 | H28: ร้าน ป.วัชรา | I28: 1680 | J28: ราคาต่ำสุด | K28: 144/2569 ลว 19 มี.ค.2569 | L28: ไม่ลง eGp ตาม ว322
A29: 23 | B29: จัดซื้อสวัสดุไฟฟ้า | C29: 13020 | D29: 13020 | E29: เฉพาะเจาะจง | F29: ร้าน ป.วัชรา | G29: 13020 | H29: ร้าน ป.วัชรา | I29: 13020 | J29: ราคาต่ำสุด | K29: 145/2569 ลว 20 มี.ค.2569
A30: 24 | B30: จัดซื้อป้ายอะคลีลิคและตรายาง | C30: 11060 | D30: 11060 | E30: เฉพาะเจาะจง | F30: ร้านปริญญาการพิมพ์ | G30: 11060 | H30: ร้านปริญญาการพิมพ์ | I30: 11060 | J30: ราคาต่ำสุด | K30: 146/2569 ลว 20 มี.ค.2569
A31: 25 | B31: จัดซื้อวัสดุน้ำมันเชื้อเพลิงและหล่อลื่น ทะเบียน กง 1621 นครพนม | C31: 2000 | D31: 2000 | E31: เฉพาะเจาะจง/ตาม แนวทางการจัดซื้อน้ำมันเชื้อเพลิงของหน่วยงานของรัฐ | F31: หจก.พนมบริการ | G31: 2000 | H31: หจก.พนมบริการ | I31: 2000 | J31: จัดซื้อน้ำมันเชื้อเพลิง ตามแนวทางการจัดซื้อน้ำมันเชื้อเพลิงของหน่วยงานของรัฐ ผู้ค้าให้เครดิต | K31: 23-มี.ค.-2569 | L31: ไม่ลง eGp ตาม ว322
A32: 26 | B32: จ้างโครงการศึกษาวิจัยการประเมินความพึงพอใจของประชาชนที่มีต่อคุณภาพฯ อปท.ประจำปี 2569 | C32: 15000 | D32: 15000 | E32: เฉพาะเจาะจง | F32: มหาวิทยาลัยนครพนม | G32: 15000 | H32: อธิบการบดีมหาวิทยาลัยนครพนม | I32: 15000 | J32: ราคาต่ำสุด | K32: นพ 79004/239 ลว 23 มี.ค.2569
A33: 27 | B33: ซ่อมแซมถนนนลูกรัง | C33: 219300 | D33: 219300 | E33: เฉพาะเจาะจง | F33: หจก.เดชผล เจริญทรัพย์ | G33: 219300 | H33: หจก.เดชผล เจริญทรัพย์ | I33: 219300 | J33: ราคาต่ำสุด | K33: 147/2569 ลว 24 มี.ค.2569
A34: 28 | B34: ซ่อมแซมระบบประปา ม.8 | C34: 44750 | D34: 44750 | E34: เฉพาะเจาะจง | F34: ร้าน ป.วัชรา | G34: 44750 | H34: ร้าน ป.วัชรา | I34: 44750 | J34: ราคาต่ำสุด | K34: 148/2569 ลว 24 มี.ค.2569
A35: 29 | B35: จัดซื้อครุภัณฑ์สำนักปลัด | C35: 50500 | D35: 50500 | E35: เฉพาะเจาะจง | F35: หจก.กวงเชียง(2537) | G35: 50500 | H35: หจก.กวงเชียง(2537) | I35: 50500 | J35: ราคาต่ำสุด | K35: 149/2569 ลว 24 มี.ค.2569
A36: 30 | B36: จัดซื้ออาหารเสริมนมให้แก่เด็กเล็กเด็กนักเรียนในสังกัดองค์การบริหารฯ จำนวน 4 แห่ง | C36: 54503.55 | D36: 54503.55 | E36: เฉพาะเจาะจง/ตามหลักเกณฑ์ฯ อสค. | F36: บริษัท แมรี่แอนแดรี่โปรดักส์ | G36: 54503.55 | H36: บริษัท แมรี่แอนแดรี่โปรดักส์ | I36: 54503.55 | J36: ราคาต่ำสุด/ตามหลักเกณฑ์ฯ อสค. | K36: 150/2569 ลว 27 มี.ค.2569
A37: 31 | B37: จัดซื้ออาหารเสริมนมให้แก่เด็กนักเรียนในโรงเรียนในสังกัดคณะกรรมการศึกษาขั้นพื้นฐาน (สพฐ) 6 แห่ง | C37: 229610.7 | D37: 229610.7 | E37: เฉพาะเจาะจง/ตามหลักเกณฑ์ฯ อสค. | F37: บริษัท แมรี่แอนแดรี่โปรดักส์ | G37: 229610.7 | H37: บริษัท แมรี่แอนแดรี่โปรดักส์ | I37: 229610.7 | J37: ราคาต่ำสุด/ตามหลักเกณฑ์ฯ อสค. | K37: 151/2569 ลว 27 มี.ค.2569
A38: 32 | B38: จัดซื้อวัสดุงานบ้านงานครัวสำนักปลัด | C38: 7800 | D38: 7800 | E38: เฉพาะเจาะจง | F38: วีระซัฟฟลาย | G38: 7800 | H38: วีระซัฟฟลาย | I38: 7800 | J38: ราคาต่ำสุด | K38: 152/2569 ลว 27 มี.ค.2569
A39: 33 | B39: จัดจ้างทำตรายางกองคลัง | C39: 820 | D39: 820 | E39: เฉพาะเจาะจง | F39: ร้านปริญญาการพิมพ์ | G39: 820 | H39: ร้านปริญญาการพิมพ์ | I39: 820 | J39: ราคาต่ำสุด | K39: 153/2569 ลว 31 มี.ค.2569 | L39: ไม่ลง eGp ตาม ว322
A40: 34 | B40: จัดจ้างสำรวจสุนัขและแมวที่มีเจ้าของและไม่มีเจ้าของอายุ 2 เดือนขึ้นไป ระหว่างเดือนพฤศจิกายน 2568-เดือนมีนาคม 2569 หมู่ที่ 1-12 ตำบลกุตาไก้ อำเภอปลาปาก จังหวัดนครพนม | C40: 4674 | D40: 4674 | E40: เฉพาะเจาะจง | F40: นายประทีบ นันชนะ | G40: 4674 | H40: นายประทีบ นันชนะ | I40: 4674 | J40: ราคาต่ำสุด | K40: 154/2569 ลว 31 มี.ค.2569 | L40: ไม่ลง eGp ตาม ว322
A41: 35 | B41: จัดจ้างเหมายานพาหนะรับ-ส่งเด็กเล็กตามโครงการสงเคราะห์ ประจำเดือนเมษายน 2569 | C41: 12000 | D41: 12000 | E41: เฉพาะเจาะจง | F41: นางสาวธัญวรินทร์ สารโภคา | G41: 12000 | H41: นางสาวธัญวรินทร์ สารโภคา | I41: 12000 | J41: ราคาต่ำสุด | K41: 155/2569 ลว 31 มี.ค.2569
A42: 36 | B42: จัดซื้อวัสดุก่อสร้าง (กองช่าง) | C42: 9642 | D42: 9642 | E42: เฉพาะเจาะจง | F42: ร้าน ป.วัชรา | G42: 9642 | H42: ร้าน ป.วัชรา | I42: 9642 | J42: ราคาต่ำสุด | K42: 156/2569 ลว 31 มี.ค.2569

Sheet สขร1-กพ69
K1: แบบ สขร. 1
A2: แบบสรุปผลการดำเนินการจัดซื้อจัดจ้างในรอบเดือน กุมภาพันธ์ พ.ศ.2569
A3: องค์การบริหารส่วนตำบลกุตาไก้ อำเภอปลาปาก จังหวัดนครพนม
A4: วันที่ 28 กุมภาพันธ์ พ.ศ. 2569
A5: ลำดับที่ | B5: งานที่จัดซื้อหรือจัดจ้าง | C5: วงเงินที่จะซื้อหรือจ้าง | D5: ราคากลาง | E5: วิธีซื้อหรือจ้าง | F5: รายชื่อผู้เสนอราคาและราคาที่เสนอ | H5: ผู้ได้รับการคัดเลือกและราคาที่ตกลงซื้อหรือจ้าง | J5: เหตุผลที่คัดเลือก | K5: เลขที่และวันที่ของสัญญา | L5: หมายเหตุ
C6: (บาท) | D6: (บาท) | F6: ผู้เสนอราคา | G6: ราคาที่เสนอ | H6: ผู้ได้รับการคัดเลือก | I6: ราคาที่ตกลงซื้อหรือจ้าง | J6: โดยสรุป | K6: หรือข้อตกลงในการซื้อหรือจ้าง
A7: 1 | B7: จัดซื้อน้ำดื่มประจำเดือนกุมภาพันธ์ 2569 | C7: 4000 | D7: 4000 | E7: เฉพาะเจาะจง/ ดำเนินการตาม ว119 | F7: ร้านภูไท | G7: 4000 | H7: ร้านภูไท | I7: 4000 | J7: ตาม ว119/ราคาต่ำสุด | K7: 2-ก.พ.-2569 | L7: ไม่ลง eGp ตาม ว322
A8: 2 | B8: จัดจ้างซ่อมแซมรถยนต์ส่วนกลาง(รถกู้ชีพคันเก่า)ทะเบียน บจ.7439 นครพนม | C8: 2800 | D8: 2800 | E8: เฉพาะเจาะจง | F8: หจก.สยามการยางออโต้เซอร์วิส | G8: 2800 | H8: หจก.สยามการยางออโต้เซอร์วิส | I8: 2800 | J8: ราคาต่ำสุด | K8: 117/2569 ลว 3 ก.พ.2569 | L8: ไม่ลง eGp ตาม ว322
A9: 3 | B9: จัดซื้อวัสดุน้ำมันเชื้อเพลิงและหล่อลื่นรถยนต์ส่วนกลาง กจ 1745 นครพนม | C9: 2500 | D9: 2500 | E9: เฉพาะเจาะจง/ตาม แนวทางการจัดซื้อน้ำมันเชื้อเพลิงของหน่วยงานของรัฐ | F9: หจก.พนมบริการ | G9: 2500 | H9: หจก.พนมบริการ | I9: 2500 | J9: ราคาต่ำสุด | K9: 3-ก.พ.-2569
A10: 4 | B10: จัดซื้อวัสดุน้ำมันเชื้อเพลิงและหล่อลื่นรถกระเช้า 80-8462 นครพนม | C10: 3000 | D10: 3000 | E10: เฉพาะเจาะจง/ตาม แนวทางการจัดซื้อน้ำมันเชื้อเพลิงของหน่วยงานของรัฐ | F10: หจก.พนมบริการ | G10: 3000 | H10: หจก.พนมบริการ | I10: 3000 | J10: ราคาต่ำสุด | K10: 3-ก.พ.-2569
A11: 5 | B11: จัดจ้างก่อสร้างถนนลูกรังเข้าพื้นที่การเกษร ม.8 บ้านนาดอกไม้ สายทางนานนายประดิษฐิ์ เรณู-ห้วยวังดินจากฯ | C11: 264700 | D11: 264727.79 | E11: เฉพาะเจาะจง | F11: หจก.ปลาปากการโยธา | G11: 264700 | H11: หจก.ปลาปากการโยธา | I11: 264700 | J11: ราคาต่ำสุด | K11: 118/2569 ลว 4 ก.พ.2569
A12: 6 | B12: จัดจ้างโครงการปรับปรุงถนนลูกรัง ม.11 บ้านนาดอกไม้ สายทางบ้านนายสุทิน เชียงชุมฯ | C12: 95000 | D12: 105456.27 | E12: เฉพาะเจาะจง | F12: หจก.ปลาปากการโยธา | G12: 95000 | H12: หจก.ปลาปากการโยธา | I12: 95000 | J12: ราคาต่ำสุด | K12: 119/2569 ลว 4 ก.พ.2569
A13: 7 | B13: จัดจ้างโครงการก่อสร้างถนนลูกรังเข้าพื้นที่การเกษร หมู่ที่ 9 บ้านโคกสะอาด สายทางนานายประทวน นันชนะ-นานางแพรทิพย์ ขุนสว่างฯ | C13: 100700 | D13: 100792.56 | E13: เฉพาะเจาะจง | F13: หจก.ปลาปากการโยธา | G13: 100700 | H13: หจก.ปลาปากการโยธา | I13: 100700 | J13: ราคาต่ำสุด | K13: 120/2569 ลว 4 ก.พ.2569
A14: 8 | B14: จัดจ้างปรับปรุงถนนลูกรังเข้าพื้นที่การเกษร หมู่ที่ 1 บ้านางาม สายทางบ้านนายบัลลังก์ วารี-บ้านนายคาย น้อยชาลีฯ | C14: 36800 | D14: 36857.46 | E14: เฉพาะเจาะจง | F14: หจก.ปลาปากการโยธา | G14: 36800 | H14: หจก.ปลาปากการโยธา | I14: 36800 | J14: ราคาต่ำสุด | K14: 121/2569 ลว 4 ก.พ.2569
A15: 9 | B15: จัดจ้างซ่อมรถ กข 2971 นครพนม | C15: 7200 | D15: 7200 | E15: เฉพาะเจาะจง | F15: เอ็นเคพี คาร์แคร์ | G15: 7200 | H15: เอ็นเคพี คาร์แคร์ | I15: 7200 | J15: ราคาต่ำสุด | K15: 122/2569 ลว 6 ก.พ.2569
A16: 10 | B16: จัดจ้างทำป้าย ตามโครงการปรับสภาพแวดล้อมและสิ่งอำนวยความสะดวกของผู้สูงอายุให้เหมาะสมและปลอดภัย ปีงบประมาณ พ.ศ. 2569 | C16: 400 | D16: 400 | E16: เฉพาะเจาะจง | F16: ร้านปลาปากอิงเจ็ค | G16: 400 | H16: ร้านปลาปากอิงเจ็ค | I16: 400 | J16: ราคาต่ำสุด | K16: 123/2569 ลว 10 ก.พ.2569
A17: 11 | B17: จัดซื้อวัสดุน้ำมันเชื้อเพลิงและหล่อลื่นรถบรรทุกขยะ ทะเบียน 80-8595 นครพนม | C17: 4500 | D17: 4500 | E17: เฉพาะเจาะจง/ตาม แนวทางการจัดซื้อน้ำมันเชื้อเพลิงของหน่วยงานของรัฐ | F17: หจก.พนมบริการ | G17: 4500 | H17: หจก.พนมบริการ | I17: 4500 | J17: จัดซื้อน้ำมันเชื้อเพลิง ตามแนวทางการจัดซื้อน้ำมันเชื้อเพลิงของหน่วยงานของรัฐ ผู้ค้าให้เครดิต | K17: 10-ก.พ.-2569 | L17: ไม่ลง eGp ตาม ว322
A18: 12 | B18: จัดซื้อวัสดุน้ำมันเชื้อเพลิงและหล่อลื่น ทะเบียน กง 1621 นครพนม | C18: 2000 | D18: 2000 | E18: เฉพาะเจาะจง/ตาม แนวทางการจัดซื้อน้ำมันเชื้อเพลิงของหน่วยงานของรัฐ | F18: หจก.พนมบริการ | G18: 2000 | H18: หจก.พนมบริการ | I18: 2000 | J18: จัดซื้อน้ำมันเชื้อเพลิง ตามแนวทางการจัดซื้อน้ำมันเชื้อเพลิงของหน่วยงานของรัฐ ผู้ค้าให้เครดิต | K18: 11-ก.พ.-2569 | L18: ไม่ลง eGp ตาม ว322
A19: 13 | B19: จัดซื้อวัสดุน้ำมันเชื้อเพลิงและหล่อลื่นรถยนต์ส่วนกลาง ทะเบียน กจ 7003 นครพนม | C19: 2500 | D19: 2500 | E19: เฉพาะเจาะจง/ตาม แนวทางการจัดซื้อน้ำมันเชื้อเพลิงของหน่วยงานของรัฐ | F19: หจก.พนมบริการ | G19: 2500 | H19: หจก.พนมบริการ | I19: 2500 | J19: จัดซื้อน้ำมันเชื้อเพลิง ตามแนวทางการจัดซื้อน้ำมันเชื้อเพลิงของหน่วยงานของรัฐ ผู้ค้าให้เครดิต | K19: 16-ก.พ.-2569 | L19: ไม่ลง eGp ตาม ว322
A20: 14 | B20: จัดซื้อวัสดุน้ำมันเชื้อเพลิงและหล่อลื่นรถบรรทุกน้ำ ทะเบียน 80-5635 นครพนม | C20: 3000 | D20: 3000 | E20: เฉพาะเจาะจง/ตาม แนวทางการจัดซื้อน้ำมันเชื้อเพลิงของหน่วยงานของรัฐ | F20: หจก.พนมบริการ | G20: 3000 | H20: หจก.พนมบริการ | I20: 3000 | J20: จัดซื้อน้ำมันเชื้อเพลิง ตามแนวทางการจัดซื้อน้ำมันเชื้อเพลิงของหน่วยงานของรัฐ ผู้ค้าให้เครดิต | K20: 16-ก.พ.-2569 | L20: ไม่ลง eGp ตาม ว322
A21: 15 | B21: จัดซื้อวัสดุน้ำมันเชื้อเพลิงและหล่อลื่นรถยนต์ส่วนกลาง ทะเบียน กจ 1745 นครพนม | C21: 2500 | D21: 2500 | E21: เฉพาะเจาะจง/ตาม แนวทางการจัดซื้อน้ำมันเชื้อเพลิงของหน่วยงานของรัฐ | F21: หจก.พนมบริการ | G21: 2500 | H21: หจก.พนมบริการ | I21: 2500 | J21: จัดซื้อน้ำมันเชื้อเพลิง ตามแนวทางการจัดซื้อน้ำมันเชื้อเพลิงของหน่วยงานของรัฐ ผู้ค้าให้เครดิต | K21: 16-ก.พ.-2569 | L21: ไม่ลง eGp ตาม ว322
A22: 16 | B22: จัดซื้อวัสดุน้ำมันเชื้อเพลิงและหล่อลื่น ทะเบียน กง 1621 นครพนม | C22: 2000 | D22: 2000 | E22: เฉพาะเจาะจง/ตาม แนวทางการจัดซื้อน้ำมันเชื้อเพลิงของหน่วยงานของรัฐ | F22: หจก.พนมบริการ | G22: 2000 | H22: หจก.พนมบริการ | I22: 2000 | J22: จัดซื้อน้ำมันเชื้อเพลิง ตามแนวทางการจัดซื้อน้ำมันเชื้อเพลิงของหน่วยงานของรัฐ ผู้ค้าให้เครดิต | K22: 17-ก.พ.-2569 | L22: ไม่ลง eGp ตาม ว322
A23: 17 | B23: โครงการปรับสภาพแวดล้อมผู้สูงอายุ ปีงบประมาณ 2569 นางแหวน ชัยมารถ | C23: 40000 | D23: 40000 | E23: เฉพาะเจาะจง | F23: ร้านเพิ่มพลูคูณยั่งยืน | G23: 40000 | H23: ร้านเพิ่มพลูคูณยั่งยืน | I23: 40000 | J23: ราคาต่ำสุด | K23: 124/2569 ลว 17 ก.พ.2569
A24: 18 | B24: โครงการปรับสภาพแวดล้อมผู้สูงอายุ ปีงบประมาณ 2569 นายปุน นันชนะ | C24: 40000 | D24: 40000 | E24: เฉพาะเจาะจง | F24: ร้านเพิ่มพลูคูณยั่งยืน | G24: 40000 | H24: ร้านเพิ่มพลูคูณยั่งยืน | I24: 40000 | J24: ราคาต่ำสุด | K24: 125/2569 ลว 17 ก.พ.2569
A25: 19 | B25: โครงการปรับสภาพแวดล้อมผู้สูงอายุ ปีงบประมาณ 2569 นายบรรจง ผาผาง | C25: 39600 | D25: 39600 | E25: เฉพาะเจาะจง | F25: ร้านเพิ่มพลูคูณยั่งยืน | G25: 39600 | H25: ร้านเพิ่มพลูคูณยั่งยืน | I25: 39600 | J25: ราคาต่ำสุด | K25: 126/2569 ลว 17 ก.พ.2569
A26: 20 | B26: จัดซื้อวัสดุวิทยาศาสตร์หรือการแพทย์ | C26: 2880 | D26: 2880 | E26: เฉพาะเจาะจง | F26: ร้านทีเคเมดิคอน | G26: 2880 | H26: ร้านทีเคเมดิคอน | I26: 2880 | J26: ราคาต่ำสุด | K26: 127/2569 ลว 17 ก.พ.2569
A27: 21 | B27: จัดซื้อกระดาษ (กองคลัง) | C27: 10875 | D27: 10875 | E27: เฉพาะเจาะจง | F27: ร้านสาม อ. เทคนิค | G27: 10875 | H27: ร้านสาม อ. เทคนิค | I27: 10875 | J27: ราคาต่ำสุด | K27: 128/2569 ลว 20 ก.พ.2569
A28: 22 | B28: จัดซื้อวัสดุงานบ้านงานครัว | C28: 20565 | D28: 20565 | E28: เฉพาะเจาะจง | F28: ร้านเอกศิริพาณิชย์ | G28: 20565 | H28: ร้านเอกศิริพาณิชย์ | I28: 20565 | J28: ราคาต่ำสุด | K28: 129/2569 ลว 20 ก.พ.2569
A29: 23 | B29: จัดจ้างทำป้ายไวนิล ศูนย์ช่วยเหลือประชาชนองค์การบริหารส่วนตำบลกุตาไก้ | C29: 540 | D29: 540 | E29: เฉพาะเจาะจง | F29: ร้านปลาปากอิงค์เจ็ท | G29: 540 | H29: ร้านปลาปากอิงค์เจ็ท | I29: 540 | J29: ราคาต่ำสุด | K29: 130/2569 ลว 23 ก.พ.2569
A30: 24 | B30: จัดซื้อวัสดุน้ำมันเชื้อเพลิงและหล่อลื่นรถบรรทุกขยะ ทะเบียน 80-8595 นครพนม | C30: 4500 | D30: 4500 | E30: เฉพาะเจาะจง | F30: หจก.พนมบริการ | G30: 4500 | H30: หจก.พนมบริการ | I30: 4500 | J30: จัดซื้อน้ำมันเชื้อเพลิง ตามแนวทางการจัดซื้อน้ำมันเชื้อเพลิงของหน่วยงานของรัฐ ผู้ค้าให้เครดิต | K30: 24-ก.พ.-2569 | L30: ไม่ลง eGp ตาม ว322
A31: 25 | B31: จัดซื้อรถจักยานขาไถ 25 ชุด | C31: 30000 | D31: 30000 | E31: เฉพาะเจาะจง | F31: บริษัท นวภัทร สเตชั่นเนอรี่ จำกัด | G31: 30000 | H31: บริษัท นวภัทร สเตชั่นเนอรี่ จำกัด | I31: 30000 | J31: ราคาต่ำสุด | K31: 131/2569 ลว 24 ก.พ.2569
A32: 26 | B32: จัดซื้อวัสดุน้ำมันเชื้อเพลิงและหล่อลื่น ทะเบียน กง 1621 นครพนม | C32: 2000 | D32: 2000 | E32: เฉพาะเจาะจง/ตาม แนวทางการจัดซื้อน้ำมันเชื้อเพลิงของหน่วยงานของรัฐ | F32: หจก.พนมบริการ | G32: 2000 | H32: หจก.พนมบริการ | I32: 2000 | J32: จัดซื้อน้ำมันเชื้อเพลิง ตามแนวทางการจัดซื้อน้ำมันเชื้อเพลิงของหน่วยงานของรัฐ ผู้ค้าให้เครดิต | K32: 25-ก.พ.-2569 | L32: ไม่ลง eGp ตาม ว322
A33: 27 | B33: จัดซื้ออาหารเสริมนมให้แก่เด็กนักเรียนในโรงเรียนในสังกัดคณะกรรมการศึกษาขั้นพื้นฐาน (สพฐ) 6 แห่ง | C33: 107151.66 | D33: 107151.66 | E33: เฉพาะเจาะจง/ตามหลักเกณฑ์ฯ อสค. | F33: บริษัท แมรี่แอนแดรี่โปรดักส์ | G33: 107151.66 | H33: บริษัท แมรี่แอนแดรี่โปรดักส์ | I33: 107151.66 | J33: ราคาต่ำสุด/ตามหลักเกณฑ์ฯ อสค. | K33: 132/2569 ลว 27 ก.พ.2569
A34: 28 | B34: จัดจ้างซื้ออาหารเสริมนมให้แก่เด็กเล็กเด็กนักเรียนในสังกัดองค์การบริหารฯ (ศพด) จำนวน 4 แห่ง | C34: 25434.99 | D34: 25434.99 | E34: เฉพาะเจาะจง/ตามหลักเกณฑ์ฯ อสค. | F34: บริษัท แมรี่แอนแดรี่โปรดักส์ | G34: 25434.99 | H34: บริษัท แมรี่แอนแดรี่โปรดักส์ | I34: 25434.99 | J34: ราคาต่ำสุด/ตามหลักเกณฑ์ฯ อสค. | K34: 133/2569 ลว 27 ก.พ.2569
A35: 29 | B35: จัดจ้างเหมายานพาหนะรับ-ส่งเด็กเล็กตามโครงการสงเคราะห์ ประจำเดือนมีนาคม 2569 | C35: 12000 | D35: 12000 | E35: เฉพาะเจาะจง | F35: นางสาวธัญวรินทร์ สารโภคา | G35: 12000 | H35: นางสาวธัญวรินทร์ สารโภคา | I35: 12000 | J35: ราคาต่ำสุด | K35: 134/2569 ลว 27 ก.พ.2569

Sheet สขร1-มค69
K1: แบบ สขร. 1
A2: แบบสรุปผลการดำเนินการจัดซื้อจัดจ้างในรอบเดือน มกราคม พ.ศ.2569
A3: องค์การบริหารส่วนตำบลกุตาไก้ อำเภอปลาปาก จังหวัดนครพนม
A4: วันที่ 31 มกราคม พ.ศ. 2569
A5: ลำดับที่ | B5: งานที่จัดซื้อหรือจัดจ้าง | C5: วงเงินที่จะซื้อหรือจ้าง | D5: ราคากลาง | E5: วิธีซื้อหรือจ้าง | F5: รายชื่อผู้เสนอราคาและราคาที่เสนอ | H5: ผู้ได้รับการคัดเลือกและราคาที่ตกลงซื้อหรือจ้าง | J5: เหตุผลที่คัดเลือก | K5: เลขที่และวันที่ของสัญญา | L5: หมายเหตุ
C6: (บาท) | D6: (บาท) | F6: ผู้เสนอราคา | G6: ราคาที่เสนอ | H6: ผู้ได้รับการคัดเลือก | I6: ราคาที่ตกลงซื้อหรือจ้าง | J6: โดยสรุป | K6: หรือข้อตกลงในการซื้อหรือจ้าง
A7: 1 | B7: จัดซื้อน้ำดื่มประจำเดือนมกราคม 2569 | C7: 4000 | D7: 4000 | E7: เฉพาะเจาะจง/ ดำเนินการตาม ว119 | F7: ร้านภูไท | G7: 4000 | H7: ร้านภูไท | I7: 4000 | J7: ราคาต่ำสุด / ดำเนินการตาม ว119 | K7: 5-ม.ค.-2569 | L7: ไม่ลง eGp ตาม ว322
A8: 2 | B8: จัดซื้อวัสดุ-อุปกรณ์การจัดการเลือกตั้งสมาชิกสภาองค์การบริหารส่วนตำบลและนายกองค์การบริหารส่วนตำบลกุตาไก้ ประจำปีงบประมาณ 2569 | C8: 360 | D8: 360 | E8: เฉพาะเจาะจง | F8: ร้านปริญญาการพิมพ์ | G8: 360 | H8: ร้านปริญญาการพิมพ์ | I8: 360 | J8: ราคาต่ำสุด | K8: 102/2569 ลว 5 ม.ค.2569 | L8: ไม่ลง eGp ตาม ว322
A9: 3 | B9: จัดจ้างทำป้ายเลือกตั้ง | C9: 11332 | D9: 11332 | E9: เฉพาะเจาะจง | F9: ร้านปลาปากอิงค์เจ็ท | G9: 11332 | H9: ร้านปลาปากอิงค์เจ็ท | I9: 11332 | J9: ราคาต่ำสุด | K9: 103/2569 ลว 5 ม.ค.2569
A10: 4 | B10: จัดซื้อวัสดุสำนักงานกองการศึกษา | C10: 14775 | D10: 14775 | E10: เฉพาะเจาะจง | F10: ร้านปริญญาการพิมพ์ | G10: 14775 | H10: ร้านปริญญาการพิมพ์ | I10: 14775 | J10: ราคาต่ำสุด | K10: 104/2569 ลว 5 ม.ค.2569
A11: 5 | B11: จัดซื้อวัสดุน้ำมันเชื้อเพลิงและหล่อลื่น ทะเบียน กง 1621 นครพนม | C11: 2000 | D11: 2000 | E11: เฉพาะเจาะจง/ตาม แนวทางการจัดซื้อน้ำมันเชื้อเพลิงของหน่วยงานของรัฐ | F11: หจก.พนมบริการ | G11: 2000 | H11: หจก.พนมบริการ | I11: 2000 | J11: จัดซื้อน้ำมันเชื้อเพลิง ตามแนวทางการจัดซื้อน้ำมันเชื้อเพลิงของหน่วยงานของรัฐ ผู้ค้าให้เครดิต | K11: 9-ม.ค.-2569 | L11: ไม่ลง eGp ตาม ว322
A12: 6 | B12: จัดซื้อวัสดุงานบ้านงานครัว | C12: 1170 | D12: 1170 | E12: เฉพาะเจาะจง | F12: ร้านเอกศิริพาณิชย์ | G12: 1170 | H12: ร้านเอกศิริพาณิชย์ | I12: 1170 | J12: ราคาต่ำสุด | K12: 105/2569 ลว 9 ม.ค.2569 | L12: ไม่ลง eGp ตาม ว322
A13: 7 | B13: จัดซื้อวัสดุน้ำมันเชื้อเพลิงและหล่อลื่น ทะเบียน บจ 7439 นครพนม (รถกู้ชีพกู้ภัย) | C13: 2500 | D13: 2500 | E13: เฉพาะเจาะจง/ตาม แนวทางการจัดซื้อน้ำมันเชื้อเพลิงของหน่วยงานของรัฐ | F13: หจก.พนมบริการ | G13: 2500 | H13: หจก.พนมบริการ | I13: 2500 | J13: จัดซื้อน้ำมันเชื้อเพลิง ตามแนวทางการจัดซื้อน้ำมันเชื้อเพลิงของหน่วยงานของรัฐ ผู้ค้าให้เครดิต | K13: 12-ม.ค.-2569 | L13: ไม่ลง eGp ตาม ว322
A14: 8 | B14: จัดซื้อวัสดุน้ำมันเชื้อเพลิงและหล่อลื่น ทะเบียน กข 2971 นครพนม | C14: 2000 | D14: 2000 | E14: เฉพาะเจาะจง/ตาม แนวทางการจัดซื้อน้ำมันเชื้อเพลิงของหน่วยงานของรัฐ | F14: หจก.พนมบริการ | G14: 2000 | H14: หจก.พนมบริการ | I14: 2000 | J14: จัดซื้อน้ำมันเชื้อเพลิง ตามแนวทางการจัดซื้อน้ำมันเชื้อเพลิงของหน่วยงานของรัฐ ผู้ค้าให้เครดิต | K14: 13-ม.ค.-2569 | L14: ไม่ลง eGp ตาม ว322
A15: 9 | B15: จัดซื้อวัสดุน้ำมันเชื้อเพลิงและหล่อลื่นรถบรรทุกน้ำ ทะเบียน 81-1331 นครพนม | C15: 4000 | D15: 4000 | E15: เฉพาะเจาะจง/ตาม แนวทางการจัดซื้อน้ำมันเชื้อเพลิงของหน่วยงานของรัฐ | F15: หจก.พนมบริการ | G15: 4000 | H15: หจก.พนมบริการ | I15: 4000 | J15: จัดซื้อน้ำมันเชื้อเพลิง ตามแนวทางการจัดซื้อน้ำมันเชื้อเพลิงของหน่วยงานของรัฐ ผู้ค้าให้เครดิต | K15: 13-ม.ค.-2569 | L15: ไม่ลง eGp ตาม ว322
A16: 10 | B16: จัดซื้อวัสดุน้ำมันเชื้อเพลิงและหล่อลื่นรถบรรทุกขยะ ทะเบียน 80-8595 นครพนม | C16: 4500 | D16: 4500 | E16: เฉพาะเจาะจง/ตาม แนวทางการจัดซื้อน้ำมันเชื้อเพลิงของหน่วยงานของรัฐ | F16: หจก.พนมบริการ | G16: 4500 | H16: หจก.พนมบริการ | I16: 4500 | J16: จัดซื้อน้ำมันเชื้อเพลิง ตามแนวทางการจัดซื้อน้ำมันเชื้อเพลิงของหน่วยงานของรัฐ ผู้ค้าให้เครดิต | K16: 14-ม.ค.-2569 | L16: ไม่ลง eGp ตาม ว322
A17: 11 | B17: จัดจ้างโครงการปรับปรุงภูมิทัศน์ภายในศูนย์พัฒนาเด็กเล็กตำบลกุตาไก้เทลานคอนกรีตมีพื้นที่ไม่น้อยกว่า 583.94 ตรม. ตามแบบบแปลน อบต.กุตาไก้ | C17: 328800 | D17: 328851.14 | E17: เฉพาะเจาะจง | F17: หจก. ปลาปากการโยธา | G17: 328800 | H17: หจก. ปลาปากการโยธา | I17: 328800 | J17: ราคาต่ำสุด | K17: 106/2569 ลว 19 ม.ค.2569
A18: 12 | B18: จัดซื้อวัสดุสำนักงาน | C18: 440 | D18: 440 | E18: เฉพาะเจาะจง | F18: ร้านปริญญาการพิมพ์ | G18: 440 | H18: ร้านปริญญาการพิมพ์ | I18: 440 | J18: ราคาต่ำสุด | K18: 107/2569 ลว 20 ม.ค.2569 | L18: ไม่ลง eGp ตาม ว322
A19: 13 | B19: จัดจ้างซ่อมระบบประปา หมู่ที่ 6 | C19: 37500 | D19: 37500 | E19: เฉพาะเจาะจง | F19: ร้าน ป.วัชรา | G19: 37500 | H19: ร้าน ป.วัชรา | I19: 37500 | J19: ราคาต่ำสุด | K19: 108/2569 ลว 20 ม.ค.2569
A20: 14 | B20: จัดซื้อวัสดุน้ำมันเชื้อเพลิงและหล่อลื่น ทะเบียน กง 1621 นครพนม | C20: 2000 | D20: 2000 | E20: เฉพาะเจาะจง | F20: หจก.พนมบริการ | G20: 2000 | H20: หจก.พนมบริการ | I20: 2000 | J20: จัดซื้อน้ำมันเชื้อเพลิง ตามแนวทางการจัดซื้อน้ำมันเชื้อเพลิงของหน่วยงานของรัฐ ผู้ค้าให้เครดิต | K20: 20-ม.ค.-2569 | L20: ไม่ลง eGp ตาม ว322
A21: 15 | B21: จัดจ้างซ่อมแซมครุภัณฑ์คอมพิวเตอร์ (เครื่องปริ้นเตอร์) รหัสครุภัณฑ์416-63-016 | C21: 1250 | D21: 1250 | E21: เฉพาะเจาะจง | F21: หจก.กวงเชียง(2537) | G21: 1250 | H21: หจก.กวงเชียง(2537) | I21: 1250 | J21: ราคาต่ำสุด | K21: 109/2569 ลว 22 ม.ค.2569 | L21: ไม่ลง eGp ตาม ว322
A22: 16 | B22: จัดซื้อวัสดุน้ำมันเชื้อเพลิงและหล่อลื่น ทะเบียน บจ 7439 นครพนม (รถกู้ชีพกู้ภัย) | C22: 2500 | D22: 2500 | E22: เฉพาะเจาะจง/ตาม แนวทางการจัดซื้อน้ำมันเชื้อเพลิงของหน่วยงานของรัฐ | F22: หจก.พนมบริการ | G22: 2500 | H22: หจก.พนมบริการ | I22: 2500 | J22: จัดซื้อน้ำมันเชื้อเพลิง ตามแนวทางการจัดซื้อน้ำมันเชื้อเพลิงของหน่วยงานของรัฐ ผู้ค้าให้เครดิต | K22: 26-ม.ค.-2569 | L22: ไม่ลง eGp ตาม ว322
A23: 17 | B23: จัดซื้อเครื่องพ่น | C23: 6000 | D23: 6000 | E23: เฉพาะเจาะจง | F23: ร้านชนะภัย | G23: 6000 | H23: ร้านชนะภัย | I23: 6000 | J23: ราคาต่ำสุด | K23: 110/2569 ลว 27 ม.ค.2569
A24: 18 | B24: จัดจ้างซื้ออาหารเสริมนมให้แก่เด็กเล็กเด็กนักเรียนในสังกัดองค์การบริหารฯ จำนวน 4 แห่ง | C24: 24395.6 | D24: 24395.6 | E24: เฉพาะเจาะจง/ตามหลักเกณฑ์ฯ อสค. | F24: บริษัท แมรี่แอนแดรี่โปรดักส์ | G24: 24395.6 | H24: บริษัท แมรี่แอนแดรี่โปรดักส์ | I24: 24395.6 | J24: ราคาต่ำสุด/ตามหลักเกณฑ์ฯ อสค. | K24: 111/2569 ลว 27 ม.ค.2569
A25: 19 | B25: จัดซื้ออาหารเสริมนมให้แก่เด็กนักเรียนในโรงเรียนในสังกัดคณะกรรมการศึกษาขั้นพื้นฐาน (สพฐ) 6 แห่ง | C25: 102049.2 | D25: 102049.2 | E25: เฉพาะเจาะจง/ตามหลักเกณฑ์ฯ อสค. | F25: บริษัท แมรี่แอนแดรี่โปรดักส์ | G25: 102049.2 | H25: บริษัท แมรี่แอนแดรี่โปรดักส์ | I25: 102049.2 | J25: ราคาต่ำสุด/ตามหลักเกณฑ์ฯ อสค. | K25: 112/2569 ลว 27 ม.ค.2569
A26: 20 | B26: จัดซื้อวัสดุน้ำมันเชื้อเพลิงและหล่อลื่นรถบรรทุกขยะ ทะเบียน 80-8595 นครพนม | C26: 4500 | D26: 4500 | E26: เฉพาะเจาะจง/ตาม แนวทางการจัดซื้อน้ำมันเชื้อเพลิงของหน่วยงานของรัฐ | F26: หจก.พนมบริการ | G26: 4500 | H26: หจก.พนมบริการ | I26: 4500 | J26: จัดซื้อน้ำมันเชื้อเพลิง ตามแนวทางการจัดซื้อน้ำมันเชื้อเพลิงของหน่วยงานของรัฐ ผู้ค้าให้เครดิต | K26: 27-ม.ค.-2569 | L26: ไม่ลง eGp ตาม ว322
A27: 21 | B27: จัดซื้อวัสดุน้ำมันเชื้อเพลิงและหล่อลื่น ทะเบียน กง 1621 นครพนม | C27: 2000 | D27: 2000 | E27: เฉพาะเจาะจง/ตาม แนวทางการจัดซื้อน้ำมันเชื้อเพลิงของหน่วยงานของรัฐ | F27: หจก.พนมบริการ | G27: 2000 | H27: หจก.พนมบริการ | I27: 2000 | J27: จัดซื้อน้ำมันเชื้อเพลิง ตามแนวทางการจัดซื้อน้ำมันเชื้อเพลิงของหน่วยงานของรัฐ ผู้ค้าให้เครดิต | K27: 28-ม.ค.-2569 | L27: ไม่ลง eGp ตาม ว322
A28: 22 | B28: จัดจ้างก่อสร้างถนนคอนกรีตเสริมเหล็ก รหัสทางหลวงท้องถิ่น นพ.ถ.21-0009 | C28: 4361000 | D28: 4351009.5 | E28: e-bidding | F28: ห้างหุ้นส่วนจำกัด พาหุงรุ่งเรือง | G28: 2700000 | H28: หจก.พาหุงรุ่งเรือง | I28: 2700000 | J28: ราคาต่ำสุด | K28: 113/2569 ลว 28 ม.ค.2569
B29: สายทาง บ้านวังโพธิ์-บ้านหนองบัว หมู่ที่ 6 บ้านวังโพธิ์ ตำบลกุตาไก้ | F29: ห้างหุ้นส่วนจำกัด ภูริพัฒน์ กรุ๊ป | G29: 3388888
B30: งบเงินอุดหนุนเฉพาะกิจ 2569 | F30: ห้างหุ้นส่วนจำกัด เลิศชัยนครพนม | G30: 2730000
F31: ห้างหุ้นส่วนจำกัด เฮงเจริญรุ่งเรืองพาณิชย์ | G31: ไม่ผ่านคุณสมบัติ
A32: 23 | B32: จัดจ้างก่อสร้างถนนคอนกรีตเสริมเหล็ก รหัสทางหลวงท้องถิ่น นพ.ถ.21-0006 | C32: 4787000 | D32: 4671752.6 | E32: e-bidding | F32: ห้างหุ้นส่วนจำกัด เลิศชัยนครพนม | G32: 2900000 | H32: หจก.เลิศชัยนครพนม | I32: 2900000 | J32: ราคาต่ำสุด | K32: 114/2569 ลว 30 ม.ค.2569
B33: สายทาง บ้านนาดอกไม้-บ้านนายอ หมู่ที่ 11 บ้านนาดอกไม้ ตำบลกุตาไก้ | F33: ห้างหุ้นส่วนจำกัด พาหุงรุ่งเรือง | G33: 2995555
B34: งบเงินอุดหนุนเฉพาะกิจ 2569 | F34: ห้างหุ้นส่วนจำกัด ภูริพัฒน์ กรุ๊ป | G34: 3777777
F35: ห้างหุ้นส่วนจำกัด โมละดา ก่อสร้าง | G35: 3850000
F36: ห้างหุ้นส่วนจำกัด ป.สกลก่อสร้าง | G36: 4000000
F37: ห้างหุ้นส่วนจำกัด ไชยภัทรการโยธา | G37: 4200000
F38: บริษัท บาวเวิร์คคอนสตรัคชั่น จำกัด | G38: 4600000
F39: ห้างหุ้นส่วนจำกัด เฮงเจริญรุ่งเรืองพาณิชย์ | G39: ไม่ผ่านคุณสมบัติ
A40: 24 | B40: จัดจ้างเหมายานพาหนะรับ-ส่งเด็กเล็กตามโครงการสงเคราะห์ ประจำเดือนกุมภาพันธ์ 2568 | C40: 12000 | D40: 12000 | E40: เฉพาะเจาะจง | F40: นางสาวธัญวรินทร์ สารโภคา | G40: 12000 | H40: นางสาวธัญวรินทร์ สารโภคา | I40: 12000 | J40: ราคาต่ำสุด | K40: 115/2569 ลว 30 ม.ค.2569
A41: 25 | B41: จัดจ้างซ่อมแซมอาคารสำนักงาน อบต.กุตาไก้ | C41: 33686.28 | D41: 33686.28 | E41: เฉพาะเจาะจง | F41: ร้าน ป.วัชรา | G41: 33600 | H41: ร้าน ป.วัชรา | I41: 33600 | J41: ราคาต่ำสุด | K41: 116/2569 ลว 30 ม.ค.2569

Sheet สขร1-ธค68
K1: แบบ สขร. 1
A2: แบบสรุปผลการดำเนินการจัดซื้อจัดจ้างในรอบเดือน ธันวาคม พ.ศ.2568
A3: องค์การบริหารส่วนตำบลกุตาไก้ อำเภอปลาปาก จังหวัดนครพนม
A4: วันพ.ศ. 2568
A5: ลำดับที่ | B5: งานที่จัดซื้อหรือจัดจ้าง | C5: วงเงินที่จะซื้อหรือจ้าง | D5: ราคากลาง | E5: วิธีซื้อหรือจ้าง | F5: รายชื่อผู้เสนอราคาและราคาที่เสนอ | H5: ผู้ได้รับการคัดเลือกและราคาที่ตกลงซื้อหรือจ้าง | J5: เหตุผลที่คัดเลือก | K5: เลขที่และวันที่ของสัญญา | L5: หมายเหตุ
C6: (บาท) | D6: (บาท) | F6: ผู้เสนอราคา | G6: ราคาที่เสนอ | H6: ผู้ได้รับการคัดเลือก | I6: ราคาที่ตกลงซื้อหรือจ้าง | J6: โดยสรุป | K6: หรือข้อตกลงในการซื้อหรือจ้าง
A7: 1 | B7: จัดซื้อน้ำดื่มประจำเดือนธันวาคม 2568 | C7: 4000 | D7: 4000 | E7: เฉพาะเจาะจง/ ดำเนินการตาม ว119 | F7: ร้านภูไท | G7: 4000 | H7: ร้านภูไท | I7: 4000 | J7: ตาม ว119/ราคาต่ำสุด | K7: 1-ธ.ค.2568 | L7: ไม่ลง eGp ตาม ว322
A8: 2 | B8: จัดจ้างทำป้ายไวนิลตามโครงการประชาสัมพันธ์การให้บริการระบบการแพทย์ฉุกเฉินฯ | C8: 1800 | D8: 1800 | E8: เฉพาะเจาะจง | F8: ร้านปลาปากอิงค์เจ็ท | G8: 1800 | H8: ร้านปลาปากอิงค์เจ็ท | I8: 1800 | J8: ราคาต่ำสุด | K8: 63/2569 ลว 1 ธ.ค.2568
A9: 3 | B9: จัดซื้อวัสดุน้ำมันเชื้อเพลิงและหล่อลื่น ทะเบียน กง 1621 นครพนม | C9: 2000 | D9: 2000 | E9: เฉพาะเจาะจง/ตาม แนวทางการจัดซื้อน้ำมันเชื้อเพลิงของหน่วยงานของรัฐ | F9: หจก.พนมบริการ | G9: 2000 | H9: หจก.พนมบริการ | I9: 2000 | J9: จัดซื้อน้ำมันเชื้อเพลิง ตามแนวทางการจัดซื้อน้ำมันเชื้อเพลิงของหน่วยงานของรัฐ ผู้ค้าให้เครดิต | K9: 4-ธ.ค.2568 | L9: ไม่ลง eGp ตาม ว322
A10: 4 | B10: จัดซื้อวัสดุการเลือกตั้งสมาชิกสภาองค์การบริหารส่วนตำบลและนายกองค์การบริหารฯ | C10: 1685 | D10: 1685 | E10: เฉพาะเจาะจง | F10: ร้านปริญญาการพิมพ์ | G10: 1685 | H10: ร้านปริญญาการพิมพ์ | I10: 1685 | J10: ราคาต่ำสุด | K10: 64/2569 ลว 4ธ.ค.2568
A11: 5 | B11: จัดซื้อวัสดุซ่อมแซมบ้านผู้พิการ | C11: 39600 | D11: 39600 | E11: เฉพาะเจาะจง | F11: ร้านเพิ่มพูนคูณยั่งยืน | G11: 39600 | H11: ร้านเพิ่มพูนคูณยั่งยืน | I11: 39600 | J11: ราคาต่ำสุด | K11: 65/2569 ลว 4 ธ.ค.2568
A12: 6 | B12: จัดซื้อวัสดุซ่อมแซมบ้านผู้ยากไร้ | C12: 40000 | D12: 40000 | E12: เฉพาะเจาะจง | F12: ร้านเพิ่มพูนคูณยั่งยืน | G12: 40000 | H12: ร้านเพิ่มพูนคูณยั่งยืน | I12: 40000 | J12: ราคาต่ำสุด | K12: 66/2569 ลว 4 ธ.ค.2568
A13: 7 | B13: จัดซื้อวัสดุซ่อมแซมบ้านผู้สูงอายุ | C13: 35550 | D13: 35550 | E13: เฉพาะเจาะจง | F13: ร้านเพิ่มพูนคูณยั่งยืน | G13: 35550 | H13: ร้านเพิ่มพูนคูณยั่งยืน | I13: 35550 | J13: ราคาต่ำสุด | K13: 67/2569 ลว 4 ธ.ค.2568
A14: 8 | B14: จัดซื้อวัสดุก่อสร้าง | C14: 34075 | D14: 34075 | E14: เฉพาะเจาะจง | F14: ร้าน ป.วัชรา | G14: 34075 | H14: ร้าน ป.วัชรา | I14: 34075 | J14: ราคาต่ำสุด | K14: 68/2569 ลว 4 ธ.ค.2568
A15: 9 | B15: จัดซื้อวัสดุน้ำมันเชื้อเพลิงและหล่อลื่น ทะเบียน กจ 1745 นครพนม | C15: 2500 | D15: 2500 | E15: เฉพาะเจาะจง/ตาม แนวทางการจัดซื้อน้ำมันเชื้อเพลิงของหน่วยงานของรัฐ | F15: หจก.พนมบริการ | G15: 2500 | H15: หจก.พนมบริการ | I15: 2500 | J15: จัดซื้อน้ำมันเชื้อเพลิง ตามแนวทางการจัดซื้อน้ำมันเชื้อเพลิงของหน่วยงานของรัฐ ผู้ค้าให้เครดิต | K15: 6-ธ.ค.2568 | L15: ไม่ลง eGp ตาม ว322
A16: 10 | B16: ซื้อวัสดุก่อสร้าง | C16: 6829 | D16: 6829 | E16: เฉพาะเจาะจง | F16: ร้านเพิ่มพูนคูณยั่งยืน | G16: 6829 | H16: ร้านเพิ่มพูนคูณยั่งยืน | I16: 6829 | J16: ราคาต่ำสุด | K16: 69/2569 ลว 9 ธ.ค.2568
A17: 11 | B17: ซื้อวัสดุไฟฟ้า | C17: 9720 | D17: 9720 | E17: เฉพาะเจาะจง | F17: ร้าน ป.วัชรา | G17: 9720 | H17: ร้าน ป.วัชรา | I17: 9720 | J17: ราคาต่ำสุด | K17: 70/2569 ลว 9 ธ.ค.2568
A18: 12 | B18: ซื้อวัสดุก่อสร้าง (กองช่าง) | C18: 26380 | D18: 26380 | E18: เฉพาะเจาะจง | F18: ร้านเพิ่มพูนคูณยั่งยืน | G18: 26380 | H18: ร้านเพิ่มพูนคูณยั่งยืน | I18: 26380 | J18: ราคาต่ำสุด | K18: 71/2569 ลว 9 ธ.ค.2568
A19: 13 | B19: ซื้อวัสดุวิทยาศาสตร์และการแพทย์(สำนักปลัด) | C19: 4500 | D19: 4500 | E19: เฉพาะเจาะจง | F19: ร้านยาหนองแสงฟาร์มา | G19: 4500 | H19: ร้านยาหนองแสงฟาร์มา | I19: 4500 | J19: ราคาต่ำสุด | K19: 72/2569 ลว 9 ธ.ค.2568
A20: 14 | B20: จัดจ้างซ่อมรถบรรทุกขยะ | C20: 52000 | D20: 52000 | E20: เฉพาะเจาะจง | F20: อู่พีเจ เซอร์วิส | G20: 52000 | H20: อู่พีเจ เซอร์วิส | I20: 52000 | J20: ราคาต่ำสุด | K20: 73/2569 ลว 11 ธ.ค.2568
A21: 15 | B21: จัดซื้อวัสดุน้ำมันเชื้อเพลิงและหล่อลื่น (รถบรรทุกขยะ) | C21: 4500 | D21: 4500 | E21: เฉพาะเจาะจง/ตาม แนวทางการจัดซื้อน้ำมันเชื้อเพลิงของหน่วยงานของรัฐ | F21: หจก.พนมบริการ | G21: 4500 | H21: หจก.พนมบริการ | I21: 4500 | J21: จัดซื้อน้ำมันเชื้อเพลิง ตามแนวทางการจัดซื้อน้ำมันเชื้อเพลิงของหน่วยงานของรัฐ ผู้ค้าให้เครดิต | K21: 11-ธ.ค.2568 | L21: ไม่ลง eGp ตาม ว322
A22: 16 | B22: จัดซื้อวัสดุการเลือกตั้งสมาชิกสภาขององค์การบริหารส่วนตำบลฯ | C22: 1900 | D22: 1900 | E22: เฉพาะเจาะจง | F22: ร้านปริญญาการพิมพ์ | G22: 1900 | H22: ร้านปริญญาการพิมพ์ | I22: 1900 | J22: ราคาต่ำสุด | K22: 74/2569 ลว 12 ธ.ค.2568
A23: 17 | B23: จัดซื้อวัสดุน้ำมันเชื้อเพลิงและหล่อลื่น ทะเบียน 80-8462 นครพนม | C23: 3000 | D23: 3000 | E23: เฉพาะเจาะจง/ตาม แนวทางการจัดซื้อน้ำมันเชื้อเพลิงของหน่วยงานของรัฐ | F23: หจก.พนมบริการ | G23: 3000 | H23: หจก.พนมบริการ | I23: 3000 | J23: จัดซื้อน้ำมันเชื้อเพลิง ตามแนวทางการจัดซื้อน้ำมันเชื้อเพลิงของหน่วยงานของรัฐ ผู้ค้าให้เครดิต | K23: 12-ธ.ค.2568 | L23: ไม่ลง eGp ตาม ว322
A24: 18 | B24: จัดซื้อวัสดุการเลือกตั้งสมาชิกสภาองค์การบริหารส่วนตำบลและนายกองค์การบริหารฯ | C24: 1600 | D24: 1600 | E24: เฉพาะเจาะจง | F24: ร้านปริญญาการพิมพ์ | G24: 1600 | H24: ร้านปริญญาการพิมพ์ | I24: 1600 | J24: ราคาต่ำสุด | K24: 75/2569 ลว 15 ธ.ค.2568
A25: 19 | B25: จัดซื้อวัสดุสำนักงาน (กองคลัง) | C25: 240 | D25: 240 | E25: เฉพาะเจาะจง | F25: ร้านปริญญาการพิมพ์ | G25: 240 | H25: ร้านปริญญาการพิมพ์ | I25: 240 | J25: ราคาต่ำสุด | K25: 76/2569 ลว 15 ธ.ค.2568
A26: 20 | B26: จัดจ้างทำตรายางหมึกในตัว(นางสาวอัจจิมา สุขัน) ผู้ช่วยเจ้าพนักงานจัดเก็บรายได้ | C26: 350 | D26: 350 | E26: เฉพาะเจาะจง | F26: ร้านปริญญาการพิมพ์ | G26: 350 | H26: ร้านปริญญาการพิมพ์ | I26: 350 | J26: ราคาต่ำสุด | K26: 77/2569 ลว 15 ธ.ค.2568
A27: 21 | B27: จัดจ้างซ่อมปะปา หมู่ที่ 12 | C27: 44750 | D27: 44750 | E27: เฉพาะเจาะจง | F27: ร้าน ป.วัชรา | G27: 44750 | H27: ร้าน ป.วัชรา | I27: 44750 | J27: ราคาต่ำสุด | K27: 78/2569 ลว 15 ธ.ค.2568
A28: 22 | B28: จัดซื้อกระดาษ (สำนักปลัด) | C28: 14500 | D28: 14500 | E28: เฉพาะเจาะจง | F28: ร้าน สาม อ เทคนิค | G28: 14500 | H28: ร้าน สาม อ เทคนิค | I28: 14500 | J28: ราคาต่ำสุด | K28: 79/2569 ลว 15 ธ.ค.2568
A29: 23 | B29: จัดจ้างทำตรายางในการเลือกตั้งสมาชิกสภาองค์การบริหารส่วนตำบลฯ | C29: 720 | D29: 720 | E29: เฉพาะเจาะจง | F29: ร้านปริญญาการพิมพ์ | G29: 720 | H29: ร้านปริญญาการพิมพ์ | I29: 720 | J29: ราคาต่ำสุด | K29: 80/2569 ลว 16 ธ.ค.2568
A30: 24 | B30: จัดซื้อวัสดุการเลือกตั้งสมาชิกสภาองค์การบริหารส่วนตำบลและนายกองค์การบริหารฯ | C30: 3680 | D30: 3680 | E30: เฉพาะเจาะจง | F30: ร้านปริญญาการพิมพ์ | G30: 3680 | H30: ร้านปริญญาการพิมพ์ | I30: 3680 | J30: ราคาต่ำสุด | K30: 81/2569 ลว 16 ธ.ค.2568
A31: 25 | B31: จัดซื้อแฟ้มบัญชีเลือกตั้ง | C31: 1440 | D31: 1440 | E31: เฉพาะเจาะจง | F31: หจก.สมศักดิ์การพิมพ์ กรุ๊ป | G31: 1440 | H31: หจก.สมศักดิ์การ พิมพ์กรุ๊ป | I31: 1440 | J31: ราคาต่ำสุด | K31: 82/2569 ลว 16 ธ.ค.2568
A32: 26 | B32: จัดซื้อวัสดุจราจร | C32: 29500 | D32: 29500 | E32: เฉพาะเจาะจง | F32: ร้านชนะภัย | G32: 29500 | H32: ร้านชนะภัย | I32: 29500 | J32: ราคาต่ำสุด | K32: 83/2569 ลว 16 ธ.ค.2568
A33: 27 | B33: จัดซื้อวัสดุน้ำมันเชื้อเพลิงและหล่อลื่น ทะเบียน กจ 7003 นครพนม | C33: 2500 | D33: 2500 | E33: เฉพาะเจาะจง/ตาม แนวทางการจัดซื้อน้ำมันเชื้อเพลิงของหน่วยงานของรัฐ | F33: หจก.พนมบริการ | G33: 2500 | H33: หจก.พนมบริการ | I33: 2500 | J33: จัดซื้อน้ำมันเชื้อเพลิง ตามแนวทางการจัดซื้อน้ำมันเชื้อเพลิงของหน่วยงานของรัฐ ผู้ค้าให้เครดิต | K33: 16-ธ.ค.2568 | L33: ไม่ลง eGp ตาม ว322
A34: 28 | B34: จัดซื้อวัสดุน้ำมันเชื้อเพลิงและหล่อลื่น ทะเบียน กง 1621 นครพนม | C34: 2000 | D34: 2000 | E34: เฉพาะเจาะจง/ตาม แนวทางการจัดซื้อน้ำมันเชื้อเพลิงของหน่วยงานของรัฐ | F34: หจก.พนมบริการ | G34: 2000 | H34: หจก.พนมบริการ | I34: 2000 | J34: จัดซื้อน้ำมันเชื้อเพลิง ตามแนวทางการจัดซื้อน้ำมันเชื้อเพลิงของหน่วยงานของรัฐ ผู้ค้าให้เครดิต | K34: 17-ธ.ค.2568 | L34: ไม่ลง eGp ตาม ว322
A35: 29 | B35: จัดซื้อวัสดุน้ำมันเชื้อเพลิงและหล่อลื่น ทะเบียน 80-5635 นครพนม | C35: 3000 | D35: 3000 | E35: เฉพาะเจาะจง/ตาม แนวทางการจัดซื้อน้ำมันเชื้อเพลิงของหน่วยงานของรัฐ | F35: หจก.พนมบริการ | G35: 3000 | H35: หจก.พนมบริการ | I35: 3000 | J35: จัดซื้อน้ำมันเชื้อเพลิง ตามแนวทางการจัดซื้อน้ำมันเชื้อเพลิงของหน่วยงานของรัฐ ผู้ค้าให้เครดิต | K35: 17-ธ.ค.2568 | L35: ไม่ลง eGp ตาม ว322
A36: 30 | B36: จัดซื้อวัสดุน้ำมันเชื้อเพลิงและหล่อลื่น ทะเบียน กข 2971 นครพนม | C36: 2000 | D36: 2000 | E36: เฉพาะเจาะจง/ตาม แนวทางการจัดซื้อน้ำมันเชื้อเพลิงของหน่วยงานของรัฐ | F36: หจก.พนมบริการ | G36: 2000 | H36: หจก.พนมบริการ | I36: 2000 | J36: จัดซื้อน้ำมันเชื้อเพลิง ตามแนวทางการจัดซื้อน้ำมันเชื้อเพลิงของหน่วยงานของรัฐ ผู้ค้าให้เครดิต | K36: 17-ธ.ค.2568 | L36: ไม่ลง eGp ตาม ว322
A37: 31 | B37: จัดซื้อวัสดุการเลือกตั้งสมาชิกสภาองค์การบริหารส่วนตำบลและนายกองค์การบริหารฯ | C37: 710 | D37: 710 | E37: เฉพาะเจาะจง | F37: ร้านปริญญาการพิมพ์ | G37: 710 | H37: ร้านปริญญาการพิมพ์ | I37: 710 | J37: ราคาต่ำสุด | K37: 84/2569 ลว 19 ธ.ค.2568
A38: 32 | B38: จัดซื้อวัสดุเลือกตั้ง | C38: 22110 | D38: 22110 | E38: เฉพาะเจาะจง | F38: ร้านเพิ่มพูนคูณยั่งยืน | G38: 22110 | H38: ร้านเพิ่มพูนคูณยั่งยืน | I38: 22110 | J38: ราคาต่ำสุด | K38: 85/2569 ลว 19 ธ.ค.2568
A39: 33 | B39: จัดจ้างเหมารถโดยสารตามโครงการศึกษาดูงานฯ | C39: 54000 | D39: 54000 | E39: เฉพาะเจาะจง | F39: หจก.ธนวิทย์เซ็นเตอร์ทราเวล | G39: 54000 | H39: หจก.ธนวิทย์เซ็นเตอร์ทราเวล | I39: 54000 | J39: ตาม ว119 | K39: 86/2569 ลว 22 ธ.ค.2568
A40: 34 | B40: จัดซื้อวัสดุเลือกตั้ง | C40: 42396 | D40: 42396 | E40: เฉพาะเจาะจง | F40: ร้านวีระชัยซัฟฟลาย | G40: 42396 | H40: ร้านวีระชัยซัฟฟลาย | I40: 42396 | J40: ราคาต่ำสุด | K40: 87/2569 ลว 22 ธ.ค.2568
A41: 35 | B41: จัดซื้อวัสดุ-อุปกรณ์ตามโครงการอบรมคณะกรรรมการประจำหน่วยเลือกตั้งฯ | C41: 2640 | D41: 2640 | E41: เฉพาะเจาะจง | F41: ร้านปริญญาการพิมพ์ | G41: 2640 | H41: ร้านปริญญาการพิมพ์ | I41: 2640 | J41: ราคาต่ำสุด | K41: 88/2569 ลว 22 ธ.ค.2568
A42: 36 | B42: จัดจ้างทำป้ายไวนิลการจัดการเลือกตั้งฯ | C42: 1800 | D42: 1800 | E42: เฉพาะเจาะจง | F42: ร้านปลาปากอิงค์เจ็ท | G42: 1800 | H42: ร้านปลาปากอิงค์เจ็ท | I42: 1800 | J42: ราคาต่ำสุด | K42: 89/2569 ลว 22 ธ.ค.2568
A43: 37 | B43: จัดซื้อวัสดุน้ำมันเชื้อเพลิงและหล่อลื่น (รถบรรทุกขยะ) | C43: 4500 | D43: 4500 | E43: เฉพาะเจาะจง/ตาม แนวทางการจัดซื้อน้ำมันเชื้อเพลิงของหน่วยงานของรัฐ | F43: หจก.พนมบริการ | G43: 4500 | H43: หจก.พนมบริการ | I43: 4500 | J43: จัดซื้อน้ำมันเชื้อเพลิง ตามแนวทางการจัดซื้อน้ำมันเชื้อเพลิงของหน่วยงานของรัฐ ผู้ค้าให้เครดิต | K43: 24-ธ.ค.2568 | L43: ไม่ลง eGp ตาม ว322
A44: 38 | B44: จัดซื้อวัสดุไฟฟ้าและวิทยุ (กองช่าง) | C44: 3625 | D44: 3625 | E44: เฉพาะเจาะจง | F44: ร้าน ป.วัชรา | G44: 3625 | H44: ร้าน ป.วัชรา | I44: 3625 | J44: ราคาต่ำสุด | K44: 90/2569 ลว 24 ธ.ค.2568
A45: 39 | B45: จัดจ้างทำตรายาง | C45: 100 | D45: 100 | E45: เฉพาะเจาะจง | F45: ร้านปริญญาการพิมพ์ | G45: 100 | H45: ร้านปริญญาการพิมพ์ | I45: 100 | J45: ราคาต่ำสุด | K45: 91/2569 ลว 24 ธ.ค.2568
A46: 40 | B46: ซื้อวัสดุสำนักงาน (สำนักปลัด) | C46: 6300 | D46: 6300 | E46: เฉพาะเจาะจง | F46: ร้านปริญญาการพิมพ์ | G46: 6300 | H46: ร้านปริญญาการพิมพ์ | I46: 6300 | J46: ราคาต่ำสุด | K46: 92/2569 ลว 24 ธ.ค.2568
A47: 41 | B47: จัดซื้อวัสดุเลือกตั้ง | C47: 1870 | D47: 1870 | E47: เฉพาะเจาะจง | F47: ร้านเพิ่มพูนคูณยั่งยืน | G47: 1870 | H47: ร้านเพิ่มพูนคูณยั่งยืน | I47: 1870 | J47: ราคาต่ำสุด | K47: 93/2569 ลว 24 ธ.ค.2568
A48: 42 | B48: จัดจ้างทำป้ายไวนิลการป้องกันและลดอุบัติเหตุทางถนนช่วงเทศกาลปีใหม่ | C48: 3240 | D48: 3240 | E48: เฉพาะเจาะจง | F48: ร้านปลาปากอิงค์เจ็ท | G48: 3240 | H48: ร้านปลาปากอิงค์เจ็ท | I48: 3240 | J48: ราคาต่ำสุด | K48: 94/2569 ลว 25 ธ.ค.2568
A49: 43 | B49: จัดจ้างซ่อมบำรุงรถยนตืส่วนกลาง(รถบรรทุกน้ำคันเก่า)ทะเบียน 80-5635นครพนม | C49: 2400 | D49: 2400 | E49: เฉพาะเจาะจง | F49: อู่พีเจ เซอรืวิส | G49: 2400 | H49: อู่พีเจ เซอรืวิส | I49: 2400 | J49: ราคาต่ำสุด | K49: 95/2569 ลว 25 ธ.ค.2568
A50: 44 | B50: จัดซื้อกระดาษ A4 (กองการศึกษา) | C50: 7250 | D50: 7250 | E50: เฉพาะเจาะจง | F50: ร้าน สาม อ เทคนิค | G50: 7250 | H50: ร้าน สาม อ เทคนิค | I50: 7250 | J50: ราคาต่ำสุด | K50: 96/2569 ลว 25 ธ.ค.2568
A51: 45 | B51: จัดซื้อน้ำดื่ม | C51: 10710 | D51: 10710 | E51: เฉพาะเจาะจง | F51: ร้านภูไท | G51: 10710 | H51: ร้านภูไท | I51: 10710 | J51: ราคาต่ำสุด | K51: 97/2569 ลว 25 ธ.ค.2568
A52: 46 | B52: จัดจ้างเหมายานพาหนะรับ-ส่งเด็กเล็กตามโครงการสงเคราะห์ ประจำเดือนมกราคม 2568 | C52: 12000 | D52: 12000 | E52: เฉพาะเจาะจง | F52: นางสาวธัญวรินทร์ สารโภคา | G52: 12000 | H52: นางสาวธัญวรินทร์ สารโภคา | I52: 12000 | J52: ราคาต่ำสุด | K52: 98/2569 ลว 25 ธ.ค.2568
A53: 47 | B53: จัดจ้างซื้ออาหารเสริมนมให้แก่เด็กเล็กเด็กนักเรียนในสังกัดองค์การบริหารฯ จำนวน 4 แห่ง | C53: 24567.4 | D53: 24567.4 | E53: เฉพาะเจาะจง/ตามหลักเกณฑ์ฯ อสค. | F53: บริษัท แมรี่แอนแดรี่โปรดักส์ | G53: 24567.4 | H53: บริษัท แมรี่แอนแดรี่โปรดักส์ | I53: 24567.4 | J53: ราคาต่ำสุด/ตามหลักเกณฑ์ฯ อสค. | K53: 99/2569 ลว 25 ธ.ค.2568
A54: 48 | B54: จัดซื้อวัสดุสำนักงาน | C54: 840 | D54: 840 | E54: เฉพาะเจาะจง | F54: ร้านปริญญาการพิมพ์ | G54: 840 | H54: ร้านปริญญาการพิมพ์ | I54: 840 | J54: ราคาต่ำสุด | K54: 100/2569 ลว30ธ.ค.2568
A55: 49 | B55: จัดซื้อวัสดุน้ำมันเชื้อเพลิงและหล่อลื่น ทะเบียน กง 1621 นครพนม | C55: 2000 | D55: 2000 | E55: เฉพาะเจาะจง/ตาม แนวทางการจัดซื้อน้ำมันเชื้อเพลิงของหน่วยงานของรัฐ | F55: หจก.พนมบริการ | G55: 2000 | H55: หจก.พนมบริการ | I55: 2000 | J55: จัดซื้อน้ำมันเชื้อเพลิง ตามแนวทางการจัดซื้อน้ำมันเชื้อเพลิงของหน่วยงานของรัฐ ผู้ค้าให้เครดิต | K55: 26-ธ.ค.2568 | L55: ไม่ลง eGp ตาม ว322
A56: 50 | B56: จัดซื้อวัสดุน้ำมันเชื้อเพลิงและหล่อลื่น ทะเบียน บจ 7439 นครพนม (รถกู้ชีพกู้ภัย) | C56: 2500 | D56: 2500 | E56: เฉพาะเจาะจง/ตาม แนวทางการจัดซื้อน้ำมันเชื้อเพลิงของหน่วยงานของรัฐ | F56: หจก.พนมบริการ | G56: 2500 | H56: หจก.พนมบริการ | I56: 2500 | J56: จัดซื้อน้ำมันเชื้อเพลิง ตามแนวทางการจัดซื้อน้ำมันเชื้อเพลิงของหน่วยงานของรัฐ ผู้ค้าให้เครดิต | K56: 26-ธ.ค.2568 | L56: ไม่ลง eGp ตาม ว322
A57: 51 | B57: จัดซื้อวัสดุน้ำมันเชื้อเพลิงและหล่อลื่น ทะเบียน กจ 1745 นครพนม | C57: 2500 | D57: 2500 | E57: เฉพาะเจาะจง/ตาม แนวทางการจัดซื้อน้ำมันเชื้อเพลิงของหน่วยงานของรัฐ | F57: หจก.พนมบริการ | G57: 2500 | H57: หจก.พนมบริการ | I57: 2500 | J57: จัดซื้อน้ำมันเชื้อเพลิง ตามแนวทางการจัดซื้อน้ำมันเชื้อเพลิงของหน่วยงานของรัฐ ผู้ค้าให้เครดิต | K57: 26-ธ.ค.2568 | L57: ไม่ลง eGp ตาม ว322
A58: 52 | B58: จัดซื้ออาหารเสริมนมให้แก่เด็กนักเรียนในโรงเรียนในสังกัดคณะกรรมการศึกษาขั้นพื้นฐาน (สพฐ) 6 แห่ง | C58: 102049.2 | D58: 102049.2 | E58: เฉพาะเจาะจง/ตามหลักเกณฑ์ฯ อสค. | F58: บริษัท แมรี่แอนแดรี่โปรดักส์ | G58: 102049.2 | H58: บริษัท แมรี่แอนแดรี่โปรดักส์ | I58: 102049.2 | J58: ราคาต่ำสุด/ตามหลักเกณฑ์ฯ อสค. | K58: 101/2569 ลว30ธ.ค.2568

Sheet สขร1-พย68
K1: แบบ สขร. 1
A2: แบบสรุปผลการดำเนินการจัดซื้อจัดจ้างในรอบเดือน พฤศจิกายน พ.ศ.2568
A3: องค์การบริหารส่วนตำบลกุตาไก้ อำเภอปลาปาก จังหวัดนครพนม
A4: วันที่ 30 พฤศจิกายน พ.ศ. 2568
A5: ลำดับที่ | B5: งานที่จัดซื้อหรือจัดจ้าง | C5: วงเงินที่จะซื้อหรือจ้าง | D5: ราคากลาง | E5: วิธีซื้อหรือจ้าง | F5: รายชื่อผู้เสนอราคาและราคาที่เสนอ | H5: ผู้ได้รับการคัดเลือกและราคาที่ตกลงซื้อหรือจ้าง | J5: เหตุผลที่คัดเลือก | K5: เลขที่และวันที่ของสัญญา | L5: หมายเหตุ
C6: (บาท) | D6: (บาท) | F6: ผู้เสนอราคา | G6: ราคาที่เสนอ | H6: ผู้ได้รับการคัดเลือก | I6: ราคาที่ตกลงซื้อหรือจ้าง | J6: โดยสรุป | K6: หรือข้อตกลงในการซื้อหรือจ้าง
A7: 1 | B7: จัดซื้อน้ำดื่มประจำเดือนพฤศจิกายน 2568 | C7: 4000 | D7: 4000 | E7: ตาม ว119 | F7: ร้านภูไท | G7: 4000 | H7: ร้านภูไท | I7: 4000 | J7: ตาม ว119/ราคาต่ำสุด | K7: 3-พ.ย.2568 | L7: ไม่ลง eGp ตาม ว322
A8: 2 | B8: จัดซื้อวัสดุน้ำมันเชื้อเพลิงและหล่อลื่น ทะเบียน กง 1621 นครพนม | C8: 2000 | D8: 2000 | E8: เฉพาะเจาะจง/ตาม แนวทางการจัดซื้อน้ำมันเชื้อเพลิงของหน่วยงานของรัฐ | F8: หจก.พนมบริการ | G8: 2000 | H8: หจก.พนมบริการ | I8: 2000 | J8: จัดซื้อน้ำมันเชื้อเพลิง ตามแนวทางการจัดซื้อน้ำมันเชื้อเพลิงของหน่วยงานของรัฐ ผู้ค้าให้เครดิต | K8: 3-พ.ย.2568 | L8: ไม่ลง eGp ตาม ว322
A9: 3 | B9: จัดซื้อวัสดุน้ำมันเชื้อเพลิงและหล่อลื่น ทะเบียน กข 2971 นครพนม | C9: 2000 | D9: 2000 | E9: เฉพาะเจาะจง/ตาม แนวทางการจัดซื้อน้ำมันเชื้อเพลิงของหน่วยงานของรัฐ | F9: หจก.พนมบริการ | G9: 2000 | H9: หจก.พนมบริการ | I9: 2000 | J9: จัดซื้อน้ำมันเชื้อเพลิง ตามแนวทางการจัดซื้อน้ำมันเชื้อเพลิงของหน่วยงานของรัฐ ผู้ค้าให้เครดิต | K9: 3-พ.ย.2568 | L9: ไม่ลง eGp ตาม ว322
A10: 4 | B10: จัดจ้างซื้ออาหารเสริมนมให้แก่เด็กเล็กเด็กนักเรียนในสังกัดองค์การบริหารฯ จำนวน 4 แห่ง ศพด.ตำบลกุตาไก้ | C10: 24567.4 | D10: 24567.4 | E10: เฉพาะเจาะจง/ตามหลักเกณฑ์ฯ อสค. | F10: บริษัท แมรี่แอนแดรี่โปรดักส์ | G10: 24567.4 | H10: บริษัท แมรี่แอนแดรี่โปรดักส์ | I10: 24567.4 | J10: ราคาต่ำสุด/ตามหลักเกณฑ์ฯ อสค. | K10: 31/2568 ลว.3 พ.ย.2568
A11: 5 | B11: จัดซื้ออาหารเสริมนมให้แก่เด็กนักเรียนในโรงเรียนในสังกัดคณะกรรมการศึกษาขั้นพื้นฐาน (สพฐ) 6 แห่ง | C11: 101190 | D11: 101190 | E11: เฉพาะเจาะจง/ตามหลักเกณฑ์ฯ อสค. | F11: บริษัท แมรี่แอนแดรี่โปรดักส์ | G11: =$C$7 -> 4000 | H11: บริษัท แมรี่แอนแดรี่โปรดักส์ | I11: 101190 | J11: ราคาต่ำสุด/ตามหลักเกณฑ์ฯ อสค. | K11: 32/2568 ลว.3 พ.ย.2568
A12: 6 | B12: จัดซื้อวัสดุน้ำมันเชื้อเพลิงและหล่อลื่น ทะเบียน กจ 1745 นครพนม (รถกู้ชีพกู้ภัย) | C12: 2500 | D12: 2500 | E12: เฉพาะเจาะจง | F12: หจก.พนมบริการ | G12: 2500 | H12: หจก.พนมบริการ | I12: 2500 | J12: ราคาต่ำสุด | K12: 4-พ.ย.2568 | L12: ไม่ลง eGp ตาม ว322
A13: 7 | B13: จัดซื้อวัสดุก่อสร้าง (กองช่าง) | C13: 1810 | D13: 1810 | E13: เฉพาะเจาะจง | F13: ร้าน ป.วัชรา | G13: 1810 | H13: ร้าน ป.วัชรา | I13: 1810 | J13: ราคาต่ำสุด | K13: 33/2568 ลว.4 พ.ย.2568
A14: 8 | B14: จัดจ้างเหมายานพาหนะรับ-ส่งเด็กเล็กตามโครงการสงเคราะห์ ประจำเดือนพฤศจิกายน 2568 | C14: 12000 | D14: 12000 | E14: เฉพาะเจาะจง | F14: นางสาวธัญวรินทร์ สารโภคา | G14: 12000 | H14: นางสาวธัญวรินทร์ สารโภคา | I14: 12000 | J14: ราคาต่ำสุด | K14: 34/2568 ลว.4 พ.ย.2568
A15: 9 | B15: จัดซื้อวัสดุสำนักงาน (สำนักปลัด) กระดาษ A 4 | C15: 10875 | D15: 10875 | E15: เฉพาะเจาะจง | F15: ร้าน สาม อ เทคนิค | G15: 10875 | H15: ร้าน สาม อ เทคนิค | I15: 10875 | J15: ราคาต่ำสุด | K15: 35/2568 ลว.5 พ.ย.2568
A16: 10 | B16: จัดซื้อวัสดุคอมพิวเตอร์ (สำนักปลัด) | C16: 25530 | D16: 25530 | E16: เฉพาะเจาะจง | F16: หจก.กวงเชียง(2537) | G16: 25530 | H16: หจก.กวงเชียง(2537) | I16: 25530 | J16: ราคาต่ำสุด | K16: 36/2568 ลว.5 พ.ย.2568
A17: 11 | B17: จัดซื้อวัสดุงานบ้านงานครัว (สำนักปลัด) | C17: 30220 | D17: 30220 | E17: เฉพาะเจาะจง | F17: ร้านเอกศิริพาณิชย์ | G17: 30220 | H17: ร้านเอกศิริพาณิชย์ | I17: 30220 | J17: ราคาต่ำสุด | K17: 37/2568 ลว.5 พ.ย.2568
A18: 12 | B18: จัดซื้อวัสดุสำนักงาน (กองช่าง) | C18: 8425 | D18: 8425 | E18: เฉพาะเจาะจง | F18: ร้านปริญญาการพิมพ์ | G18: 8425 | H18: ร้านปริญญาการพิมพ์ | I18: 8425 | J18: ราคาต่ำสุด | K18: 38/2568 ลว.5 พ.ย.2568
A19: 13 | B19: จัดซื้อวัสดุไฟฟ้าและวิทยุ (กองช่าง.) | C19: 42040 | D19: 42040 | E19: เฉพาะเจาะจง | F19: ร้าน ป.วัชรา | G19: 42040 | H19: ร้าน ป.วัชรา | I19: 42040 | J19: ราคาต่ำสุด | K19: 39/2568 ลว.5 พ.ย.2568
A20: 14 | B20: จัดซื้อวัสดุก่อสร้าง (กองช่าง.) | C20: 10070 | D20: 10070 | E20: เฉพาะเจาะจง | F20: ร้านเพิ่มพูนคูณยั่งยืน | G20: 10070 | H20: ร้านเพิ่มพูนคูณยั่งยืน | I20: 10070 | J20: ราคาต่ำสุด | K20: 40/2568 ลว.6 พ.ย.2568
A21: 15 | B21: จัดจ้างทำป้ายการเลือกตั้งสมาชิกสภาองค์การบริหารส่วนตำบลและนายกองค์การบริหารส่วนตำบลกุตาไก้ | C21: 2376 | D21: 2376 | E21: เฉพาะเจาะจง | F21: ร้านปลาปากอิงค์เจ็ท | G21: 2376 | H21: ร้านปลาปากอิงค์เจ็ท | I21: 2376 | J21: ราคาต่ำสุด | K21: 41/2568 ลว.10 พ.ย.2568
A22: 16 | B22: จัดซื้อวัสดุน้ำมันเชื้อเพลิงและหล่อลื่น ทะเบียน บจ 7439 นครพนม (รถกู้ชีพกู้ภัย) | C22: 2500 | D22: 2500 | E22: เฉพาะเจาะจง | F22: หจก.พนมบริการ | G22: 2500 | H22: หจก.พนมบริการ | I22: 2500 | J22: ราคาต่ำสุด | K22: 11-พ.ย.2568 | L22: ไม่ลง eGp ตาม ว322
A23: 17 | B23: จัดซื้อไม้กวาดทางมะพร้าว | C23: 900 | D23: 900 | E23: เฉพาะเจาะจง | F23: ร้านเอกศิริพาณิชย์ | G23: 900 | H23: ร้านเอกศิริพาณิชย์ | I23: 900 | J23: ราคาต่ำสุด | K23: 42/2568 ลว.11 พ.ย.2568
A24: 18 | B24: จัดจ้างทำตรายาง (สำนักปลัด) | C24: 1370 | D24: 1370 | E24: เฉพาะเจาะจง | F24: ร้านปริญญาการพิมพ์ | G24: 1370 | H24: ร้านปริญญาการพิมพ์ | I24: 1370 | J24: ราคาต่ำสุด | K24: 43/2568 ลว.11 พ.ย.2568
A25: 19 | B25: จัดจ้าซ่อมบำรุงฯ ทะเบียนรถ กง 1621 | C25: 13050 | D25: 13050 | E25: เฉพาะเจาะจง | F25: เอ็น เค พี คาร์แคร์ | G25: 13050 | H25: เอ็น เค พี คาร์แคร์ | I25: 13050 | J25: ราคาต่ำสุด | K25: 44/2568 ลว.11 พ.ย.2568
A26: 20 | B26: จัดซื้อวัสดุสำนักงาน (สำนักปลัด) | C26: 11880 | D26: 11880 | E26: เฉพาะเจาะจง | F26: ร้านปริญญาการพิมพ์ | G26: 11880 | H26: ร้านปริญญาการพิมพ์ | I26: 11880 | J26: ราคาต่ำสุด | K26: 45/2568 ลว.11 พ.ย.2568
A27: 21 | B27: จัดซื้ออุปกรณ์เลือกตั้ง | C27: 13645 | D27: 13645 | E27: เฉพาะเจาะจง | F27: ร้านปริญญาการพิมพ์ | G27: 13645 | H27: ร้านปริญญาการพิมพ์ | I27: 13645 | J27: ราคาต่ำสุด | K27: 46/2568 ลว.11 พ.ย.2568
A28: 22 | B28: จัดจ้างโครงการก่อสร้างอาคารอเนกประสงค์องค์การบริหารส่วนตำบลกุตาไก้ | C28: 492000 | D28: 494295.76 | E28: เฉพาะเจาะจง | F28: หจก.ปลาปากการโยธา | G28: 492000 | H28: หจก.ปลาปากการโยธา | I28: 492000 | J28: ราคาต่ำสุด | K28: 47/2568 ลว.11 พ.ย.2568
A29: 23 | B29: จัดซื้อวัสดุน้ำมันเชื้อเพลิงและหล่อลื่น (รถบรรทุกขยะ) | C29: 4500 | D29: 4500 | E29: เฉพาะเจาะจง/ตาม แนวทางการจัดซื้อน้ำมันเชื้อเพลิงของหน่วยงานของรัฐ | F29: หจก.พนมบริการ | G29: 4500 | H29: หจก.พนมบริการ | I29: 4500 | J29: จัดซื้อน้ำมันเชื้อเพลิง ตามแนวทางการจัดซื้อน้ำมันเชื้อเพลิงของหน่วยงานของรัฐ ผู้ค้าให้เครดิต | K29: 25154 | L29: ไม่ลง eGp ตาม ว322
A30: 24 | B30: จัดซื้อวัสดุน้ำมันเชื้อเพลิงและหล่อลื่น ทะเบียน กง 1621 นครพนม | C30: 2000 | D30: 2000 | E30: เฉพาะเจาะจง/ตาม แนวทางการจัดซื้อน้ำมันเชื้อเพลิงของหน่วยงานของรัฐ | F30: หจก.พนมบริการ | G30: 2000 | H30: หจก.พนมบริการ | I30: 2000 | J30: จัดซื้อน้ำมันเชื้อเพลิง ตามแนวทางการจัดซื้อน้ำมันเชื้อเพลิงของหน่วยงานของรัฐ ผู้ค้าให้เครดิต | K30: 25154 | L30: ไม่ลง eGp ตาม ว322
A31: 25 | B31: จัดซื้อวัสดุน้ำมันเชื้อเพลิงและหล่อลื่น (รถบรรทุกขยะ) ทะเบียน 80-8595 นครพนม | C31: 4500 | D31: 4500 | E31: เฉพาะเจาะจง/ตาม แนวทางการจัดซื้อน้ำมันเชื้อเพลิงของหน่วยงานของรัฐ | F31: หจก.พนมบริการ | G31: 4500 | H31: หจก.พนมบริการ | I31: 4500 | J31: จัดซื้อน้ำมันเชื้อเพลิง ตามแนวทางการจัดซื้อน้ำมันเชื้อเพลิงของหน่วยงานของรัฐ ผู้ค้าให้เครดิต | K31: 25154 | L31: ไม่ลง eGp ตาม ว322
A32: 26 | B32: จัดจ้างโครงการก่อสร้างหลังคาคลุมสนามเด็กเล่น ศพด.โพนทา | C32: 250000 | D32: 252173.06 | E32: เฉพาะเจาะจง | F32: หจก.สุขเกษม คอนสตรัคชั่น 2021 | G32: 250000 | H32: หจก.สุขเกษม คอนสตรัคชั่น 2021 | I32: 250000 | J32: ราคาต่ำสุด | K32: 48/2568 ลว.12 พ.ย.2568
A33: 27 | B33: จัดซื้อวัสดุวิทยาศาสตร์หรือการแพทย์ผ้าปิดปาก-จมูก Maok | C33: 2160 | D33: 2160 | E33: เฉพาะเจาะจง | F33: ร้านเอกศิริพาณิชย์ | G33: 2160 | H33: ร้านเอกศิริพาณิชย์ | I33: 2160 | J33: ราคาต่ำสุด | K33: 49/2568 ลว.12 พ.ย.2568
A34: 28 | B34: จัดซื้อวัสดุเครื่องแต่งกาย (ถุงมือยาง) | C34: 960 | D34: 960 | E34: เฉพาะเจาะจง | F34: ร้านเอกศิริพาณิชย์ | G34: 960 | H34: ร้านเอกศิริพาณิชย์ | I34: 960 | J34: ราคาต่ำสุด | K34: 50/2568 ลว.12 พ.ย.2568
A35: 29 | B35: จัดซื้ออุปกรณ์กีฬา | C35: 83800 | D35: 83800 | E35: เฉพาะเจาะจง | F35: ร้านปริญญาการพิมพ์ | G35: 83800 | H35: ร้านปริญญาการพิมพ์ | I35: 83800 | J35: ราคาต่ำสุด | K35: 51/2568 ลว.12 พ.ย.2568
A36: 30 | B36: จัดจ้างทำตรายาง (กองช่าง) | C36: 640 | D36: 640 | E36: เฉพาะเจาะจง | F36: ร้านปริญญาการพิมพ์ | G36: 640 | H36: ร้านปริญญาการพิมพ์ | I36: 640 | J36: ราคาต่ำสุด | K36: 52/2568 ลว.19 พ.ย.2568
A37: 31 | B37: จัดจ้างซ่อมรถยนส่วนกลาง ทะเบียน 80-8462 นครพนม | C37: 6373.76 | D37: 6373.76 | E37: เฉพาะเจาะจง | F37: บริษัทอีซูซุนครพนม จำกัด | G37: 6373.76 | H37: บริษัทอีซูซุนครพนม จำกัด | I37: 6373.76 | J37: ราคาต่ำสุด | K37: 53/2568 ลว.20 พ.ย.2568
A38: 32 | B38: จัดจ้างทำป้ายไวนิล สถานที่รับเลือกตั้งสมาชิกองค์การบริหารส่วนตำบลและนายกองค์การบริหารส่วนตำบลกุตาไก้ฯ | C38: 1554 | D38: 1554 | E38: เฉพาะเจาะจง | F38: ร้านปลาปากอิงค์เจ็ท | G38: 1554 | H38: ร้านปลาปากอิงค์เจ็ท | I38: 1554 | J38: ราคาต่ำสุด | K38: 54/2568 ลว.20 พ.ย.2568
A39: 33 | B39: จัดซื้อวัสดุสำนักงาน (กองคลัง) | C39: 2550 | D39: 2550 | E39: เฉพาะเจาะจง | F39: ร้านปริญญาการพิมพ์ | G39: 2550 | H39: ร้านปริญญาการพิมพ์ | I39: 2550 | J39: ราคาต่ำสุด | K39: 55/2568 ลว.21 พ.ย.2568
A40: 34 | B40: จัดซื้อวัสดุน้ำมันเชื้อเพลิงและหล่อลื่น ทะเบียน กจ 1745 นครพนม | C40: 2500 | D40: 2500 | E40: เฉพาะเจาะจง/ตาม แนวทางการจัดซื้อน้ำมันเชื้อเพลิงของหน่วยงานของรัฐ | F40: หจก.พนมบริการ | G40: 2500 | H40: หจก.พนมบริการ | I40: 2500 | J40: จัดซื้อน้ำมันเชื้อเพลิง ตามแนวทางการจัดซื้อน้ำมันเชื้อเพลิงของหน่วยงานของรัฐ ผู้ค้าให้เครดิต | K40: 25163 | L40: ไม่ลง eGp ตาม ว322
A41: 35 | B41: จัดซื้อวัสดุน้ำมันเชื้อเพลิงและหล่อลื่น ทะเบียน บจ 7439 นครพนม | C41: 2500 | D41: 2500 | E41: เฉพาะเจาะจง/ตาม แนวทางการจัดซื้อน้ำมันเชื้อเพลิงของหน่วยงานของรัฐ | F41: หจก.พนมบริการ | G41: 2500 | H41: หจก.พนมบริการ | I41: 2500 | J41: จัดซื้อน้ำมันเชื้อเพลิง ตามแนวทางการจัดซื้อน้ำมันเชื้อเพลิงของหน่วยงานของรัฐ ผู้ค้าให้เครดิต | K41: 25163 | L41: ไม่ลง eGp ตาม ว322
A42: 36 | B42: จัดซื้อวัสดุน้ำมันเชื้อเพลิงและหล่อลื่น ทะเบียน กง 1621 นครพนม | C42: 2000 | D42: 2000 | E42: เฉพาะเจาะจง/ตาม แนวทางการจัดซื้อน้ำมันเชื้อเพลิงของหน่วยงานของรัฐ | F42: หจก.พนมบริการ | G42: 2000 | H42: หจก.พนมบริการ | I42: 2000 | J42: จัดซื้อน้ำมันเชื้อเพลิง ตามแนวทางการจัดซื้อน้ำมันเชื้อเพลิงของหน่วยงานของรัฐ ผู้ค้าให้เครดิต | K42: 25163 | L42: ไม่ลง eGp ตาม ว322
A43: 37 | B43: จัดซื้อวัสดุสำนักงาน (พัสดุเลือกตั้ง) | C43: 7315 | D43: 7315 | E43: เฉพาะเจาะจง | F43: ร้านปริญญาการพิมพ์ | G43: 7315 | H43: ร้านปริญญาการพิมพ์ | I43: 7315 | J43: ราคาต่ำสุด | K43: 56/2568 ลว.21 พ.ย.2568
A44: 38 | B44: จัดซื้อวัสดุคอมพิวเตอร์ (กองคลัง) | C44: 8400 | D44: 8400 | E44: เฉพาะเจาะจง | F44: หจก.กวงเชียง(2537) | G44: 8400 | H44: หจก.กวงเชียง(2537) | I44: 8400 | J44: ราคาต่ำสุด | K44: 57/2568 ลว.21 พ.ย.2568
A45: 39 | B45: จัดซื้อวัสดุน้ำมันเชื้อเพลิงและหล่อลื่น รถยนต์ส่วนกลาง กข 2971 นครพนม | C45: 2000 | D45: 2000 | E45: เฉพาะเจาะจง/ตาม แนวทางการจัดซื้อน้ำมันเชื้อเพลิงของหน่วยงานของรัฐ | F45: หจก.พนมบริการ | G45: 2000 | H45: หจก.พนมบริการ | I45: 2000 | J45: จัดซื้อน้ำมันเชื้อเพลิง ตามแนวทางการจัดซื้อน้ำมันเชื้อเพลิงของหน่วยงานของรัฐ ผู้ค้าให้เครดิต | K45: 25166 | L45: ไม่ลง eGp ตาม ว322
A46: 40 | B46: จัดซื้อวัสดุน้ำมันเชื้อเพลิงและหล่อลื่น รถจักยานยนต์ ทะเบียน 1 กฉ นครพนม | C46: 1000 | D46: 1000 | E46: เฉพาะเจาะจง/ตาม แนวทางการจัดซื้อน้ำมันเชื้อเพลิงของหน่วยงานของรัฐ | F46: หจก.พนมบริการ | G46: 1000 | H46: หจก.พนมบริการ | I46: 1000 | J46: จัดซื้อน้ำมันเชื้อเพลิง ตามแนวทางการจัดซื้อน้ำมันเชื้อเพลิงของหน่วยงานของรัฐ ผู้ค้าให้เครดิต | K46: 25167 | L46: ไม่ลง eGp ตาม ว322
A47: 41 | B47: จัดซื้อวัสดุสำนักงาน (เลือกตั้ง) | C47: 5090 | D47: 5090 | E47: เฉพาะเจาะจง | F47: ร้านปริญญาการพิมพ์ | G47: 5090 | H47: ร้านปริญญาการพิมพ์ | I47: 5090 | J47: ราคาต่ำสุด | K47: 58/2568 ลว.27 พ.ย.2568
A48: 42 | B48: จัดจ้างซื้ออาหารเสริมนมให้แก่เด็กเล็กเด็กนักเรียนในสังกัดองค์การบริหารฯ จำนวน 4 แห่ง ศพด.ตำบลกุตาไก้ | C48: 24567.4 | D48: 24567.4 | E48: เฉพาะเจาะจง/ตามหลักเกณฑ์ฯ อสค. | F48: บริษัท แมรี่แอนแดรี่โปรดักส์ | G48: 24567.4 | H48: บริษัท แมรี่แอนแดรี่โปรดักส์ | I48: 24567.4 | J48: ราคาต่ำสุด/ตามหลักเกณฑ์ฯ อสค. | K48: 59/2568 ลว.28 พ.ย.2568
A49: 43 | B49: จัดจ้างโครงการก่อสร้างระบบประปาหมู่บ้านแบบบาดาลขนาดใหญ่ หมู่ที่ 4 บ้านกุตาไก้ | C49: 1,884,333.00 | D49: 1953218.9 | E49: e-bidding | F49: หจก.ดาวจรัส | G49: 1884333 | H49: หจก.ดาวจรัส | I49: 1884333 | J49: ราคาต่ำสุด | K49: 60/2568 ลว.28 พ.ย.2568
A50: 44 | B50: จัดซื้ออาหารเสริมนมให้แก่เด็กนักเรียนในโรงเรียนในสังกัดคณะกรรมการศึกษาขั้นพื้นฐาน (สพฐ) 6 แห่ง | C50: 102049.2 | D50: 102049.2 | E50: เฉพาะเจาะจง/ตามหลักเกณฑ์ฯ อสค. | F50: บริษัท แมรี่แอนแดรี่โปรดักส์ | G50: 102049.2 | H50: บริษัท แมรี่แอนแดรี่โปรดักส์ | I50: 102049.2 | J50: ราคาต่ำสุด/ตามหลักเกณฑ์ฯ อสค. | K50: 61/2568 ลว.28 พ.ย.2568
A51: 45 | B51: จัดจ้างเหมายานพาหนะรับ-ส่งเด็กเล็กตามโครงการสงเคราะห์ ประจำเดือนธันวาคม 2568 | C51: 12000 | D51: 12000 | E51: เฉพาะเจาะจง | F51: นางสาวธัญวรินทร์ สารโภคา | G51: 12000 | H51: นางสาวธัญวรินทร์ สารโภคา | I51: 12000 | J51: ราคาต่ำสุด | K51: 62/2568 ลว.28 พ.ย.2568

Sheet สขร1-ตค68
K1: แบบ สขร. 1
A2: แบบสรุปผลการดำเนินการจัดซื้อจัดจ้างในรอบเดือน ตุลาคม พ.ศ.2568
A3: องค์การบริหารส่วนตำบลกุตาไก้ อำเภอปลาปาก จังหวัดนครพนม
A4: วันที่ 31 ตุลาคม พ.ศ. 2568
A5: ลำดับที่ | B5: งานที่จัดซื้อหรือจัดจ้าง | C5: วงเงินที่จะซื้อหรือจ้าง | D5: ราคากลาง | E5: วิธีซื้อหรือจ้าง | F5: รายชื่อผู้เสนอราคาและราคาที่เสนอ | H5: ผู้ได้รับการคัดเลือกและราคาที่ตกลงซื้อหรือจ้าง | J5: เหตุผลที่คัดเลือก | K5: เลขที่และวันที่ของสัญญา | L5: หมายเหตุ
C6: (บาท) | D6: (บาท) | F6: ผู้เสนอราคา | G6: ราคาที่เสนอ | H6: ผู้ได้รับการคัดเลือก | I6: ราคาที่ตกลงซื้อหรือจ้าง | J6: โดยสรุป | K6: หรือข้อตกลงในการซื้อหรือจ้าง
A7: 1 | B7: จัดซื้อน้ำดื่มประจำเดือนตุลาคม 2568 | C7: 4000 | D7: 4000 | E7: เฉพาะเจาะจง/ ดำเนินการตาม ว119 | F7: ร้านภูไท | G7: 4000 | H7: ร้านภูไท | I7: 4000 | J7: ตาม ว119/ราคาต่ำสุด | K7: 1 ต.ค.2568 | L7: ไม่ลง eGp ตาม ว322
A8: 2 | B8: เช่าเครื่องถ่ายเอกสาร | C8: 60000 | D8: 60000 | E8: เฉพาะเจาะจง | F8: บจก.นครพนมเซอร์วิสโอเอ | G8: 60000 | H8: บจก.นครพนมเซอร์วิสโอเอ | I8: 60000 | J8: คุณสมบัติ/ราคาตามข้อตกลง | K8: 1 ต.ค.2568
A9: 3 | B9: จัดจ้างบุคคลเจ้าหน้าที่ประจำโครงการแผนที่และทะเบียนทรัพย์ ประจำเดือน ต.ค.68-ก.ย.69 นายพีระพล สิมลี | C9: 144000 | D9: 144000 | E9: เฉพาะเจาะจง | F9: นายพีระพล สิมลี | G9: 144000 | H9: นายพีระพล สิมลี | I9: 144000 | J9: คุณสมบัติ/ราคาตามข้อตกลง | K9: 2/2569 ลว.1ต.ค.2568 | L9: ไม่ลง eGp ตาม ว322
A10: 4 | B10: จัดจ้างบุคคลเจ้าหน้าที่ประจำโครงการแผนที่และทะเบียนทรัพย์ ประจำเดือน ต.ค.68-ก.ย.69 นางสาวปภัสรา จรีศรี | C10: 126000 | D10: 126000 | E10: เฉพาะเจาะจง | F10: นางสาวปภัสรา จรีศรี | G10: 126000 | H10: นางสาวปภัสรา จรีศรี | I10: 126000 | J10: คุณสมบัติ/ราคาตามข้อตกลง | K10: 3/2569 ลว.1ต.ค.2568 | L10: ไม่ลง eGp ตาม ว322
A11: 5 | B11: จัดจ้างบุคคลเจ้าหน้าที่ประจำโครงการแผนที่และทะเบียนทรัพย์ ประจำเดือน ต.ค.68-ก.ย.69 นางสาวสุรีรัตน์ ดีนัก | C11: 114000 | D11: 114000 | E11: เฉพาะเจาะจง | F11: นางสาวสุรีรัตน์ ดีนัก | G11: 114000 | H11: นางสาวสุรีรัตน์ ดีนัก | I11: 114000 | J11: คุณสมบัติ/ราคาตามข้อตกลง | K11: 4/2569 ลว.1ต.ค.2568 | L11: ไม่ลง eGp ตาม ว322
A12: 6 | B12: จัดจ้างบุคคลเจ้าหน้าที่งานสาธรณะสุข ประจำเดือน ต.ค.68-ก.ย.69 นางสาวศิริลักษณ์ มาลัง | C12: 114000 | D12: 114000 | E12: เฉพาะเจาะจง | F12: นางสาวศิริลักษณ์ มาลัง | G12: 114000 | H12: นางสาวศิริลักษณ์ มาลัง | I12: 114000 | J12: คุณสมบัติ/ราคาตามข้อตกลง | K12: 5/2569 ลว.1ต.ค.2568 | L12: ไม่ลง eGp ตาม ว322
A13: 7 | B13: จัดจ้างบุคคลสำรวจข้อมูลฯประจำเดือน ต.ค.68-ก.ย.69 นางสาวน้ำผึ้ง นาเอก | C13: 114000 | D13: 114000 | E13: เฉพาะเจาะจง | F13: นางสาวน้ำผึ้ง นาเอก | G13: 114000 | H13: นางสาวน้ำผึ้ง นาเอก | I13: 114000 | J13: คุณสมบัติ/ราคาตามข้อตกลง | K13: 6/2569 ลว.1ต.ค.2568 | L13: ไม่ลง eGp ตาม ว322
A14: 8 | B14: จัดจ้างบุคคลสำรวจข้อมูลฯและรายงานข้อมูลในการศึกษาและศพด.เด็กเล็กประจำเดือน ต.ค..68-ก.ย.69 นางสาวจันทิมา ไชยยะ | C14: 132000 | D14: 132000 | E14: เฉพาะเจาะจง | F14: นางสาวจันทิมา ไชยยะ | G14: 132000 | H14: นางสาวจันทิมา ไชยยะ | I14: 132000 | J14: คุณสมบัติ/ราคาตามข้อตกลง | K14: 7/2569 ลว.1ต.ค.2568 | L14: ไม่ลง eGp ตาม ว322
A15: 9 | B15: จัดจ้างบุคคลช่วยปฎิบัติงานพัสดุประจำเดือน ต.ค.68-ก.ย.69 นางสาวรัตติกาล ไชยรี | C15: 108000 | D15: 108000 | E15: เฉพาะเจาะจง | F15: นางสาวรัตติกาล ไชยรี | G15: 108000 | H15: นางสาวรัตติกาล ไชยรี | I15: 108000 | J15: คุณสมบัติ/ราคาตามข้อตกลง | K15: 8/2569 ลว.1ต.ค.2568 | L15: ไม่ลง eGp ตาม ว322
A16: 10 | B16: จัดจ้างบุคคล (แม่บ้าน) องค์การบริหารส่วนตำบลกุตาไก้ ประจำเดือน ต.ค.68-ก.ย.69 นางสมใจ เหมหา | C16: 126000 | D16: 126000 | E16: เฉพาะเจาะจง | F16: นางสมใจ เหมหา | G16: 126000 | H16: นางสมใจ เหมหา | I16: 126000 | J16: คุณสมบัติ/ราคาตามข้อตกลง | K16: 9/2569 ลว.1ต.ค.2568 | L16: ไม่ลง eGp ตาม ว322
A17: 11 | B17: จัดจ้างบุคคลดูแลรักษาความสะอาดศพด.ทั้ง 4แห่ง องค์การบริหารส่วนตำบลกุตาไก้ประจำเดือน ต.ค.68-ก.ย.69 นายธนาสิน ยาหัส | C17: 114000 | D17: 114000 | E17: เฉพาะเจาะจง | F17: นายธนาสิน ยาหัส | G17: 114000 | H17: นายธนาสิน ยาหัส | I17: 114000 | J17: คุณสมบัติ/ราคาตามข้อตกลง | K17: 10/2569 ลว.1ต.ค.2568 | L17: ไม่ลง eGp ตาม ว322
A18: 12 | B18: จัดจ้างบุคคลดูแลรักษาความสะอาดศพด.ทั้ง 4แห่ง องค์การบริหารส่วนตำบลกุตาไก้ประจำเดือน ต.ค.68-ก.ย.69 นางสาวพัชรี ไทยเจริญ | C18: 114000 | D18: 114000 | E18: เฉพาะเจาะจง | F18: นางสาวพัชรี ไทยเจริญ | G18: 114000 | H18: นางสาวพัชรี ไทยเจริญ | I18: 114000 | J18: คุณสมบัติ/ราคาตามข้อตกลง | K18: 11/2569 ลว.1ต.ค.2568 | L18: ไม่ลง eGp ตาม ว322
A19: 13 | B19: จัดจ้างเหมายานพาหนะรับ-ส่งเด็กเล็กตามโครงการสงเคราะห์ ประจำเดือนตุลาคม 2568 | C19: 12000 | D19: 12000 | E19: เฉพาะเจาะจง | F19: นางสาวธัญวรินทร์ สารโภคา | G19: 12000 | H19: นางสาวธัญวรินทร์ สารโภคา | I19: 12000 | J19: ราคาต่ำสุด | K19: 12/2569 ลว.1ต.ค.2568 | L19: ไม่ลง eGp ตาม ว322
A20: 14 | B20: จัดจ้างซื้ออาหารเสริมนมให้แก่เด็กเล็กเด็กนักเรียนในสังกัดองค์การบริหารฯ จำนวน 4 แห่ง ศพด.ตำบลกุตาไก้ | C20: 25434 | D20: 25434 | E20: เฉพาะเจาะจง/ตามหลักเกณฑ์ฯ อสค. | F20: บริษัท แมรี่แอนแดรี่โปรดักส์ | G20: 25434 | H20: บริษัท แมรี่แอนแดรี่โปรดักส์ | I20: 25434 | J20: ราคาต่ำสุด/ตามหลักเกณฑ์ฯ อสค. | K20: 13/2569 ลว.1ต.ค.2568
A21: 15 | B21: จัดซื้ออาหารเสริมนมให้แก่เด็กนักเรียนในโรงเรียนในสังกัดคณะกรรมการศึกษาขั้นพื้นฐาน (สพฐ) 6 แห่ง | C21: 117159 | D21: 117159 | E21: เฉพาะเจาะจง/ตามหลักเกณฑ์ฯ อสค. | F21: บริษัท แมรี่แอนแดรี่โปรดักส์ | G21: 117159 | H21: บริษัท แมรี่แอนแดรี่โปรดักส์ | I21: 117159 | J21: ราคาต่ำสุด/ตามหลักเกณฑ์ฯ อสค. | K21: 14/2569 ลว.2ต.ค.2568
A22: 16 | B22: จัดซื้อวัสดุน้ำมันเชื้อเพลิงและหล่อลื่น ทะเบียน กข 2971 นครพนม | C22: 2000 | D22: 2000 | E22: เฉพาะเจาะจง/ตาม แนวทางการจัดซื้อน้ำมันเชื้อเพลิงของหน่วยงานของรัฐ | F22: หจก.พนมบริการ | G22: 2000 | H22: หจก.พนมบริการ | I22: 2000 | J22: จัดซื้อน้ำมันเชื้อเพลิง ตามแนวทางการจัดซื้อน้ำมันเชื้อเพลิงของหน่วยงานของรัฐ ผู้ค้าให้เครดิต | K22: 2 ต.ค.2568 | L22: ไม่ลง eGp ตาม ว322
A23: 17 | B23: จัดซื้อวัสดุน้ำมันเชื้อเพลิงและหล่อลื่น ทะเบียน กง 1621 นครพนม | C23: 2000 | D23: 2000 | E23: เฉพาะเจาะจง/ตาม แนวทางการจัดซื้อน้ำมันเชื้อเพลิงของหน่วยงานของรัฐ | F23: หจก.พนมบริการ | G23: 2000 | H23: หจก.พนมบริการ | I23: 2000 | J23: จัดซื้อน้ำมันเชื้อเพลิง ตามแนวทางการจัดซื้อน้ำมันเชื้อเพลิงของหน่วยงานของรัฐ ผู้ค้าให้เครดิต | K23: 2 ต.ค.2568 | L23: ไม่ลง eGp ตาม ว322
A24: 18 | B24: จัดจ้างบริการตำแหน่งผู้ดูแลเด็ก ศพด.สังกัด อบต.กุตาไก้ น.ส.จินตรา สุจริต | C24: 114000 | D24: 114000 | E24: เฉพาะเจาะจง | F24: น.ส.จินตรา สุจริต | G24: 9500 | H24: น.ส.จินตรา สุจริต | I24: 114000 | J24: คุณสมบัติ/ราคาตามข้อตกลง | K24: 15/2569 ลว.3ต.ค.2568 | L24: ไม่ลง eGp ตาม ว322
A25: 19 | B25: จัดซื้อวัสดุน้ำมันเชื้อเพลิงและหล่อลื่น ทะเบียน 80-8462 นครพนม | C25: 3000 | D25: 3000 | E25: เฉพาะเจาะจง/ตาม แนวทางการจัดซื้อน้ำมันเชื้อเพลิงของหน่วยงานของรัฐ | F25: หจก.พนมบริการ | G25: 3000 | H25: หจก.พนมบริการ | I25: 3000 | J25: จัดซื้อน้ำมันเชื้อเพลิง ตามแนวทางการจัดซื้อน้ำมันเชื้อเพลิงของหน่วยงานของรัฐ ผู้ค้าให้เครดิต | K25: 6 ต.ค.2568 | L25: ไม่ลง eGp ตาม ว322
A26: 20 | B26: จัดซื้อวัสดุน้ำมันเชื้อเพลิงและหล่อลื่น (รถบรรทุกขยะ) | C26: 4500 | D26: 4500 | E26: เฉพาะเจาะจง/ตาม แนวทางการจัดซื้อน้ำมันเชื้อเพลิงของหน่วยงานของรัฐ | F26: หจก.พนมบริการ | G26: 4500 | H26: หจก.พนมบริการ | I26: 4500 | J26: จัดซื้อน้ำมันเชื้อเพลิง ตามแนวทางการจัดซื้อน้ำมันเชื้อเพลิงของหน่วยงานของรัฐ ผู้ค้าให้เครดิต | K26: 6 ต.ค.2568 | L26: ไม่ลง eGp ตาม ว322
A27: 21 | B27: จัดจ้างซ่อมรถ กง 7003 นครพนม | C27: 3807.08 | D27: 3807.08 | E27: เฉพาะเจาะจง | F27: บริษัทโตโยต้า เจริญศรี นครพนม | G27: 3807.08 | H27: บริษัทโตโยต้า เจริญศรี นครพนม | I27: 3807.08 | J27: ราคาต่ำสุด | K27: 16/2569 ลว.6ต.ค.2568
A28: 22 | B28: จัดซื้อวัสดุน้ำมันเชื้อเพลิงและหล่อลื่น ทะเบียน กง 1621 นครพนม | C28: 2000 | D28: 2000 | E28: เฉพาะเจาะจง/ตาม แนวทางการจัดซื้อน้ำมันเชื้อเพลิงของหน่วยงานของรัฐ | F28: หจก.พนมบริการ | G28: 2000 | H28: หจก.พนมบริการ | I28: 2000 | J28: จัดซื้อน้ำมันเชื้อเพลิง ตามแนวทางการจัดซื้อน้ำมันเชื้อเพลิงของหน่วยงานของรัฐ ผู้ค้าให้เครดิต | K28: 10 ต.ค.2568 | L28: ไม่ลง eGp ตาม ว322
A29: 23 | B29: จัดจ้างซ่อมแซมรถน้ำดับเพลิงทะเบียน 81-1331 นครพนม | C29: 781.1 | D29: 781.1 | E29: เฉพาะเจาะจง | F29: บจ.เจริญศรีเซลส์ นครพนม | G29: 781.1 | H29: บจ.เจริญศรีเซลส์ นครพนม | I29: 781.1 | J29: ราคาต่ำสุด | K29: 17/2569 ลว.10ต.ค.2568
A30: 24 | B30: จัดซื้อเครื่องคอมพิวเตอร์และเครื่องสำรองไฟ | C30: 22500 | D30: 22500 | E30: เฉพาะเจาะจง | F30: ร้านปริญญาการพิมพ์ | G30: 22500 | H30: ร้านปริญญาการพิมพ์ | I30: 22500 | J30: ราคาต่ำสุด | K30: 18/2569 ลว.10ต.ค.2568
A31: 25 | B31: จัดซื้อวัสดุน้ำมันเชื้อเพลิงและหล่อลื่นรถบรรทุกน้ำ ทะเบียน 80-5635 นครพนม | C31: 3000 | D31: 3000 | E31: เฉพาะเจาะจง/ตาม แนวทางการจัดซื้อน้ำมันเชื้อเพลิงของหน่วยงานของรัฐ | F31: หจก.พนมบริการ | G31: 3000 | H31: หจก.พนมบริการ | I31: 3000 | J31: จัดซื้อน้ำมันเชื้อเพลิง ตามแนวทางการจัดซื้อน้ำมันเชื้อเพลิงของหน่วยงานของรัฐ ผู้ค้าให้เครดิต | K31: 15 ต.ค.2568 | L31: ไม่ลง eGp ตาม ว322
A32: 26 | B32: จัดซื้อวัสดุน้ำมันเชื้อเพลิงและหล่อลื่นรถกู้ชีพคันเก่า ทะเบียน กจ 1745 นครพนม | C32: 2500 | D32: 2500 | E32: เฉพาะเจาะจง/ตาม แนวทางการจัดซื้อน้ำมันเชื้อเพลิงของหน่วยงานของรัฐ | F32: หจก.พนมบริการ | G32: 2500 | H32: หจก.พนมบริการ | I32: 2500 | J32: จัดซื้อน้ำมันเชื้อเพลิง ตามแนวทางการจัดซื้อน้ำมันเชื้อเพลิงของหน่วยงานของรัฐ ผู้ค้าให้เครดิต | K32: 15 ต.ค.2568 | L32: ไม่ลง eGp ตาม ว322
A33: 27 | B33: จัดซื้อวัสดุน้ำมันเชื้อเพลิงและหล่อลื่น (รถบรรทุกขยะ) | C33: 4500 | D33: 4500 | E33: เฉพาะเจาะจง/ตาม แนวทางการจัดซื้อน้ำมันเชื้อเพลิงของหน่วยงานของรัฐ | F33: หจก.พนมบริการ | G33: 4500 | H33: หจก.พนมบริการ | I33: 4500 | J33: จัดซื้อน้ำมันเชื้อเพลิง ตามแนวทางการจัดซื้อน้ำมันเชื้อเพลิงของหน่วยงานของรัฐ ผู้ค้าให้เครดิต | K33: 20 ต.ค.2568 | L33: ไม่ลง eGp ตาม ว322
A34: 28 | B34: จัดซื้อวัสดุน้ำมันเชื้อเพลิงและหล่อลื่น ทะเบียน กง 1621 นครพนม | C34: 2000 | D34: 2000 | E34: เฉพาะเจาะจง/ตาม แนวทางการจัดซื้อน้ำมันเชื้อเพลิงของหน่วยงานของรัฐ | F34: หจก.พนมบริการ | G34: 2000 | H34: หจก.พนมบริการ | I34: 2000 | J34: จัดซื้อน้ำมันเชื้อเพลิง ตามแนวทางการจัดซื้อน้ำมันเชื้อเพลิงของหน่วยงานของรัฐ ผู้ค้าให้เครดิต | K34: 21 ต.ค.2568 | L34: ไม่ลง eGp ตาม ว322
A35: 29 | B35: ซื้อตู้เอกสาร 9 ช่อง | C35: 42500 | D35: 42500 | E35: เฉพาะเจาะจง | F35: ร้านแสงชัยเฟอร์นิเจอร์ 2 โดยนางจงจิต ริมสกุล | G35: 42500 | H35: จงจิตร ริมสกุล | I35: 42500 | J35: ราคาต่ำสุด | K35: 19/2569 ลว.21ต.ค.2568
A36: 30 | B36: จัดซื้อเครื่องคอมพิวเตอร์(กองคลัง) | C36: 24000 | D36: 24000 | E36: เฉพาะเจาะจง | F36: หจก.กวงเชียง(2537) | G36: 24000 | H36: หจก.กวงเชียง(2537) | I36: 24000 | J36: ราคาต่ำสุด | K36: 20/2569 ลว.21ต.ค.2568
A37: 31 | B37: จัดซื้อวัสดุน้ำมันเชื้อเพลิงและหล่อลื่น ทะเบียน กจ 7003นครพนม | C37: 2500 | D37: 2500 | E37: เฉพาะเจาะจง/ตาม แนวทางการจัดซื้อน้ำมันเชื้อเพลิงของหน่วยงานของรัฐ | F37: หจก.พนมบริการ | G37: 2500 | H37: หจก.พนมบริการ | I37: 2500 | J37: จัดซื้อน้ำมันเชื้อเพลิง ตามแนวทางการจัดซื้อน้ำมันเชื้อเพลิงของหน่วยงานของรัฐ ผู้ค้าให้เครดิต | K37: 22 ต.ค.2568 | L37: ไม่ลง eGp ตาม ว322
A38: 32 | B38: จัดซื้อวัสดุน้ำมันเชื้อเพลิงและหล่อลื่น ทะเบียน บจ 7439 นครพนม รถกู้ชีพกู้ภัย | C38: 2500 | D38: 2500 | E38: เฉพาะเจาะจง/ตาม แนวทางการจัดซื้อน้ำมันเชื้อเพลิงของหน่วยงานของรัฐ | F38: หจก.พนมบริการ | G38: 2500 | H38: หจก.พนมบริการ | I38: 2500 | J38: จัดซื้อน้ำมันเชื้อเพลิง ตามแนวทางการจัดซื้อน้ำมันเชื้อเพลิงของหน่วยงานของรัฐ ผู้ค้าให้เครดิต | K38: 24 ต.ค.2568 | L38: ไม่ลง eGp ตาม ว322
A39: 33 | B39: จัดซื้อเครื่องคอมพิวเตอร์(กองช่าง) | C39: 34500 | D39: 34500 | E39: เฉพาะเจาะจง | F39: หจก.กวงเชียง(2537) | G39: 34500 | H39: หจก.กวงเชียง(2537) | I39: 34500 | J39: ราคาต่ำสุด | K39: 21/2569 ลว.29ต.ค.2568
A40: 34 | B40: จัดซื้อกระดาษ A4 (กองคลัง) | C40: 10875 | D40: 10875 | E40: เฉพาะเจาะจง | F40: ร้าน สาม อ เทคนิค | G40: 10875 | H40: ร้าน สาม อ เทคนิค | I40: 10875 | J40: ราคาต่ำสุด | K40: 22/2569 ลว.29ต.ค.2568
A41: 35 | B41: จัดซื้อวัสดุสำนักงาน (กองคลัง) | C41: 7475 | D41: 7475 | E41: เฉพาะเจาะจง | F41: ร้านปริญญาการพิมพ์ | G41: 7475 | H41: ร้านปริญญาการพิมพ์ | I41: 7475 | J41: ราคาต่ำสุด | K41: 23/2569 ลว.30ต.ค.2568
A42: 36 | B42: จัดจ้างซ่อมบำรุงรถ (เครื่องเสียง) | C42: 6650 | D42: 6650 | E42: เฉพาะเจาะจง | F42: ร้าน เอ็นเคพี | G42: 6650 | H42: ร้าน เอ็นเคพี | I42: 6650 | J42: ราคาต่ำสุด | K42: 24/2569 ลว.30.ต.ค. 2568
A43: 37 | B43: จัดจ้างวัสดุสำนักงาน (สนป.) | C43: 10390 | D43: 10390 | E43: เฉพาะเจาะจง | F43: ร้านปริญญาการพิมพ์ | G43: 10390 | H43: ร้านปริญญาการพิมพ์ | I43: 10390 | J43: ราคาต่ำสุด | K43: 25/2569 ลว.30.ต.ค. 2568
A44: 38 | B44: จัดจ้างซ่อมแซมบำรุงรักษาครุภัณฑ์สำนักงาน(เครื่องปรับอากาศ)ประจำห้องนายกฯ รหัสครุภัณฑ์ 420-61-001 จำนวน 1 เครื่อง | C44: 600 | D44: 600 | E44: เฉพาะเจาะจง | F44: ร้านเล็กแอร์ | G44: 600 | H44: ร้านเล็กแอร์ | I44: 600 | J44: ราคาต่ำสุด | K44: 26/2569 ลว.30.ต.ค. 2568 | L44: ไม่ลง eGp ตาม ว322
A45: 39 | B45: จัดซื้อวัสดุไฟฟ้าและวิทยุ (สนป.) | C45: 950 | D45: 950 | E45: เฉพาะเจาะจง | F45: ร้านปริญญาการพิมพ์ | G45: 950 | H45: ร้านปริญญาการพิมพ์ | I45: 950 | J45: ราคาต่ำสุด | K45: 27/2569 ลว.30.ต.ค. 2568 | L45: ไม่ลง eGp ตาม ว322
A46: 40 | B46: จัดจ้างซ่อมแซมเครื่องปรับอากาศ หมายเลขครุภัณฑ์ 420-63-002 (กองการศึกษา) | C46: 2400 | D46: 2400 | E46: เฉพาะเจาะจง | F46: ร้านเล็กแอร์ | G46: 2400 | H46: ร้านเล็กแอร์ | I46: 2400 | J46: ราคาต่ำสุด | K46: 28/2569 ลว.31.ต.ค. 2568 | L46: ไม่ลง eGp ตาม ว322
A47: 41 | B47: จัดจ้างซ่อมเครื่องคอมพิวเตอร์ (สนป.) | C47: 1500 | D47: 1500 | E47: เฉพาะเจาะจง | F47: หจก.กวงเชียง(2537) | G47: 1500 | H47: หจก.กวงเชียง(2537) | I47: 1500 | J47: ราคาต่ำสุด | K47: 29/2569 ลว.31.ต.ค. 2568 | L47: ไม่ลง eGp ตาม ว322
A48: 42 | B48: จัดจ้างเหมายานพาหนะรับ-ส่งเด็กเล็กตามโครงการสงเคราะห์ ประจำเดือนพฤศจิกายน2568 | C48: 12000 | D48: 12000 | E48: เฉพาะเจาะจง | F48: นางสาวธัญวรินทร์ สารโภคา | G48: 12000 | H48: นางสาวธัญวรินทร์ สารโภคา | I48: 12000 | J48: ราคาต่ำสุด | K48: 30/2569 ลว.31.ต.ค. 2568
A49: 43 | B49: จัดจ้างซ่อมรถบรรทุกน้ำ | C49: 17460.26 | D49: 17460.26 | E49: เฉพาะเจาะจง | F49: บจ.อีซูซุ นครพนม | G49: 17460.26 | H49: บจ.อีซูซุ นครพนม | I49: 17460.26 | J49: ราคาต่ำสุด | K49: 31/2569 ลว.31.ต.ค. 2568

Sheet อธิบายแบบ สขร. 1 
I1: แบบ สขร. 1
A2: อธิบายแบบสรุปผลการดำเนินการจัดซื้อจัดจ้างในรอบเดือน (แบบ สขร. 1)
B4: ช่องที่ (1) | C4: ระบุวันที่ เดือน ปี ที่จัดทำสรุปผลการดำเนินการจัดซื้อจัดจ้างนั้น
B5: ช่องที่ (2) | C5: ให้เรียงลำดับตามวันที่ของสัญญาหรือข้อตกลงเป็นหนังสือในการซื้อหรือจ้าง
B6: ช่องที่ (3) | C6: ระบุชื่อของงานที่จัดซื้อหรือจ้าง
B7: ช่องที่ (4) | C7: ระบุวงเงินงบประมาณ วงเงินตามโครงการเงินกู้หรือเงินช่วยเหลือ ที่จะซื้อหรือจ้างในครั้งนั้น ทั้งหมดถ้าไม่มีวงเงินดังกล่าวให้ระบุวงเงินที่ประมาณว่าจะซื้อหรือจ้างในครั้งนั้น
B8: ช่องที่ (5) | C8: ระบุวงเงินราคากลางของงานซื้อหรือจ้างในครั้งนั้น
B9: ช่องที่ (6) | C9: ระบุวิธีการที่จัดซื้อหรือจัดจ้างในครั้งนั้น
B10: ช่องที่ (7) | C10: ระบุชื่อของผู้ที่เข้าเสนอราคาในการจัดซื้อหรือจ้างครั้งนั้นทุกราย พร้อมทั้งราคาที่เสนอ
B11: ช่องที่ (8) | C11: ระบุชื่อผู้ที่ได้รับการคัดเลือกให้เป็นผู้ขายหรือผู้รับจ้าง พร้อมทั้งราคาที่ได้ตกลงซื้อหรือจ้าง
B12: ช่องที่ (9) | C12: ระบุเหตุผลที่คัดเลือกผู้ขายหรือผู้รับจ้างรายนั้น
B13: ช่องที่ (10) | C13: ระบุเลขที่ของสัญญาหรือข้อตกลงเป็นหนังสือ พร้อมทั้งวัน เดือน ปี ที่ทําสัญญาหรือข้อตกลงนั้น
