Workbook

Sheet สขร1-สิงหาคม 69
K1: แบบ สขร. 1
A2: แบบสรุปผลการดำเนินการจัดซื้อจัดจ้างในรอบเดือนสิงหาคม พ.ศ.2569
A3: องค์การบริหารส่วนตำบลกุตาไก้ อำเภอปลาปาก จังหวัดนครพนม
A4: วันที่ 31 สิงหาคม พ.ศ. 2569
A5: ลำดับที่ | B5: งานที่จัดซื้อหรือจัดจ้าง | C5: วงเงินที่จะซื้อหรือจ้าง | D5: ราคากลาง | E5: วิธีซื้อหรือจ้าง | F5: รายชื่อผู้เสนอราคาและราคาที่เสนอ | H5: ผู้ได้รับการคัดเลือกและราคาที่ตกลงซื้อหรือจ้าง | J5: เหตุผลที่คัดเลือก | K5: เลขที่และวันที่ของสัญญา | L5: หมายเหตุ
C6: (บาท) | D6: (บาท) | F6: ผู้เสนอราคา | G6: ราคาที่เสนอ | H6: ผู้ได้รับการคัดเลือก | I6: ราคาที่ตกลงซื้อหรือจ้าง | J6: โดยสรุป | K6: หรือข้อตกลงในการซื้อหรือจ้าง
A7: 1 | B7: จัดซื้อน้ำดื่มประจำเดือนสิงหาคม 2569 | C7: 4000 | D7: 4,000.00 | E7: เฉพาะเจาะจง/ ดำเนินการตาม ว119 | F7: ร้านภูไท | G7: 4000 | H7: ร้านภูไท | I7: 4000 | J7: ตาม ว119/ราคาต่ำสุด | K7: 3-ส.ค-2569 | L7: ไม่ลง eGp ตาม ว322
A8: 2 | B8: จัดซื้อวัสดุงานบ้านงานครัว (สำนักปลัด) | C8: 5680 | D8: 5680 | E8: เฉพาะเจาะจง | F8: วีระซัฟฟลาย | G8: 5680 | H8: วีระซัฟฟลาย | I8: 5680 | J8: ราคาต่ำสุด | K8: 274/2569 ลว 3-ส.ค-2569
A9: 3 | B9: ซื้อวัสดุคอมพิวเตอร์ (สำนักปลัด) | C9: 7150 | D9: 7150 | E9: เฉพาะเจาะจง | F9: หจก.กวงเชียง(2537) | G9: 7150 | H9: หจก.กวงเชียง(2537) | I9: 7150 | J9: ราคาต่ำสุด | K9: 275/2569 ลว 3-ส.ค-2569
A10: 4 | B10: จัดซื้อวัสดุน้ำมันเชื้อเพลิงและหล่อลื่น รถบรรทุกขยะ 80-8595 นครพนม | C10: 5000 | D10: 5000 | E10: เฉพาะเจาะจง/ตาม แนวทางการจัดซื้อน้ำมันเชื้อเพลิงของหน่วยงานของรัฐ | F10: หจก.พนมบริการ | G10: 5000 | H10: หจก.พนมบริการ | I10: 5000 | J10: จัดซื้อน้ำมันเชื้อเพลิง ตามแนวทางการจัดซื้อน้ำมันเชื้อเพลิงของหน่วยงานของรัฐ ผู้ค้าให้เครดิต | K10: 4-ส.ค-2569 ใบส่งของเล่มที่ 13 เลขที่ 35 | L10: ไม่ลง eGp ตาม ว322
A11: 5 | B11: จัดซื้อวัสดุน้ำมันเชื้อเพลิงและหล่อลื่น กง 1621 นครพนม | C11: 2500 | D11: 2500 | E11: เฉพาะเจาะจง/ตาม แนวทางการจัดซื้อน้ำมันเชื้อเพลิงของหน่วยงานของรัฐ | F11: หจก.พนมบริการ | G11: 2500 | H11: หจก.พนมบริการ | I11: 2500 | J11: จัดซื้อน้ำมันเชื้อเพลิง ตามแนวทางการจัดซื้อน้ำมันเชื้อเพลิงของหน่วยงานของรัฐ ผู้ค้าให้เครดิต | K11: 4-ส.ค-2569 ใบส่งของเล่มที่ 13 เลขที่ 34 | L11: ไม่ลง eGp ตาม ว322
A12: 6 | B12: จัดซื้อวัสดุน้ำมันเชื้อเพลิงและหล่อลื่น 80-8462 นครพนม | C12: 4000 | D12: 4000 | E12: เฉพาะเจาะจง/ตาม แนวทางการจัดซื้อน้ำมันเชื้อเพลิงของหน่วยงานของรัฐ | F12: หจก.พนมบริการ | G12: 4000 | H12: หจก.พนมบริการ | I12: 4000 | J12: จัดซื้อน้ำมันเชื้อเพลิง ตามแนวทางการจัดซื้อน้ำมันเชื้อเพลิงของหน่วยงานของรัฐ ผู้ค้าให้เครดิต | K12: 5-ส.ค-2569 ใบส่งของเล่มที่ 13 เลขที่ 37 | L12: ไม่ลง eGp ตาม ว322
A13: 7 | B13: จัดซื้อวัสดุน้ำมันเชื้อเพลิงและหล่อลื่น กจ 1745 นครพนม | C13: 3000 | D13: 3000 | E13: เฉพาะเจาะจง/ตาม แนวทางการจัดซื้อน้ำมันเชื้อเพลิงของหน่วยงานของรัฐ | F13: หจก.พนมบริการ | G13: 3000 | H13: หจก.พนมบริการ | I13: 3000 | J13: จัดซื้อน้ำมันเชื้อเพลิง ตามแนวทางการจัดซื้อน้ำมันเชื้อเพลิงของหน่วยงานของรัฐ ผู้ค้าให้เครดิต | K13: 5-ส.ค-2569 ใบส่งของเล่มที่ 13 เลขที่ 36 | L13: ไม่ลง eGp ตาม ว322
A14: 8 | B14: จัดซื้อวัสดุน้ำมันเชื้อเพลิงและหล่อลื่น รถจักยานยนต์ส่วนกลาง ทะเบียน 1 กฉ 9362 นครพนม | C14: 1000 | D14: 1000 | E14: เฉพาะเจาะจง/ตาม แนวทางการจัดซื้อน้ำมันเชื้อเพลิงของหน่วยงานของรัฐ | F14: หจก.พนมบริการ | G14: 1000 | H14: หจก.พนมบริการ | I14: 1000 | J14: จัดซื้อน้ำมันเชื้อเพลิง ตามแนวทางการจัดซื้อน้ำมันเชื้อเพลิงของหน่วยงานของรัฐ ผู้ค้าให้เครดิต | K14: 5-ส.ค-2569 ใบส่งของเล่มที่ 13 เลขที่ 39 | L14: ไม่ลง eGp ตาม ว322
A15: 9 | B15: จัดซื้อวัสดุสำนักงาน (สำนักปลัด) | C15: 4330 | D15: 4330 | E15: เฉพาะเจาะจง | F15: ร้านปริญญาการพิมพ์ | G15: 4330 | H15: ร้านปริญญาการพิมพ์ | I15: 4330 | J15: ราคาต่ำสุด | K15: 276/2569 ลว 6-ส.ค-2569 | L15: ไม่ลง eGp ตาม ว322
A16: 10 | B16: จัดซื้อวัสดุไฟฟ้าและวิทยุ | C16: 2280 | D16: 2280 | E16: เฉพาะเจาะจง | F16: หจก.กวงเชียง(2537) | G16: 2280 | H16: หจก.กวงเชียง(2537) | I16: 2280 | J16: ราคาต่ำสุด | K16: 277/2569 ลว 6-ส.ค-2569 | L16: ไม่ลง eGp ตาม ว322
A17: 11 | B17: จัดซื้อวัสดุไฟฟ้า (กองช่าง) | C17: 10350 | D17: 10350 | E17: เฉพาะเจาะจง | F17: ร้าน ป.วัชรา | G17: 10350 | H17: ร้าน ป.วัชรา | I17: 10350 | J17: ราคาต่ำสุด | K17: 278/2569 ลว 11-ส.ค-2569
A18: 12 | B18: จัดซื้อครุภัณฑ์สำรวจ-กล้องระดับ | C18: 30500 | D18: 30500 | E18: เฉพาะเจาะจง | F18: หจก.กวงเชียง(2537) | G18: 30500 | H18: หจก.กวงเชียง(2537) | I18: 30500 | J18: ราคาต่ำสุด | K18: 279/2569 ลว 11-ส.ค-2569
A19: 13 | B19: จัดซื้อครุภัณฑ์ก่อสร้าง-แบบหล่อ+เหล็กกระทุ้ง | C19: 12900 | D19: 12900 | E19: เฉพาะเจาะจง | F19: หจก.กวงเชียง(2537) | G19: 12900 | H19: หจก.กวงเชียง(2537) | I19: 12900 | J19: ราคาต่ำสุด | K19: 280/2569 ลว 11-ส.ค-2569
A20: 14 | B20: จัดจ้างขุดลอกร่องระบายน้ำและกำจัดสิ่งกีดขวาง | C20: 5000 | D20: 5000 | E20: เฉพาะเจาะจง | F20: นายอุทิศ อุเทนธรรม | G20: 5000 | H20: นายอุทิศ อุเทนธรรม | I20: 5000 | J20: ราคาต่ำสุด | K20: 281/2569 ลว 11-ส.ค-2569
A21: 15 | B21: จัดซื้อวัสดุไฟฟ้าและวิทยุ (ถ่านรีโมทโปรเจกเตอร์) | C21: 300 | D21: 300 | E21: เฉพาะเจาะจง | F21: หจก.กวงเชียง(2537) | G21: 300 | H21: หจก.กวงเชียง(2537) | I21: 300 | J21: ราคาต่ำสุด | K21: 282/2569 ลว 11-ส.ค-2569 | L21: ไม่ลง eGp ตาม ว322
A22: 16 | B22: จัดจ้างทำตรายาง (กองคลัง) (นางสาวปิติภัทร บุตราช) นักวิชาการจัดเก็บรายได้ | C22: 640 | D22: 640 | E22: เฉพาะเจาะจง | F22: ร้านปริญญาการพิมพ์ | G22: 640 | H22: ร้านปริญญาการพิมพ์ | I22: 640 | J22: ราคาต่ำสุด | K22: 283/2569 ลว 11-ส.ค-2569 | L22: ไม่ลง eGp ตาม ว322
A23: 17 | B23: จัดซื้อวัสดุน้ำมันเชื้อเพลิงและหล่อลื่น หมายเลขทะเบียน บจ 7439 นครพนม | C23: 3000 | D23: 3000 | E23: เฉพาะเจาะจง/ตาม แนวทางการจัดซื้อน้ำมันเชื้อเพลิงของหน่วยงานของรัฐ | F23: หจก.พนมบริการ | G23: 3000 | H23: หจก.พนมบริการ | I23: 3000 | J23: จัดซื้อน้ำมันเชื้อเพลิง ตามแนวทางการจัดซื้อน้ำมันเชื้อเพลิงของหน่วยงานของรัฐ ผู้ค้าให้เครดิต | K23: 13-ส.ค-2569 ใบส่งของเล่มที่ 14 เลขที่ 05 | L23: ไม่ลง eGp ตาม ว322
A24: 18 | B24: จัดซื้อวัสดุน้ำมันเชื้อเพลิงและหล่อลื่น หมายเลขทะเบียน กจ 7003 นครพนม | C24: 3000 | D24: 3000 | E24: เฉพาะเจาะจง/ตาม แนวทางการจัดซื้อน้ำมันเชื้อเพลิงของหน่วยงานของรัฐ | F24: หจก.พนมบริการ | G24: 3000 | H24: หจก.พนมบริการ | I24: 3000 | J24: จัดซื้อน้ำมันเชื้อเพลิง ตามแนวทางการจัดซื้อน้ำมันเชื้อเพลิงของหน่วยงานของรัฐ ผู้ค้าให้เครดิต | K24: 13-ส.ค-2569 ใบส่งของเล่มที่ 14 เลขที่ 04 | L24: ไม่ลง eGp ตาม ว322
A25: 19 | B25: จัดซื้อวัสดุน้ำมันเชื้อเพลิงและหล่อลื่น หมายเลขทะเบียน กง 1621 นครพนม | C25: 2500 | D25: 2500 | E25: เฉพาะเจาะจง/ตาม แนวทางการจัดซื้อน้ำมันเชื้อเพลิงของหน่วยงานของรัฐ | F25: หจก.พนมบริการ | G25: 2500 | H25: หจก.พนมบริการ | I25: 2500 | J25: จัดซื้อน้ำมันเชื้อเพลิง ตามแนวทางการจัดซื้อน้ำมันเชื้อเพลิงของหน่วยงานของรัฐ ผู้ค้าให้เครดิต | K25: 17-ส.ค-2569 ใบส่งของเล่มที่ 14 เลขที่ 19 | L25: ไม่ลง eGp ตาม ว322
A26: 20 | B26: จัดซื้อวัสดุน้ำมันเชื้อเพลิงและหล่อลื่น รถบรรทุกขยะ 80-8595 นครพนม | C26: 5000 | D26: 5000 | E26: เฉพาะเจาะจง/ตาม แนวทางการจัดซื้อน้ำมันเชื้อเพลิงของหน่วยงานของรัฐ | F26: หจก.พนมบริการ | G26: 5000 | H26: หจก.พนมบริการ | I26: 5000 | J26: จัดซื้อน้ำมันเชื้อเพลิง ตามแนวทางการจัดซื้อน้ำมันเชื้อเพลิงของหน่วยงานของรัฐ ผู้ค้าให้เครดิต | K26: 17-ส.ค-2569 ใบส่งของเล่มที่ 14 เลขที่ 20 | L26: ไม่ลง eGp ตาม ว322
A27: 21 | B27: จัดซื้อครุภัณฑ์สำนักงาน-ตู้เหล็ก (กองการศึกษา) | C27: 26400 | D27: 26400 | E27: เฉพาะเจาะจง | F27: หจก.กวงเชียง(2537) | G27: 26400 | H27: หจก.กวงเชียง(2537) | I27: 26400 | J27: ราคาต่ำสุด | K27: 284/2569 ลว 18-ส.ค-2569
A28: 22 | B28: จัดจ้างซ่อมแซมเครื่องปรับอากาศ ศพด.โพนทา | C28: 4400 | D28: 4400 | E28: เฉพาะเจาะจง | F28: ร้านเล็กแอร์ | G28: 4400 | H28: ร้านเล็กแอร์ | I28: 4400 | J28: ราคาต่ำสุด | K28: 285/2569 ลว 19-ส.ค-2569 | L28: ไม่ลง eGp ตาม ว322
A29: 23 | B29: จัดซื้อวัสดุฟ้าและวิทยุตู้คอนซูมเมอร์กันดูด 64 A ขนาด 4 ช่อง | C29: 2560 | D29: 2560 | E29: เฉพาะเจาะจง | F29: ร้าน ป.วัชรา | G29: 2560 | H29: ร้าน ป.วัชรา | I29: 2560 | J29: ราคาต่ำสุด | K29: 286/2569 ลว 20-ส.ค-2569 | L29: ไม่ลง eGp ตาม ว322
A30: 24 | B30: จัดซื้อวัสดุวิทยาศาสตร์หรือการแพทย์ | C30: 4000 | D30: 4000 | E30: เฉพาะเจาะจง | F30: พี พี เจ เคมิคอล | G30: 4000 | H30: พี พี เจ เคมิคอล | I30: 4000 | J30: ราคาต่ำสุด | K30: 287/2569 ลว 20-ส.ค-2569 | L30: ไม่ลง eGp ตาม ว322
A31: 25 | B31: จัดจ้างซ่อมระบบประปา ศพด.โพนทา | C31: 9750 | D31: 9750 | E31: เฉพาะเจาะจง | F31: ร้าน ป.วัชรา | G31: 9750 | H31: ร้าน ป.วัชรา | I31: 9750 | J31: ราคาต่ำสุด | K31: 288/2569 ลว 26-ส.ค-2569
A32: 26 | B32: ='สขร1-มีค69'!$B$37 -> จัดซื้ออาหารเสริมนมให้แก่เด็กนักเรียนในโรงเรียนในสังกัดคณะกรรมการศึกษาขั้นพื้นฐาน (สพฐ) 6 แห่ง | C32: 103939 | D32: 103939 | E32: ='สขร1-มีค69'!$E$37 -> เฉพาะเจาะจง/ตามหลักเกณฑ์ฯ อสค. | F32: ='สขร1-มีค69'!$F$37 -> บริษัท แมรี่แอนแดรี่โปรดักส์ | G32: 103939 | H32: ='สขร1-มีค69'!$F$37 -> บริษัท แมรี่แอนแดรี่โปรดักส์ | I32: 103939 | J32: ='สขร1-มีค69'!$J$37 -> ราคาต่ำสุด/ตามหลักเกณฑ์ฯ อสค. | K32: 289/2569 ลว 26-ส.ค-2569
A33: 27 | B33: จัดซื้ออาหารเสริมนมให้แก่เด็กเล็กเด็กนักเรียนในสังกัดองค์การบริหารฯ จำนวน 4 แห่ง | C33: 20787.8 | D33: 20787.8 | E33: ='สขร1-มีค69'!$E$37 -> เฉพาะเจาะจง/ตามหลักเกณฑ์ฯ อสค. | F33: ='สขร1-มีค69'!$F$37 -> บริษัท แมรี่แอนแดรี่โปรดักส์ | G33: 20787.8 | H33: ='สขร1-มีค69'!$F$37 -> บริษัท แมรี่แอนแดรี่โปรดักส์ | I33: 20787.8 | J33: ='สขร1-มีค69'!$J$37 -> ราคาต่ำสุด/ตามหลักเกณฑ์ฯ อสค. | K33: 290/2569 ลว 26-ส.ค-2569
A34: 28 | B34: จัดจ้างเหมายานพาหนะรับ-ส่งเด็กเล็กตามโครงการสงเคราะห์ ประจำเดือนกันยายน 2569 | C34: 12000 | D34: 12000 | E34: เฉพาะเจาะจง | F34: นางสาวธัญวรินทร์ สารโภคา | G34: 12000 | H34: นางสาวธัญวรินทร์ สารโภคา | I34: 12000 | J34: ราคาต่ำสุด | K34: 291/2569 ลว 27-ส.ค-2569
A35: 29 | B35: จัดซื้อวัสดุน้ำมันเชื้อเพลิงและหล่อลื่น ทะเบียน กง 1621 นครพนม | C35: 2500 | D35: 2500 | E35: เฉพาะเจาะจง/ตาม แนวทางการจัดซื้อน้ำมันเชื้อเพลิงของหน่วยงานของรัฐ | F35: หจก.พนมบริการ | G35: 2500 | H35: หจก.พนมบริการ | I35: 2500 | J35: จัดซื้อน้ำมันเชื้อเพลิง ตามแนวทางการจัดซื้อน้ำมันเชื้อเพลิงของหน่วยงานของรัฐ ผู้ค้าให้เครดิต | K35: 26-ส.ค-2569 ใบส่งของเล่มที่ 14 เลขที่ 47 | L35: ไม่ลง eGp ตาม ว322
A36: 30 | B36: จัดซื้อวัสดุน้ำมันเชื้อเพลิงและหล่อลื่น ทะเบียน บจ 7439 นครพนม | C36: 3000 | D36: 3000 | E36: เฉพาะเจาะจง/ตาม แนวทางการจัดซื้อน้ำมันเชื้อเพลิงของหน่วยงานของรัฐ | F36: หจก.พนมบริการ | G36: 3000 | H36: หจก.พนมบริการ | I36: 3000 | J36: จัดซื้อน้ำมันเชื้อเพลิง ตามแนวทางการจัดซื้อน้ำมันเชื้อเพลิงของหน่วยงานของรัฐ ผู้ค้าให้เครดิต | K36: 26-ส.ค-2569 ใบส่งของเล่มที่ 14 เลขที่ 46 | L36: ไม่ลง eGp ตาม ว322
A37: 31 | B37: จัดจ้างแม่บ้านนางสาวเพ็ญณภา อ่อนพุทรา ประจำเดือนสิงหาคม 2569 | C37: 9000 | D37: 9000 | E37: เฉพาะเจาะจง | F37: นางสาวเพ็ญณภา อ่อนพุทรา | G37: 9000 | H37: นางสาวเพ็ญณภา อ่อนพุทรา | I37: 9000 | J37: ราคาต่ำสุด | K37: 290/2569 ลว 26-ส.ค-2569 | L37: ไม่ลง eGp ตาม ว322
A38: 32 | B38: จัดซื้อวัสดุน้ำมันเชื้อเพลิงและหล่อลื่น ทะเบียน 80-8595 นครพนม | C38: 5000 | D38: 5000 | E38: เฉพาะเจาะจง/ตาม แนวทางการจัดซื้อน้ำมันเชื้อเพลิงของหน่วยงานของรัฐ | F38: หจก.พนมบริการ | G38: 5000 | H38: หจก.พนมบริการ | I38: 5000 | J38: จัดซื้อน้ำมันเชื้อเพลิง ตามแนวทางการจัดซื้อน้ำมันเชื้อเพลิงของหน่วยงานของรัฐ ผู้ค้าให้เครดิต | K38: 26-ส.ค-2569 ใบส่งของเล่มที่ 15 เลขที่ 08 | L38: ไม่ลง eGp ตาม ว322

Sheet สขร1-กรกฎาคม 69
K1: แบบ สขร. 1
A2: แบบสรุปผลการดำเนินการจัดซื้อจัดจ้างในรอบเดือนกรกฎาคม พ.ศ.2569
A3: องค์การบริหารส่วนตำบลกุตาไก้ อำเภอปลาปาก จังหวัดนครพนม
A4: วันที่ 31 กรกฎาคม พ.ศ. 2569
A5: ลำดับที่ | B5: งานที่จัดซื้อหรือจัดจ้าง | C5: วงเงินที่จะซื้อหรือจ้าง | D5: ราคากลาง | E5: วิธีซื้อหรือจ้าง | F5: รายชื่อผู้เสนอราคาและราคาที่เสนอ | H5: ผู้ได้รับการคัดเลือกและราคาที่ตกลงซื้อหรือจ้าง | J5: เหตุผลที่คัดเลือก | K5: เลขที่และวันที่ของสัญญา | L5: หมายเหตุ
C6: (บาท) | D6: (บาท) | F6: ผู้เสนอราคา | G6: ราคาที่เสนอ | H6: ผู้ได้รับการคัดเลือก | I6: ราคาที่ตกลงซื้อหรือจ้าง | J6: โดยสรุป | K6: หรือข้อตกลงในการซื้อหรือจ้าง
A7: 1 | B7: จัดซื้อน้ำดื่มประจำเดือนกรกฎาคม 2569 | C7: 4000 | D7: 4,000.00 | E7: เฉพาะเจาะจง/ ดำเนินการตาม ว119 | F7: ร้านภูไท | G7: 4000 | H7: ร้านภูไท | I7: 4000 | J7: ตาม ว119/ราคาต่ำสุด | K7: 1-ก.ค-2569 | L7: ไม่ลง eGp ตาม ว322
A8: 2 | B8: จัดจ้างซ่อมบำรุงรักษาเครื่องปรับอากาศอาคารร่มโพธิ์ทอง | C8: 6350 | D8: 6350 | E8: เฉพาะเจาะจง | F8: ร้านเล็กแอร์ | G8: 6350 | H8: ร้านเล็กแอร์ | I8: 6350 | J8: ราคาต่ำสุด | K8: 241/2569 ลว 1-ก.ค-2569
A9: 3 | B9: จัดซื้ออาหารเสริมนมให้แก่เด็กเล็กเด็กนักเรียนในสังกัดองค์การบริหารฯ จำนวน 4 แห่ง | C9: 18898 | D9: 18898 | E9: ='สขร1-มีค69'!$E$37 -> เฉพาะเจาะจง/ตามหลักเกณฑ์ฯ อสค. | F9: ='สขร1-มีค69'!$F$37 -> บริษัท แมรี่แอนแดรี่โปรดักส์ | G9: 18898 | H9: ='สขร1-มีค69'!$F$37 -> บริษัท แมรี่แอนแดรี่โปรดักส์ | I9: 18898 | J9: ='สขร1-มีค69'!$J$37 -> ราคาต่ำสุด/ตามหลักเกณฑ์ฯ อสค. | K9: 242/2569 ลว 1-ก.ค-2569
A10: 4 | B10: ='สขร1-มีค69'!$B$37 -> จัดซื้ออาหารเสริมนมให้แก่เด็กนักเรียนในโรงเรียนในสังกัดคณะกรรมการศึกษาขั้นพื้นฐาน (สพฐ) 6 แห่ง | C10: 93974.6 | D10: 93974.6 | E10: ='สขร1-มีค69'!$E$37 -> เฉพาะเจาะจง/ตามหลักเกณฑ์ฯ อสค. | F10: ='สขร1-มีค69'!$F$37 -> บริษัท แมรี่แอนแดรี่โปรดักส์ | G10: 93974.6 | H10: ='สขร1-มีค69'!$F$37 -> บริษัท แมรี่แอนแดรี่โปรดักส์ | I10: 93974.6 | J10: ='สขร1-มีค69'!$J$37 -> ราคาต่ำสุด/ตามหลักเกณฑ์ฯ อสค. | K10: 243/2569 ลว 1-ก.ค-2569
A11: 5 | B11: จัดซื้อวัสดุน้ำมันเชื้อเพลิงและหล่อลื่น รถบรรทุกขยะ 80-8595 นครพนม | C11: 5000 | D11: 5000 | E11: เฉพาะเจาะจง/ตาม แนวทางการจัดซื้อน้ำมันเชื้อเพลิงของหน่วยงานของรัฐ | F11: หจก.พนมบริการ | G11: 5000 | H11: หจก.พนมบริการ | I11: 5000 | J11: จัดซื้อน้ำมันเชื้อเพลิง ตามแนวทางการจัดซื้อน้ำมันเชื้อเพลิงของหน่วยงานของรัฐ ผู้ค้าให้เครดิต | K11: 2-ก.ค-2569 ใบส่งของเล่มที่ 11 เลขที่ 21 | L11: ไม่ลง eGp ตาม ว322
A12: 6 | B12: จัดซื้อวัสดุน้ำมันเชื้อเพลิงและหล่อลื่น ทะเบียน กง 1621 นครพนม | C12: 2500 | D12: 2500 | E12: เฉพาะเจาะจง/ตาม แนวทางการจัดซื้อน้ำมันเชื้อเพลิงของหน่วยงานของรัฐ | F12: หจก.พนมบริการ | G12: 2500 | H12: หจก.พนมบริการ | I12: 2500 | J12: จัดซื้อน้ำมันเชื้อเพลิง ตามแนวทางการจัดซื้อน้ำมันเชื้อเพลิงของหน่วยงานของรัฐ ผู้ค้าให้เครดิต | K12: 2-ก.ค-2569 ใบส่งของเล่มที่ 11 เลขที่ 22 | L12: ไม่ลง eGp ตาม ว322
A13: 7 | B13: จัดซื้อแบตเตอรี่เครื่องพ่นหมอกควัน | C13: 2940 | D13: 2940 | E13: เฉพาะเจาะจง | F13: หจก.กวงเชียง(2537) | G13: 2940 | H13: หจก.กวงเชียง(2537) | I13: 2940 | J13: ราคาต่ำสุด | K13: 244/2569 ลว 3-ก.ค-2569 | L13: ไม่ลง eGp ตาม ว322
A14: 8 | B14: จัดจ้างทำป้ายไวนิลทำเนียบผู้ปฏิบัติงานให้บริการระบบการแพทย์ฉุกเฉิน (EMS) องค์การบริหารส่วนตำบลกุตาไก้ | C14: 415 | D14: 415 | E14: เฉพาะเจาะจง | F14: ร้านปลาปากอิงค์เจ็ท | G14: 415 | H14: ร้านปลาปากอิงค์เจ็ท | I14: 415 | J14: ราคาต่ำสุด | K14: 245/2569 ลว 3-ก.ค-2569 | L14: ไม่ลง eGp ตาม ว322
A15: 9 | B15: จัดซื้อวัสดุน้ำมันเชื้อเพลิงและหล่อลื่น กจ 1745 นครพนม | C15: 3000 | D15: 3000 | E15: เฉพาะเจาะจง/ตาม แนวทางการจัดซื้อน้ำมันเชื้อเพลิงของหน่วยงานของรัฐ | F15: หจก.พนมบริการ | G15: 3000 | H15: หจก.พนมบริการ | I15: 3000 | J15: จัดซื้อน้ำมันเชื้อเพลิง ตามแนวทางการจัดซื้อน้ำมันเชื้อเพลิงของหน่วยงานของรัฐ ผู้ค้าให้เครดิต | K15: 3-ก.ค-2569 ใบส่งของเล่มที่ 11 เลขที่ 24 | L15: ไม่ลง eGp ตาม ว322
A16: 10 | B16: จัดซื้อวัสดุสำนักงาน (สำนักปลัด) | C16: 4710 | D16: 4710 | E16: เฉพาะเจาะจง | F16: ร้านปริญญาการพิมพ์ | G16: 4710 | H16: ร้านปริญญาการพิมพ์ | I16: 4710 | J16: ราคาต่ำสุด | K16: 246/2569 ลว 8-ก.ค-2569 | L16: ไม่ลง eGp ตาม ว322
A17: 11 | B17: จัดจ้างบำรุงรักษารถยนต์ส่วนกลาง ทะเบียน กจ 7003 นครพนม | C17: 3939.95 | D17: 3939.95 | E17: เฉพาะเจาะจง | F17: บจ.โตโยต้าเจริญศรี | G17: 3939.95 | H17: บจ.โตโยต้าเจริญศรี | I17: 3939.95 | J17: ราคาต่ำสุด | K17: 247/2569 ลว 8-ก.ค-2569 | L17: ไม่ลง eGp ตาม ว322
A18: 12 | B18: จัดจ้างซ่อมบำรุงรถยนต์ส่วนกลาง หมายเลขทะเบียน กจ 7003 นครพนม | C18: 3000 | D18: 3000 | E18: เฉพาะเจาะจง/ตาม แนวทางการจัดซื้อน้ำมันเชื้อเพลิงของหน่วยงานของรัฐ | F18: หจก.พนมบริการ | G18: 3000 | H18: หจก.พนมบริการ | I18: 3000 | J18: จัดซื้อน้ำมันเชื้อเพลิง ตามแนวทางการจัดซื้อน้ำมันเชื้อเพลิงของหน่วยงานของรัฐ ผู้ค้าให้เครดิต | K18: 9-ก.ค-2569 ใบส่งของเล่มที่ 11 เลขที่ 36 | L18: ไม่ลง eGp ตาม ว322
A19: 13 | B19: จัดซื้อวัสดุน้ำมันเชื้อเพลิงและหล่อลื่น กข 2971 นครพนม | C19: 2500 | D19: 2500 | E19: เฉพาะเจาะจง/ตาม แนวทางการจัดซื้อน้ำมันเชื้อเพลิงของหน่วยงานของรัฐ | F19: หจก.พนมบริการ | G19: 2500 | H19: หจก.พนมบริการ | I19: 2500 | J19: จัดซื้อน้ำมันเชื้อเพลิง ตามแนวทางการจัดซื้อน้ำมันเชื้อเพลิงของหน่วยงานของรัฐ ผู้ค้าให้เครดิต | K19: 9-ก.ค-2569 ใบส่งของเล่มที่ 11 เลขที่ 40 | L19: ไม่ลง eGp ตาม ว322
A20: 14 | B20: จัดจ้างซ่อมเครื่องปริ้นเตอร์ Brotherpcp-1510 หมายเลขครุภัณฑ์416-58-003 | C20: 600 | D20: 600 | E20: เฉพาะเจาะจง | F20: หจก.กวงเชียง(2537) | G20: 600 | H20: หจก.กวงเชียง(2537) | I20: 600 | J20: ราคาต่ำสุด | K20: 248/2569 ลว 9-ก.ค-2569 | L20: ไม่ลง eGp ตาม ว322
A21: 15 | B21: จัดซื้อวัสดุน้ำมันเชื้อเพลิงและหล่อลื่น รถบรรทุกขยะ 80-8595 นครพนม | C21: 5000 | D21: 5000 | E21: เฉพาะเจาะจง/ตาม แนวทางการจัดซื้อน้ำมันเชื้อเพลิงของหน่วยงานของรัฐ | F21: หจก.พนมบริการ | G21: 5000 | H21: หจก.พนมบริการ | I21: 5000 | J21: จัดซื้อน้ำมันเชื้อเพลิง ตามแนวทางการจัดซื้อน้ำมันเชื้อเพลิงของหน่วยงานของรัฐ ผู้ค้าให้เครดิต | K21: 10-ก.ค-2569 ใบส่งของเล่มที่ 11 เลขที่ 47 | L21: ไม่ลง eGp ตาม ว322
A22: 16 | B22: จัดซื้อวัสดุน้ำมันเชื้อเพลิงและหล่อลื่น ทะเบียน กง 1621 นครพนม | C22: 2500 | D22: 2500 | E22: เฉพาะเจาะจง/ตาม แนวทางการจัดซื้อน้ำมันเชื้อเพลิงของหน่วยงานของรัฐ | F22: หจก.พนมบริการ | G22: 2500 | H22: หจก.พนมบริการ | I22: 2500 | J22: จัดซื้อน้ำมันเชื้อเพลิง ตามแนวทางการจัดซื้อน้ำมันเชื้อเพลิงของหน่วยงานของรัฐ ผู้ค้าให้เครดิต | K22: 10-ก.ค-2569 ใบส่งของเล่มที่ 11 เลขที่ 48 | L22: ไม่ลง eGp ตาม ว322
A23: 17 | B23: จัดจ้างซ่อมบำรุงรักษาเครื่องปรับอากาศ ศพด.โพนทา | C23: 9400 | D23: 9400 | E23: เฉพาะเจาะจง | F23: ร้านเล็กแอร์ | G23: 9400 | H23: ร้านเล็กแอร์ | I23: 9400 | J23: ราคาต่ำสุด | K23: 249/2569 ลว 15-ก.ค-2569
A24: 18 | B24: จัดซื้อวัสดุไฟฟ้า (กองการศึกษา) | C24: 9219 | D24: 9219 | E24: เฉพาะเจาะจง | F24: ร้าน ป.วัชรา | G24: 9219 | H24: ร้าน ป.วัชรา | I24: 9219 | J24: ราคาต่ำสุด | K24: 250/2569 ลว 15-ก.ค-2569
A25: 19 | B25: จัดซื้อวัสดุก่อสร้าง (กองการศึกษา) | C25: 15380 | D25: 15380 | E25: เฉพาะเจาะจง | F25: ร้าน ป.วัชรา | G25: 15380 | H25: ร้าน ป.วัชรา | I25: 15380 | J25: ราคาต่ำสุด | K25: 251/2569 ลว 15-ก.ค-2569
A26: 20 | B26: จัดจ้างซ่อมรถกู้ชีพ (ซ่อมแอร์) | C26: 6500 | D26: 6500 | E26: เฉพาะเจาะจง | F26: ร้านเอ็น เค พี คาร์แคร์ | G26: 6500 | H26: ร้านเอ็น เค พี คาร์แคร์ | I26: 6500 | J26: ราคาต่ำสุด | K26: 252/2569 ลว 15-ก.ค-2569
A27: 21 | B27: จัดซื้อวัสดุน้ำมันเชื้อเพลิงและหล่อลื่น รถกู้ชีพกู้ภัย บจ 7439 นครพนม | C27: 3000 | D27: 3000 | E27: เฉพาะเจาะจง/ตาม แนวทางการจัดซื้อน้ำมันเชื้อเพลิงของหน่วยงานของรัฐ | F27: หจก.พนมบริการ | G27: 3000 | H27: หจก.พนมบริการ | I27: 3000 | J27: จัดซื้อน้ำมันเชื้อเพลิง ตามแนวทางการจัดซื้อน้ำมันเชื้อเพลิงของหน่วยงานของรัฐ ผู้ค้าให้เครดิต | K27: 15-ก.ค-2569 ใบส่งของเล่มที่ 12 เลขที่ 07 | L27: ไม่ลง eGp ตาม ว322
A28: 22 | B28: จัดซื้อกระดาษ (สำนักปลัด) | C28: 14500 | D28: 14500 | E28: เฉพาะเจาะจง | F28: ร้านสาม อ. เทคนิค | G28: 14500 | H28: ร้านสาม อ. เทคนิค | I28: 14500 | J28: ราคาต่ำสุด | K28: 253/2569 ลว 17-ก.ค-2569
A29: 23 | B29: จัดซื้อกระดาษ (กองการศึกษา) | C29: 7250 | D29: 7250 | E29: เฉพาะเจาะจง | F29: ร้านสาม อ. เทคนิค | G29: 7250 | H29: ร้านสาม อ. เทคนิค | I29: 7250 | J29: ราคาต่ำสุด | K29: 254/2569 ลว 17-ก.ค-2569
A30: 24 | B30: จัดซื้อวัสดุสำนักงาน | C30: 5365 | D30: 5365 | E30: เฉพาะเจาะจง | F30: ร้านสาม อ. เทคนิค | G30: 5365 | H30: ร้านสาม อ. เทคนิค | I30: 5365 | J30: ราคาต่ำสุด | K30: 255/2569 ลว 17-ก.ค-2569
A31: 25 | B31: ซื้อวัสดุ (สำนักปลัด) | C31: 17400 | D31: 17400 | E31: เฉพาะเจาะจง | F31: วีระซัฟฟลาย | G31: 17400 | H31: วีระซัฟฟลาย | I31: 17400 | J31: ราคาต่ำสุด | K31: 256/2569 ลว 17-ก.ค-2569
A32: 26 | B32: จัดซื้อวัสดุสำนักงาน (กองการศึกษา) | C32: 5840 | D32: 5840 | E32: เฉพาะเจาะจง | F32: ร้านปริญญาการพิมพ์ | G32: 5840 | H32: ร้านปริญญาการพิมพ์ | I32: 5840 | J32: ราคาต่ำสุด | K32: 257/2569 ลว 20-ก.ค-2569
A33: 27 | B33: ซื้อวัสดุคอมพิวเตอร์ (กองการศึกษา) | C33: 13500 | D33: 13500 | E33: เฉพาะเจาะจง | F33: หจก.กวงเชียง(2537) | G33: 13500 | H33: หจก.กวงเชียง(2537) | I33: 13500 | J33: ราคาต่ำสุด | K33: 258/2569 ลว 20-ก.ค-2569
A34: 28 | B34: จัดจ้างซ่อมรถ กข 7003 นพ (กองช่าง) เปลี่ยนกระจก | C34: 8907.6 | D34: 8907.6 | E34: เฉพาะเจาะจง | F34: บจ.โตโยต้าเจริญศรี | G34: 8907.6 | H34: บจ.โตโยต้าเจริญศรี | I34: 8907.6 | J34: ราคาต่ำสุด | K34: 259/2569 ลว 20-ก.ค-2569
B35: จัดซื้อวัสดุน้ำมันเชื้อเพลิงและหล่อลื่น กจ 1745 นครพนม | C35: 3000 | D35: 3000 | E35: เฉพาะเจาะจง/ตาม แนวทางการจัดซื้อน้ำมันเชื้อเพลิงของหน่วยงานของรัฐ | F35: หจก.พนมบริการ | G35: 3000 | H35: หจก.พนมบริการ | I35: 3000 | J35: จัดซื้อน้ำมันเชื้อเพลิง ตามแนวทางการจัดซื้อน้ำมันเชื้อเพลิงของหน่วยงานของรัฐ ผู้ค้าให้เครดิต | K35: 21-ก.ค-2569 ใบส่งของเล่มที่ 12 เลขที่ 27 | L35: ไม่ลง eGp ตาม ว322
A36: 29 | B36: โครงการก่อสร้างถนน คสล.รหัสทางหลวง นพ.ถ.21-0001 สายทางบ้านดอนดู่-บ้านนาดอกไม้ ม.3 บ้านดอนดู่ | C36: 1340000 | D36: 1908503.9 | E36: e-bidding | F36: หจก.อุบลรัตน์ก่อสร้าง 2015 | G36: 1340000 | H36: หจก.อุบลรัตน์ก่อสร้าง 2015 | I36: 1340000 | J36: ราคาต่ำสุด | K36: 260/2569 ลว 21-ก.ค-2569
F37: หจก.พาหุงรุงเรือง | G37: 1344080
F38: หจก.สกลนครสิทธิชัยวิศวกรรม | G38: 1612000
F39: หจก.ภูริพัฒน์ กรุ๊ป | G39: 1777777
F40: หจก.นครหลวงท่าอุเทน คอนสตัคชั่นจำกัด | G40: 1791000
...

Sheet สขร1-มิถุนายน 69 
K1: แบบ สขร. 1
A2: แบบสรุปผลการดำเนินการจัดซื้อจัดจ้างในรอบเดือนมิถุนายน พ.ศ.2569
A3: องค์การบริหารส่วนตำบลกุตาไก้ อำเภอปลาปาก จังหวัดนครพนม
A4: วันที่ 30 มิถุนายน พ.ศ. 2569
A5: ลำดับที่ | B5: งานที่จัดซื้อหรือจัดจ้าง | C5: วงเงินที่จะซื้อหรือจ้าง | D5: ราคากลาง | E5: วิธีซื้อหรือจ้าง | F5: รายชื่อผู้เสนอราคาและราคาที่เสนอ | H5: ผู้ได้รับการคัดเลือกและราคาที่ตกลงซื้อหรือจ้าง | J5: เหตุผลที่คัดเลือก | K5: เลขที่และวันที่ของสัญญา | L5: หมายเหตุ
C6: (บาท) | D6: (บาท) | F6: ผู้เสนอราคา | G6: ราคาที่เสนอ | H6: ผู้ได้รับการคัดเลือก | I6: ราคาที่ตกลงซื้อหรือจ้าง | J6: โดยสรุป | K6: หรือข้อตกลงในการซื้อหรือจ้าง
A7: 1 | B7: จัดซื้อน้ำดื่มประจำเดือนมิถุนายน | C7: 4000 | D7: 4,000.00 | E7: เฉพาะเจาะจง/ ดำเนินการตาม ว119 | F7: ร้านภูไท | G7: 4000 | H7: ร้านภูไท | I7: 4000 | J7: ตาม ว119/ราคาต่ำสุด | K7: 2-มิ.ย-2569 | L7: ไม่ลง eGp ตาม ว322
A8: 2 | B8: จัดจ้างซ่อมบำรุงยานพาหนะ กจ 1745 นครพนม | C8: 12000 | D8: 12000 | E8: เฉพาะเจาะจง | F8: หจก.สยามการยางออโต้เซอร์วิส | G8: 12000 | H8: หจก.สยามการยางออโต้เซอร์วิส | I8: 12000 | J8: ราคาต่ำสุด | K8: 211/2569 ลว 2-มิ.ย-2569
A9: 3 | B9: จัดซื้อวัสดุโครงการเพิ่มศักยภาพผู้ปฏิบัติงานกู้ชีพ/กู้ภัย | C9: 17520 | D9: 17520 | E9: เฉพาะเจาะจง | F9: หนองแสงฟาร์ม่า | G9: 17520 | H9: หนองแสงฟาร์ม่า | I9: 17520 | J9: ราคาต่ำสุด | K9: 212/2569 ลว 2-มิ.ย-2569
A10: 4 | B10: จัดจ้างแม่บ้านนางสาวเพ็ญณภา อ่อนพุทรา ประจำเดือนมิถุนายน 2569 | C10: 8400 | D10: 8400 | E10: เฉพาะเจาะจง | F10: นางสาวเพ็ญณภา อ่อนพุทรา | G10: 8400 | H10: นางสาวเพ็ญณภา อ่อนพุทรา | I10: 8400 | J10: ราคาต่ำสุด | K10: 213/2569 ลว 2-มิ.ย-2569
A11: 5 | B11: จัดซื้อวัสดุน้ำมันเชื้อเพลิงและหล่อลื่น รถกู้ชีพกู้ภัย บจ 7439 นครพนม | C11: 3000 | D11: 3000 | E11: เฉพาะเจาะจง/ตาม แนวทางการจัดซื้อน้ำมันเชื้อเพลิงของหน่วยงานของรัฐ | F11: หจก.พนมบริการ | G11: 3000 | H11: หจก.พนมบริการ | I11: 3000 | J11: จัดซื้อน้ำมันเชื้อเพลิง ตามแนวทางการจัดซื้อน้ำมันเชื้อเพลิงของหน่วยงานของรัฐ ผู้ค้าให้เครดิต | K11: 4-มิ.ย-2569 ใบส่งของเล่มที่ 9 เลขที่ 44 | L11: ไม่ลง eGp ตาม ว322
A12: 6 | B12: จัดซื้อวัสดุน้ำมันเชื้อเพลิงและหล่อลื่น กจ 1745 นครพนม | C12: 3000 | D12: 3000 | E12: เฉพาะเจาะจง/ตาม แนวทางการจัดซื้อน้ำมันเชื้อเพลิงของหน่วยงานของรัฐ | F12: หจก.พนมบริการ | G12: 3000 | H12: หจก.พนมบริการ | I12: 3000 | J12: จัดซื้อน้ำมันเชื้อเพลิง ตามแนวทางการจัดซื้อน้ำมันเชื้อเพลิงของหน่วยงานของรัฐ ผู้ค้าให้เครดิต | K12: 4-มิ.ย-2569 ใบส่งของเล่มที่ 9 เลขที่ 42 | L12: ไม่ลง eGp ตาม ว322
A13: 7 | B13: จัดซื้อวัสดุน้ำมันเชื้อเพลิงและหล่อลื่น กง 1621 นครพนม | C13: 2500 | D13: 2500 | E13: เฉพาะเจาะจง/ตาม แนวทางการจัดซื้อน้ำมันเชื้อเพลิงของหน่วยงานของรัฐ | F13: หจก.พนมบริการ | G13: 2500 | H13: หจก.พนมบริการ | I13: 2500 | J13: จัดซื้อน้ำมันเชื้อเพลิง ตามแนวทางการจัดซื้อน้ำมันเชื้อเพลิงของหน่วยงานของรัฐ ผู้ค้าให้เครดิต | K13: 4-มิ.ย-2569 ใบส่งของเล่มที่ 10 เลขที่ 24 | L13: ไม่ลง eGp ตาม ว322
A14: 8 | B14: จัดซื้อน้ำมันเชื้อเพลิง (แก๊สโซฮอล์ 95) ตามโครงการหน้าบ้านสวยหลังบ้านสวน ประจำปีงบประมาณ 2569 | C14: 10000 | D14: 10000 | E14: เฉพาะเจาะจง | F14: หจก.พนมบริการ | G14: 10000 | H14: หจก.พนมบริการ | I14: 10000 | J14: ราคาต่ำสุด | K14: 214/2569 ลว 5-มิ.ย-2569
A15: 9 | B15: จัดซื้อวัสดุสำนักงาน (กองคลัง) | C15: 600 | D15: 600 | E15: เฉพาะเจาะจง | F15: ร้านสาม อ. เทคนิค | G15: 600 | H15: ร้านสาม อ. เทคนิค | I15: 600 | J15: ราคาต่ำสุด | K15: 215/2569 ลว 5-มิ.ย-2569
A16: 10 | B16: จัดซื้อวัสดุคอมพิวเตอร์ (กองคลัง) | C16: 4750 | D16: 4750 | E16: เฉพาะเจาะจง | F16: หจก.กวงเชียง(2537) | G16: 4750 | H16: หจก.กวงเชียง(2537) | I16: 4750 | J16: ราคาต่ำสุด | K16: 216/2569 ลว 5-มิ.ย-2569
A17: 11 | B17: โครงการก่อสร้างห้องเก็บพัสดุศูนย์พัฒนาเด็กเล็ก ตำบลกุตาไก้ ขนาดกว้าง 5 เมตร ยาว 8 เมตร ตามแบบแปลน อบต.กุตาไก้กำหนด | C17: 300000 | D17: 301662.35 | E17: เฉพาะเจาะจง | F17: หจก.สุขเกษมคอนสตรัคชั่น 2021 | G17: 300000 | H17: หจก.สุขเกษมคอนสตรัคชั่น 2021 | I17: 300000 | J17: ราคาต่ำสุด | K17: 217/2569 ลว 8-มิ.ย-2569
A18: 12 | B18: จัดซื้อวัสดุน้ำมันเชื้อเพลิงและหล่อลื่น รถบรรทุกขยะ 80-8595 นครพนม | C18: 5000 | D18: 5000 | E18: เฉพาะเจาะจง/ตาม แนวทางการจัดซื้อน้ำมันเชื้อเพลิงของหน่วยงานของรัฐ | F18: หจก.พนมบริการ | G18: 5000 | H18: หจก.พนมบริการ | I18: 5000 | J18: จัดซื้อน้ำมันเชื้อเพลิง ตามแนวทางการจัดซื้อน้ำมันเชื้อเพลิงของหน่วยงานของรัฐ ผู้ค้าให้เครดิต | K18: 8-มิ.ย-2569 ใบส่งของเล่มที่ 10 เลขที่ 03 | L18: ไม่ลง eGp ตาม ว322
A19: 13 | B19: จัดจ้างซ่อมบำรุงรถยนต์ส่วนกลาง หมายเลขทะเบียน กจ 7003 นครพนม | C19: 3000 | D19: 3000 | E19: เฉพาะเจาะจง/ตาม แนวทางการจัดซื้อน้ำมันเชื้อเพลิงของหน่วยงานของรัฐ | F19: หจก.พนมบริการ | G19: 3000 | H19: หจก.พนมบริการ | I19: 3000 | J19: จัดซื้อน้ำมันเชื้อเพลิง ตามแนวทางการจัดซื้อน้ำมันเชื้อเพลิงของหน่วยงานของรัฐ ผู้ค้าให้เครดิต | K19: 9-มิ.ย-2569 ใบส่งของเล่มที่ 10 เลขที่ 04 | L19: ไม่ลง eGp ตาม ว322
A20: 14 | B20: จัดซื้อวัสดุน้ำมันเชื้อเพลิงและหล่อลื่น ทะเบียน 81-1331 นครพนม | C20: 4500 | D20: 4500 | E20: เฉพาะเจาะจง/ตาม แนวทางการจัดซื้อน้ำมันเชื้อเพลิงของหน่วยงานของรัฐ | F20: หจก.พนมบริการ | G20: 4500 | H20: หจก.พนมบริการ | I20: 4500 | J20: จัดซื้อน้ำมันเชื้อเพลิง ตามแนวทางการจัดซื้อน้ำมันเชื้อเพลิงของหน่วยงานของรัฐ ผู้ค้าให้เครดิต | K20: 10-มิ.ย-2569 ใบส่งของเล่มที่ 10 เลขที่ 07 | L20: ไม่ลง eGp ตาม ว322
A21: 15 | B21: จัดซื้อวัสดุสำนักงาน | C21: 2430 | D21: 2430 | E21: เฉพาะเจาะจง | F21: ร้านปริญญาการพิมพ์ | G21: 2430 | H21: ร้านปริญญาการพิมพ์ | I21: 2430 | J21: ราคาต่ำสุด | K21: 218/2569 ลว 10-มิ.ย-2569
A22: 16 | B22: จัดซื้อผ้าม่านและราง | C22: 13500 | D22: 13500 | E22: เฉพาะเจาะจง | F22: ร้านโอเคผ้าม่าน | G22: 13500 | H22: ร้านโอเคผ้าม่าน | I22: 13500 | J22: ราคาต่ำสุด | K22: 219/2569 ลว 10-มิ.ย-2569
A23: 17 | B23: จัดซื้อกระดาษกองคลัง | C23: 5075 | D23: 5075 | E23: เฉพาะเจาะจง | F23: ร้านสาม อ. เทคนิค | G23: 5075 | H23: ร้านสาม อ. เทคนิค | I23: 5075 | J23: ราคาต่ำสุด | K23: 220/2569 ลว 10-มิ.ย-2569
A24: 18 | B24: จัดซื้อวัสดุน้ำมันเชื้อเพลิงและหล่อลื่น หมายเลขทะเบียน 80-8462 นครพนม | C24: 4000 | D24: 4000 | E24: เฉพาะเจาะจง/ตาม แนวทางการจัดซื้อน้ำมันเชื้อเพลิงของหน่วยงานของรัฐ | F24: หจก.พนมบริการ | G24: 4000 | H24: หจก.พนมบริการ | I24: 4000 | J24: จัดซื้อน้ำมันเชื้อเพลิง ตามแนวทางการจัดซื้อน้ำมันเชื้อเพลิงของหน่วยงานของรัฐ ผู้ค้าให้เครดิต | K24: 12-มิ.ย-2569 ใบส่งของเล่มที่ 10 เลขที่ 18 | L24: ไม่ลง eGp ตาม ว322
A25: 19 | B25: จัดซื้อวัสดุน้ำมันเชื้อเพลิงและหล่อลื่น (เครื่องตัดหญ้า หมายเลขครุภัณฑ์ 441-63-001 | C25: 1000 | D25: 1000 | E25: เฉพาะเจาะจง/ตาม แนวทางการจัดซื้อน้ำมันเชื้อเพลิงของหน่วยงานของรัฐ | F25: หจก.พนมบริการ | G25: 1000 | H25: หจก.พนมบริการ | I25: 1000 | J25: จัดซื้อน้ำมันเชื้อเพลิง ตามแนวทางการจัดซื้อน้ำมันเชื้อเพลิงของหน่วยงานของรัฐ ผู้ค้าให้เครดิต | K25: 12-มิ.ย-2569 ใบส่งของเล่มที่ 10 เลขที่ 16 | L25: ไม่ลง eGp ตาม ว322
A26: 20 | B26: จัดซื้อวัสดุน้ำมันเชื้อเพลิงและหล่อลื่น กข 2971 นครพนม | C26: 2500 | D26: 2500 | E26: เฉพาะเจาะจง/ตาม แนวทางการจัดซื้อน้ำมันเชื้อเพลิงของหน่วยงานของรัฐ | F26: หจก.พนมบริการ | G26: 2500 | H26: หจก.พนมบริการ | I26: 2500 | J26: จัดซื้อน้ำมันเชื้อเพลิง ตามแนวทางการจัดซื้อน้ำมันเชื้อเพลิงของหน่วยงานของรัฐ ผู้ค้าให้เครดิต | K26: 12-มิ.ย-2569 ใบส่งของเล่มที่ 10 เลขที่ 17 | L26: ไม่ลง eGp ตาม ว322
A27: 21 | B27: จัดซื้อวัสดุน้ำมันเชื้อเพลิงและหล่อลื่น ทะเบียน กง 1621 นครพนม | C27: 2500 | D27: 2500 | E27: เฉพาะเจาะจง/ตาม แนวทางการจัดซื้อน้ำมันเชื้อเพลิงของหน่วยงานของรัฐ | F27: หจก.พนมบริการ | G27: 2500 | H27: หจก.พนมบริการ | I27: 2500 | J27: จัดซื้อน้ำมันเชื้อเพลิง ตามแนวทางการจัดซื้อน้ำมันเชื้อเพลิงของหน่วยงานของรัฐ ผู้ค้าให้เครดิต | K27: 12-มิ.ย-2569 ใบส่งของเล่มที่ 9 เลขที่ 43 | L27: ไม่ลง eGp ตาม ว322
A28: 22 | B28: จัดซื้อผ้าม่านและราง (กองการศึกษา) | C28: 39220 | D28: 39220 | E28: เฉพาะเจาะจง | F28: ร้านโอเคผ้าม่าน | G28: 39220 | H28: ร้านโอเคผ้าม่าน | I28: 39220 | J28: ราคาต่ำสุด | K28: 221/2569 ลว 16-มิ.ย-2569
A29: 23 | B29: จ้างซ่อมท่อระบายน้ำ หมู่ที่ 12 | C29: 13400 | D29: 13400 | E29: เฉพาะเจาะจง | F29: นายอุทิศ อุเทนธรรม | G29: 13400 | H29: นายอุทิศ อุเทนธรรม | I29: 13400 | J29: ราคาต่ำสุด | K29: 222/2569 ลว 16-มิ.ย-2569
A30: 24 | B30: จัดซื้อวัสดุงานบ้านงานครัว (สำนักปลัด) | C30: 550 | D30: 550 | E30: เฉพาะเจาะจง | F30: เอกศิริพาณิชย์ | G30: 550 | H30: เอกศิริพาณิชย์ | I30: 550 | J30: ราคาต่ำสุด | K30: 223/2569 ลว 22-มิ.ย-2569
A31: 25 | B31: จัดจ้างซ่อมแซมเครื่องคอมพิวเตอร์โน๊ตบุ๊ก รหัส 416-53-004 | C31: 600 | D31: 600 | E31: เฉพาะเจาะจง | F31: หจก.กวงเชียง(2537) | G31: 600 | H31: หจก.กวงเชียง(2537) | I31: 600 | J31: ราคาต่ำสุด | K31: 224/2569 ลว 23-มิ.ย-2569
A32: 26 | B32: จัดจ้างทำตรายาง (สำนักปลัด) | C32: 1000 | D32: 1000 | E32: เฉพาะเจาะจง | F32: ร้านปริญญาการพิมพ์ | G32: 1000 | H32: ร้านปริญญาการพิมพ์ | I32: 1000 | J32: ราคาต่ำสุด | K32: 225/2569 ลว 24-มิ.ย-2569
A33: 27 | B33: จัดซื้อโน๊ตบุ๊กกองช่าง 2 เครื่อง | C33: 50000 | D33: 50000 | E33: เฉพาะเจาะจง | F33: หจก.กวงเชียง(2537) | G33: 50000 | H33: หจก.กวงเชียง(2537) | I33: 50000 | J33: ราคาต่ำสุด | K33: 226/2569 ลว 26-มิ.ย-2569
A34: 28 | B34: จัดจ้างซ่อมแซมประตูห้องน้ำชาย-หญิงอาคารห้องประชุมโพธิ์ทองฯ | C34: 22300 | D34: 22300 | E34: เฉพาะเจาะจง | F34: นายพลากร ขันสำรอง | G34: 22300 | H34: นายพลากร ขันสำรอง | I34: 22300 | J34: ราคาต่ำสุด | K34: 227/2569 ลว 26-มิ.ย-2569
A35: 29 | B35: จัดซื้อวัสดุก่อสร้าง | C35: 24969 | D35: 24969 | E35: เฉพาะเจาะจง | F35: ร้าน ป.วัชรา | G35: 24969 | H35: ร้าน ป.วัชรา | I35: 24969 | J35: ราคาต่ำสุด | K35: 228/2569 ลว 26-มิ.ย-2569
A36: 30 | B36: ซื้อวัสดุคอมพิวเตอร์(สำนักปลัด) จำนวน 4 รายการ | C36: 11500 | D36: 11500 | E36: เฉพาะเจาะจง | F36: หจก.กวงเชียง(2537) | G36: 11500 | H36: หจก.กวงเชียง(2537) | I36: 11500 | J36: ราคาต่ำสุด | K36: 229/2569 ลว 26-มิ.ย-2569
A37: 31 | B37: จัดซื้อโต๊ะเก้าอี้ทำงาน (กองช่าง) | C37: 14000 | D37: 14000 | E37: เฉพาะเจาะจง | F37: หจก.กวงเชียง(2537) | G37: 14000 | H37: หจก.กวงเชียง(2537) | I37: 14000 | J37: ราคาต่ำสุด | K37: 230/2569 ลว 26-มิ.ย-2569
A38: 32 | B38: จัดซื้อครุภัณฑ์สำนักงาน (กองการศึกษา) | C38: 27800 | D38: 27800 | E38: เฉพาะเจาะจง | F38: หจก.กวงเชียง(2537) | G38: 27800 | H38: หจก.กวงเชียง(2537) | I38: 27800 | J38: ราคาต่ำสุด | K38: 231/2569 ลว 26-มิ.ย-2569
A39: 33 | B39: จ้างซ่อมรถยนต์ บจ 7439 นครพนม | C39: 41948.28 | D39: 41948.28 | E39: เฉพาะเจาะจง | F39: บริษัทโตโยต้านครพนมจำกัด | G39: 41948.28 | H39: บริษัทโตโยต้านครพนมจำกัด | I39: 41948.28 | J39: ราคาต่ำสุด | K39: 232/2569 ลว 30-มิ.ย-2569
A40: 34 | B40: จัดจ้างทำวัสดุโฆษณาและเผยแพร่(ป้ายประชาสัมพันธ์ร่วมใจต้านทุจริตคอร์รัปชั่นขององค์การบริหารส่วนตำบลกุตาไก้) | C40: 3240 | D40: 3240 | E40: เฉพาะเจาะจง | F40: ร้านปลาปากอิงค์เจท | G40: 3240 | H40: ร้านปลาปากอิงค์เจท | I40: 3240 | J40: ราคาต่ำสุด | K40: 233/2569 ลว 30-มิ.ย-2569
...

Sheet สขร1-พฤษภาคม 69
K1: แบบ สขร. 1
A2: แบบสรุปผลการดำเนินการจัดซื้อจัดจ้างในรอบเดือนพฤษภาคม พ.ศ.2569
A3: องค์การบริหารส่วนตำบลกุตาไก้ อำเภอปลาปาก จังหวัดนครพนม
A4: วันที่ 31 พฤษภาคม พ.ศ. 2569
A5: ลำดับที่ | B5: งานที่จัดซื้อหรือจัดจ้าง | C5: วงเงินที่จะซื้อหรือจ้าง | D5: ราคากลาง | E5: วิธีซื้อหรือจ้าง | F5: รายชื่อผู้เสนอราคาและราคาที่เสนอ | H5: ผู้ได้รับการคัดเลือกและราคาที่ตกลงซื้อหรือจ้าง | J5: เหตุผลที่คัดเลือก | K5: เลขที่และวันที่ของสัญญา | L5: หมายเหตุ
C6: (บาท) | D6: (บาท) | F6: ผู้เสนอราคา | G6: ราคาที่เสนอ | H6: ผู้ได้รับการคัดเลือก | I6: ราคาที่ตกลงซื้อหรือจ้าง | J6: โดยสรุป | K6: หรือข้อตกลงในการซื้อหรือจ้าง
A7: 1 | B7: จัดซื้อน้ำดื่มประจำเดือนพฤษภาคม | C7: 4000 | D7: 4,000.00 | E7: เฉพาะเจาะจง/ ดำเนินการตาม ว119 | F7: ร้านภูไท | G7: 4000 | H7: ร้านภูไท | I7: 4000 | J7: ตาม ว119/ราคาต่ำสุด | K7: 1-พ.ค-2569 | L7: ไม่ลง eGp ตาม ว322
A8: 2 | B8: จัดซื้อไฟฉุกเฉิน | C8: 27100 | D8: 27100 | E8: เฉพาะเจาะจง | F8: ร้านชนะภัย and Rescue (C.A.R ) | G8: 27100 | H8: ร้านชนะภัย and Rescue (C.A.R ) | I8: 27100 | J8: ราคาต่ำสุด | K8: 188/2569 ลว 1-พ.ค-2569
A9: 3 | B9: ซ่อมรถสำนักปลัด | C9: 9950 | D9: 9950 | E9: เฉพาะเจาะจง | F9: ร้านเอ็น เค พี คาร์แคร์ | G9: 9950 | H9: ร้านเอ็น เค พี คาร์แคร์ | I9: 9950 | J9: ราคาต่ำสุด | K9: 189/2569 ลว 1-พ.ค-2569
A10: 4 | B10: ซ่อมหลังคา ศพด.กุตาไก้ | C10: 6948 | D10: 6948 | E10: เฉพาะเจาะจง | F10: ร้านเล็กแอร์ | G10: 6948 | H10: ร้านเล็กแอร์ | I10: 6948 | J10: ราคาต่ำสุด | K10: 190/2569 ลว 1-พ.ค-2569
A11: 5 | B11: จัดซื้อวัสดุไฟฟ้า | C11: 46000 | D11: 46000 | E11: เฉพาะเจาะจง | F11: ร้าน ป.วัชรา | G11: 46000 | H11: ร้าน ป.วัชรา | I11: 46000 | J11: ราคาต่ำสุด | K11: 191/2569 ลว 1-พ.ค-2569
A12: 6 | B12: ซื้อวัสดุงานบ้านงานครัว (กองการศึกษา) | C12: 20000 | D12: 20000 | E12: เฉพาะเจาะจง | F12: เอกศิริพาณิชย์ | G12: 20000 | H12: เอกศิริพาณิชย์ | I12: 20000 | J12: ราคาต่ำสุด | K12: 192/2569 ลว 1-พ.ค-2569
A13: 7 | B13: จัดจ้างทำพระบรมฉายาลักษณ์รัชกาลที่ 10 และพระบรมราชินีและป้ายองค์การบริหารส่วนตำบลกุตาไก้ | C13: 1660 | D13: 1660 | E13: เฉพาะเจาะจง | F13: ร้านปลาปากอิงค์เจท | G13: 1660 | H13: ร้านปลาปากอิงค์เจท | I13: 1660 | J13: ราคาต่ำสุด | K13: 193/2569 ลว 6-พ.ค-2569
A14: 8 | B14: จัดจ้างทำป้ายไวนิลประชาสัมพันธ์แหล่งน้ำอันตรายระวังเด็กจมน้ำ จำนวน 2 ป้าย | C14: 540 | D14: 540 | E14: เฉพาะเจาะจง | F14: ร้านปลาปากอิงค์เจท | G14: 540 | H14: ร้านปลาปากอิงค์เจท | I14: 540 | J14: ราคาต่ำสุด | K14: 194/2569 ลว 6-พ.ค-2569
A15: 9 | B15: จัดซื้อวัสดุน้ำมันเชื้อเพลิงและหล่อลื่น ทะเบียน กง 1621 นครพนม | C15: 2500 | D15: 2500 | E15: เฉพาะเจาะจง/ตาม แนวทางการจัดซื้อน้ำมันเชื้อเพลิงของหน่วยงานของรัฐ | F15: หจก.พนมบริการ | G15: 2500 | H15: หจก.พนมบริการ | I15: 2500 | J15: จัดซื้อน้ำมันเชื้อเพลิง ตามแนวทางการจัดซื้อน้ำมันเชื้อเพลิงของหน่วยงานของรัฐ ผู้ค้าให้เครดิต | K15: 7-พ.ค-2569 | L15: ไม่ลง eGp ตาม ว322
A16: 10 | B16: จัดซื้อวัสดุน้ำมันเชื้อเพลิงและหล่อลื่น ทะเบียน กข 2971 นครพนม | C16: 2500 | D16: 2500 | E16: เฉพาะเจาะจง/ตาม แนวทางการจัดซื้อน้ำมันเชื้อเพลิงของหน่วยงานของรัฐ | F16: หจก.พนมบริการ | G16: 2500 | H16: หจก.พนมบริการ | I16: 2500 | J16: จัดซื้อน้ำมันเชื้อเพลิง ตามแนวทางการจัดซื้อน้ำมันเชื้อเพลิงของหน่วยงานของรัฐ ผู้ค้าให้เครดิต | K16: 7-พ.ค-2569 | L16: ไม่ลง eGp ตาม ว322
A17: 11 | B17: จัดจ้างซ่อมบำรุงรถยนต์ส่วนกลาง หมายเลขทะเบียน กจ.7003 นครพนม | C17: 3000 | D17: 3000 | E17: เฉพาะเจาะจง/ตาม แนวทางการจัดซื้อน้ำมันเชื้อเพลิงของหน่วยงานของรัฐ | F17: หจก.พนมบริการ | G17: 3000 | H17: หจก.พนมบริการ | I17: 3000 | J17: จัดซื้อน้ำมันเชื้อเพลิง ตามแนวทางการจัดซื้อน้ำมันเชื้อเพลิงของหน่วยงานของรัฐ ผู้ค้าให้เครดิต | K17: 7-พ.ค-2569 | L17: ไม่ลง eGp ตาม ว322
A18: 12 | B18: จัดซื้อวัสดุน้ำมันเชื้อเพลิงและหล่อลื่น หมายเลขทะเบียน 80-8462 นครพนม | C18: 4000 | D18: 4000 | E18: เฉพาะเจาะจง/ตาม แนวทางการจัดซื้อน้ำมันเชื้อเพลิงของหน่วยงานของรัฐ | F18: หจก.พนมบริการ | G18: 4000 | H18: หจก.พนมบริการ | I18: 4000 | J18: จัดซื้อน้ำมันเชื้อเพลิง ตามแนวทางการจัดซื้อน้ำมันเชื้อเพลิงของหน่วยงานของรัฐ ผู้ค้าให้เครดิต | K18: 7-พ.ค-2569 | L18: ไม่ลง eGp ตาม ว322
A19: 13 | B19: จัดซื้อวัสดุน้ำมันเชื้อเพลิงและหล่อลื่น รถกู้ชีพกู้ภัย บจ 7439 นครพนม | C19: 3000 | D19: 3000 | E19: เฉพาะเจาะจง/ตาม แนวทางการจัดซื้อน้ำมันเชื้อเพลิงของหน่วยงานของรัฐ | F19: หจก.พนมบริการ | G19: 3000 | H19: หจก.พนมบริการ | I19: 3000 | J19: จัดซื้อน้ำมันเชื้อเพลิง ตามแนวทางการจัดซื้อน้ำมันเชื้อเพลิงของหน่วยงานของรัฐ ผู้ค้าให้เครดิต | K19: 7-พ.ค-2569 | L19: ไม่ลง eGp ตาม ว322
A20: 14 | B20: จัดซื้อวัสดุน้ำมันเชื้อเพลิงและหล่อลื่น กจ 1745 นครพนม | C20: 3000 | D20: 3000 | E20: เฉพาะเจาะจง/ตาม แนวทางการจัดซื้อน้ำมันเชื้อเพลิงของหน่วยงานของรัฐ | F20: หจก.พนมบริการ | G20: 3000 | H20: หจก.พนมบริการ | I20: 3000 | J20: จัดซื้อน้ำมันเชื้อเพลิง ตามแนวทางการจัดซื้อน้ำมันเชื้อเพลิงของหน่วยงานของรัฐ ผู้ค้าให้เครดิต | K20: 7-พ.ค-2569 | L20: ไม่ลง eGp ตาม ว322
A21: 15 | B21: จัดซื้อวัสดุน้ำมันเชื้อเพลิงและหล่อลื่น รถบรรทุกขยะ 80-8595 นครพนม | C21: 4500 | D21: 4500 | E21: เฉพาะเจาะจง/ตาม แนวทางการจัดซื้อน้ำมันเชื้อเพลิงของหน่วยงานของรัฐ | F21: หจก.พนมบริการ | G21: 4500 | H21: หจก.พนมบริการ | I21: 4500 | J21: จัดซื้อน้ำมันเชื้อเพลิง ตามแนวทางการจัดซื้อน้ำมันเชื้อเพลิงของหน่วยงานของรัฐ ผู้ค้าให้เครดิต | K21: 7-พ.ค-2569 | L21: ไม่ลง eGp ตาม ว322
A22: 16 | B22: โครงการต่อเติมศาลาอเนกประสงค์ หมู่ที่ 7 บ้านนาเรียงด้านหลังร้านค้าชุมชน กว้าง 11 เมตร ยาว 15 เมตร ตามแบบแปลน อบต.กุตาไก้ | C22: 400000 | D22: 402851.16 | E22: เฉพาะเจาะจง | F22: ห้างหุ้นส่วนจำกัด เพชรมุกดาก่อสร้าง | G22: 400000 | H22: ห้างหุ้นส่วนจำกัด เพชรมุกดาก่อสร้าง | I22: 400000 | J22: ราคาต่ำสุด | K22: 195/2569 ลว 7-พ.ค-2569
A23: 17 | B23: โครงการก่อสร้างถนนคอนกรีตเสริมเหล็ก หมู่ที่ 9 บ้านโคกสะอาด จากร้านค้าชุมชน-บ้านนางมาลา เหลาหนาด กว้าง 5 เมตร ยาว 49 เมตร หนา 0.15 เมตร อ้างแบบมาตรฐานงานทางสำหรับ อปท. แบบเลขที่ ทถ-2-203 | C23: 149500 | D23: 169030.9 | E23: เฉพาะเจาะจง | F23: หจก.สุขเกษมคอนสตรัคชั่น 2021 | G23: 149500 | H23: หจก.สุขเกษมคอนสตรัคชั่น 2021 | I23: 149500 | J23: ราคาต่ำสุด | K23: 196/2569 ลว 7-พ.ค-2569
A24: 18 | B24: โครงการก่อสร้างถนนคอนกรีตเสริมเหล็ก หมู่ที่ 9 บ้านโคกสะอาด จากบ้านนายพรทวี แสนตื้อ-บ้านนายเอกชัย แสนตื้อ กว้าง 5 เมตร ยาว 82 เมตร หนา 0.15 เมตร อ้างแบบมาตรฐานงานทางสำหรับ อปท.แบบเลขที่ ทถ-2-203 | C24: 252200 | D24: 284921.37 | E24: เฉพาะเจาะจง | F24: หจก.สุขเกษมคอนสตรัคชั่น 2022 | G24: 252200 | H24: หจก.สุขเกษมคอนสตรัคชั่น 2022 | I24: 252200 | J24: ราคาต่ำสุด | K24: 197/2569 ลว 7-พ.ค-2569
A25: 19 | B25: โครงการปรับปรุงฝารางระบายน้ำแบบฝาตะแกรงเหล็ก หมู่ที่ 3 บ้านดอนดู่ จากบ้านนางอนมมา ชาลีบุญ-ศาลาประชาคม กว้าง 0.45 -0.50 เมตร ยาว 132 เมตร ตามแบบแปลน อบต.กุตาไก้กำหนด | C25: 400500 | D25: 417471.76 | E25: เฉพาะเจาะจง | F25: ห้างหุ้นส่วนจำกัด เพชรมุกดาก่อสร้าง | G25: 400500 | H25: ห้างหุ้นส่วนจำกัด เพชรมุกดาก่อสร้าง | I25: 400500 | J25: ราคาต่ำสุด | K25: 198/2569 ลว 7-พ.ค-2569
A26: 20 | B26: จัดซื้อแท็บเล็ต | C26: 22000 | D26: 22000 | E26: เฉพาะเจาะจง | F26: หจก.กวงเชียง(2537) | G26: 22000 | H26: หจก.กวงเชียง(2537) | I26: 22000 | J26: ราคาต่ำสุด | K26: 199/2569 ลว 7-พ.ค-2569
A27: 21 | B27: จัดจ้างซ่อม-ล้างแอร์ | C27: 10200 | D27: 10200 | E27: เฉพาะเจาะจง | F27: ร้านเล็กแอร์ | G27: 10200 | H27: ร้านเล็กแอร์ | I27: 10200 | J27: ราคาต่ำสุด | K27: 200/2569 ลว 7-พ.ค-2569
A28: 22 | B28: จัดจ้างครุภัณฑ์สำนักงาน (โพเดียม) | C28: 900 | D28: 900 | E28: เฉพาะเจาะจง | F28: นายพุทธา หาได้ | G28: 900 | H28: นายพุทธา หาได้ | I28: 900 | J28: ราคาต่ำสุด | K28: 201/2569 ลว 11-พ.ค-2569
A29: 23 | B29: จัดจ้างเครื่องปรับอากาศ ศพด.ตำบลกุตาไก้ | C29: 3000 | D29: 3000 | E29: เฉพาะเจาะจง | F29: ร้านเล็กแอร์ | G29: 3000 | H29: ร้านเล็กแอร์ | I29: 3000 | J29: ราคาต่ำสุด | K29: 202/2569 ลว 11-พ.ค-2569
A30: 24 | B30: จัดซื้อวัสดุน้ำมันเชื้อเพลิงและหล่อลื่น กง 1621 นครพนม | C30: 2500 | D30: 2500 | E30: เฉพาะเจาะจง/ตาม แนวทางการจัดซื้อน้ำมันเชื้อเพลิงของหน่วยงานของรัฐ | F30: หจก.พนมบริการ | G30: 2500 | H30: หจก.พนมบริการ | I30: 2500 | J30: จัดซื้อน้ำมันเชื้อเพลิง ตามแนวทางการจัดซื้อน้ำมันเชื้อเพลิงของหน่วยงานของรัฐ ผู้ค้าให้เครดิต | K30: 15-พ.ค-2569 | L30: ไม่ลง eGp ตาม ว322
A31: 25 | B31: จัดซื้อวัสดุน้ำมันเชื้อเพลิงและหล่อลื่น รถบรรทุกขยะ 80-8595 นครพนม | C31: 5000 | D31: 5000 | E31: เฉพาะเจาะจง/ตาม แนวทางการจัดซื้อน้ำมันเชื้อเพลิงของหน่วยงานของรัฐ | F31: หจก.พนมบริการ | G31: 5000 | H31: หจก.พนมบริการ | I31: 5000 | J31: จัดซื้อน้ำมันเชื้อเพลิง ตามแนวทางการจัดซื้อน้ำมันเชื้อเพลิงของหน่วยงานของรัฐ ผู้ค้าให้เครดิต | K31: 20-พ.ค-2569 | L31: ไม่ลง eGp ตาม ว322
A32: 26 | B32: จัดซื้อวัสดุคอมพิวเตอร์ (กองการศึกษา) | C32: 9500 | D32: 9500 | E32: เฉพาะเจาะจง | F32: หจก.กวงเชียง(2537) | G32: 9500 | H32: หจก.กวงเชียง(2537) | I32: 9500 | J32: ราคาต่ำสุด | K32: 203/2569 ลว 20-พ.ค-2569
A33: 27 | B33: จัดซื้อวัสดุน้ำมันเชื้อเพลิงและหล่อลื่น กจ 1745 นครพนม | C33: 3000 | D33: 3000 | E33: เฉพาะเจาะจง/ตาม แนวทางการจัดซื้อน้ำมันเชื้อเพลิงของหน่วยงานของรัฐ | F33: หจก.พนมบริการ | G33: 3000 | H33: หจก.พนมบริการ | I33: 3000 | J33: จัดซื้อน้ำมันเชื้อเพลิง ตามแนวทางการจัดซื้อน้ำมันเชื้อเพลิงของหน่วยงานของรัฐ ผู้ค้าให้เครดิต | K33: 21-พ.ค-2569 | L33: ไม่ลง eGp ตาม ว322
A34: 28 | B34: จัดซื้อวัสดุน้ำมันเชื้อเพลิงและหล่อลื่น รถกู้ชีพกู้ภัย บจ 7439 นครพนม | C34: 3000 | D34: 3000 | E34: เฉพาะเจาะจง/ตาม แนวทางการจัดซื้อน้ำมันเชื้อเพลิงของหน่วยงานของรัฐ | F34: หจก.พนมบริการ | G34: 3000 | H34: หจก.พนมบริการ | I34: 3000 | J34: จัดซื้อน้ำมันเชื้อเพลิง ตามแนวทางการจัดซื้อน้ำมันเชื้อเพลิงของหน่วยงานของรัฐ ผู้ค้าให้เครดิต | K34: 21-พ.ค-2569 | L34: ไม่ลง eGp ตาม ว322
A35: 29 | B35: จัดซื้อวัสดุสำนักงาน (กองช่าง) | C35: 10375 | D35: 10375 | E35: เฉพาะเจาะจง | F35: ร้านปริญญาการพิมพ์ | G35: 10375 | H35: ร้านปริญญาการพิมพ์ | I35: 10375 | J35: ราคาต่ำสุด | K35: 204/2569 ลว 21-พ.ค-2569 | O35: =A35:O35 -> 0 | P35: =B35:P35 -> 0
A36: 30 | B36: จัดซื้อวัสดุสำนักงาน (กองการศึกษา) | C36: 7520 | D36: 7520 | E36: เฉพาะเจาะจง | F36: หจก.กวงเชียง(2537) | G36: 7520 | H36: หจก.กวงเชียง(2537) | I36: 7520 | J36: ราคาต่ำสุด | K36: 205/2569 ลว 21-พ.ค-2569
A37: 31 | B37: จัดซื้อตามโครงการป้องกันไข้เลือดออก | C37: 42000 | D37: 42000 | E37: เฉพาะเจาะจง | F37: ห้างหุ้นส่วนจำกัด ธนวิทย์เซ็นเตอร์ | G37: 42000 | H37: ห้างหุ้นส่วนจำกัด ธนวิทย์เซ็นเตอร์ | I37: 42000 | J37: ราคาต่ำสุด | K37: 206/2569 ลว 21-พ.ค-2569
A38: 32 | B38: ='สขร1-มีค69'!$B$37 -> จัดซื้ออาหารเสริมนมให้แก่เด็กนักเรียนในโรงเรียนในสังกัดคณะกรรมการศึกษาขั้นพื้นฐาน (สพฐ) 6 แห่ง | C38: 141477.3 | D38: 141477.3 | E38: ='สขร1-มีค69'!$E$37 -> เฉพาะเจาะจง/ตามหลักเกณฑ์ฯ อสค. | F38: ='สขร1-มีค69'!$F$37 -> บริษัท แมรี่แอนแดรี่โปรดักส์ | G38: 141477.3 | H38: ='สขร1-มีค69'!$F$37 -> บริษัท แมรี่แอนแดรี่โปรดักส์ | I38: 141477.3 | J38: ='สขร1-มีค69'!$J$37 -> ราคาต่ำสุด/ตามหลักเกณฑ์ฯ อสค. | K38: 207/2569 ลว 21-พ.ค-2569
A39: 33 | B39: ='สขร1-มีค69'!$B$36 -> จัดซื้ออาหารเสริมนมให้แก่เด็กเล็กเด็กนักเรียนในสังกัดองค์การบริหารฯ จำนวน 4 แห่ง | C39: 28604.7 | D39: 28604.7 | E39: ='สขร1-มีค69'!$E$37 -> เฉพาะเจาะจง/ตามหลักเกณฑ์ฯ อสค. | F39: ='สขร1-มีค69'!$F$37 -> บริษัท แมรี่แอนแดรี่โปรดักส์ | G39: 28604.7 | H39: ='สขร1-มีค69'!$F$37 -> บริษัท แมรี่แอนแดรี่โปรดักส์ | I39: 28604.7 | J39: ='สขร1-มีค69'!$J$37 -> ราคาต่ำสุด/ตามหลักเกณฑ์ฯ อสค. | K39: 208/2569 ลว 21-พ.ค-2569
A40: 34 | B40: จัดซื้อวัสดุน้ำมันเชื้อเพลิงและหล่อลื่น ทะเบียน กง 1621 นครพนม | C40: 2500 | D40: 2500 | E40: เฉพาะเจาะจง/ตาม แนวทางการจัดซื้อน้ำมันเชื้อเพลิงของหน่วยงานของรัฐ | F40: หจก.พนมบริการ | G40: 2500 | H40: หจก.พนมบริการ | I40: 2500 | J40: จัดซื้อน้ำมันเชื้อเพลิง ตามแนวทางการจัดซื้อน้ำมันเชื้อเพลิงของหน่วยงานของรัฐ ผู้ค้าให้เครดิต | K40: 25-พ.ค-2569 | L40: ไม่ลง eGp ตาม ว322
...

Sheet สขร1-เมษายน69 
K1: แบบ สขร. 1
A2: แบบสรุปผลการดำเนินการจัดซื้อจัดจ้างในรอบเดือน มีนาคม พ.ศ.2569
A3: องค์การบริหารส่วนตำบลกุตาไก้ อำเภอปลาปาก จังหวัดนครพนม
A4: วันที่ 30 เมษายน พ.ศ. 2569
A5: ลำดับที่ | B5: งานที่จัดซื้อหรือจัดจ้าง | C5: วงเงินที่จะซื้อหรือจ้าง | D5: ราคากลาง | E5: วิธีซื้อหรือจ้าง | F5: รายชื่อผู้เสนอราคาและราคาที่เสนอ | H5: ผู้ได้รับการคัดเลือกและราคาที่ตกลงซื้อหรือจ้าง | J5: เหตุผลที่คัดเลือก | K5: เลขที่และวันที่ของสัญญา | L5: หมายเหตุ
C6: (บาท) | D6: (บาท) | F6: ผู้เสนอราคา | G6: ราคาที่เสนอ | H6: ผู้ได้รับการคัดเลือก | I6: ราคาที่ตกลงซื้อหรือจ้าง | J6: โดยสรุป | K6: หรือข้อตกลงในการซื้อหรือจ้าง
A7: 1 | B7: จัดซื้อน้ำดื่มประจำเดือนเมษายน | C7: 4000 | D7: 4,000.00 | E7: เฉพาะเจาะจง/ ดำเนินการตาม ว119 | F7: ร้านภูไท | G7: 4000 | H7: ร้านภูไท | I7: 4000 | J7: ตาม ว119/ราคาต่ำสุด | K7: 1-เม.ย.-2569 | L7: ไม่ลง eGp ตาม ว322
A8: 2 | B8: จัดซื้อวัสดุน้ำมันเชื้อเพลิงและหล่อลื่น | C8: 2500 | D8: 2500 | E8: เฉพาะเจาะจง/ตาม แนวทางการจัดซื้อน้ำมันเชื้อเพลิงของหน่วยงานของรัฐ | F8: หจก.พนมบริการ | G8: 2500 | H8: หจก.พนมบริการ | I8: 2500 | J8: จัดซื้อน้ำมันเชื้อเพลิง ตามแนวทางการจัดซื้อน้ำมันเชื้อเพลิงของหน่วยงานของรัฐ ผู้ค้าให้เครดิต | K8: 1-เม.ย.-2569 | L8: ไม่ลง eGp ตาม ว322
A9: 3 | B9: จัดซื้อวัสดุน้ำมันเชื้อเพลิงและหล่อลื่น | C9: 2000 | D9: 2000 | E9: เฉพาะเจาะจง/ตาม แนวทางการจัดซื้อน้ำมันเชื้อเพลิงของหน่วยงานของรัฐ | F9: หจก.พนมบริการ | G9: 2000 | H9: หจก.พนมบริการ | I9: 2000 | J9: จัดซื้อน้ำมันเชื้อเพลิง ตามแนวทางการจัดซื้อน้ำมันเชื้อเพลิงของหน่วยงานของรัฐ ผู้ค้าให้เครดิต | K9: 1-เม.ย.-2569 | L9: ไม่ลง eGp ตาม ว322
A10: 4 | B10: จัดซื้อวัสดุน้ำมันเชื้อเพลิงและหล่อลื่น | C10: 4000 | D10: 4000 | E10: เฉพาะเจาะจง/ตาม แนวทางการจัดซื้อน้ำมันเชื้อเพลิงของหน่วยงานของรัฐ | F10: หจก.พนมบริการ | G10: 4000 | H10: หจก.พนมบริการ | I10: 4000 | J10: จัดซื้อน้ำมันเชื้อเพลิง ตามแนวทางการจัดซื้อน้ำมันเชื้อเพลิงของหน่วยงานของรัฐ ผู้ค้าให้เครดิต | K10: 2-เม.ย.-2569 | L10: ไม่ลง eGp ตาม ว322
A11: 5 | B11: จัดซื้อวัสดุน้ำมันเชื้อเพลิงและหล่อลื่น | C11: 3000 | D11: 3000 | E11: เฉพาะเจาะจง/ตาม แนวทางการจัดซื้อน้ำมันเชื้อเพลิงของหน่วยงานของรัฐ | F11: หจก.พนมบริการ | G11: 3000 | H11: หจก.พนมบริการ | I11: 3000 | J11: จัดซื้อน้ำมันเชื้อเพลิง ตามแนวทางการจัดซื้อน้ำมันเชื้อเพลิงของหน่วยงานของรัฐ ผู้ค้าให้เครดิต | K11: 2-เม.ย.-2569 | L11: ไม่ลง eGp ตาม ว322
A12: 6 | B12: จัดซื้อวัสดุน้ำมันเชื้อเพลิงและหล่อลื่น | C12: 4500 | D12: 4500 | E12: เฉพาะเจาะจง/ตาม แนวทางการจัดซื้อน้ำมันเชื้อเพลิงของหน่วยงานของรัฐ | F12: หจก.พนมบริการ | G12: 4500 | H12: หจก.พนมบริการ | I12: 4500 | J12: จัดซื้อน้ำมันเชื้อเพลิง ตามแนวทางการจัดซื้อน้ำมันเชื้อเพลิงของหน่วยงานของรัฐ ผู้ค้าให้เครดิต | K12: 2-เม.ย.-2569 | L12: ไม่ลง eGp ตาม ว322
A13: 7 | B13: จัดซื้อวัสดุน้ำมันเชื้อเพลิงและหล่อลื่น ทะเบียน กง 1621 นครพนม | C13: 2000 | D13: 2000 | E13: เฉพาะเจาะจง/ตาม แนวทางการจัดซื้อน้ำมันเชื้อเพลิงของหน่วยงานของรัฐ | F13: หจก.พนมบริการ | G13: 2000 | H13: หจก.พนมบริการ | I13: 2000 | J13: จัดซื้อน้ำมันเชื้อเพลิง ตามแนวทางการจัดซื้อน้ำมันเชื้อเพลิงของหน่วยงานของรัฐ ผู้ค้าให้เครดิต | K13: 7-เม.ย.-2569 | L13: ไม่ลง eGp ตาม ว322
A14: 8 | B14: จัดจ้างโครงการก่อสร้างรางระบายน้ำคอนกรีตเสริมเหล็ก หมู่ที่ 8 บ้านนาดอกไม้ จากบ้านนางวันทัย อินโสม-บ้านนายติ่ง บุญละ กว้าง 0.30 เมตร ยาว 194.80 เมตร ลึก 0.30 เมตร 4 จุด | C14: 410000 | D14: 418713.45 | E14: เฉพาะเจาะจง | F14: หจก.สุขเกษมคอนสตรัคชั่น 2021 | G14: 410000 | H14: หจก.สุขเกษมคอนสตรัคชั่น 2021 | I14: 410000 | J14: ราคาต่ำสุด | K14: 157/2569 ลว 7 เม.ย.2569
A15: 9 | B15: จัดจ้างโครงการวางท่อระบายคอนกรีตเสริมเหล็ก หมทู่ที่ 10 บ้านกุตาไก้ หน้าโรงเรียนบ้านกุตาไก้-บ้านนาเรียง ขนาด 0.60x1.00 เมตร ยาว 206 เมตร | C15: 400800 | D15: 394648.11 | E15: เฉพาะเจาะจง | F15: หจก.สุขเกษมคอนสตรัคชั่น 2021 | G15: 394600 | H15: หจก.สุขเกษมคอนสตรัคชั่น 2021 | I15: 394600 | J15: ราคาต่ำสุด | K15: 158/2569 ลว 7 เม.ย.2569
A16: 10 | B16: จัดจ้างทำป้ายไวนิลประชาสัมพันธ์หน่วยงานสำหรับผู้มาติดต่อราชการ ขนาดสูง 1.2x2.5 เมตร | C16: 540 | D16: 540 | E16: เฉพาะเจาะจง | F16: ร้านปลาปากอิงค์เจท | G16: 540 | H16: ร้านปลาปากอิงค์เจท | I16: 540 | J16: ราคาต่ำสุด | K16: 159/2569 ลว 7 เม.ย.2569
A17: 11 | B17: จัดจ้างทำป้ายไวนิลการป้องกันและลดอุบัติเหตุทางถนนช่วงเทศกาลสงกรานต์ ประจำปีงบประมาณ 2569 | C17: 3240 | D17: 3240 | E17: เฉพาะเจาะจง | F17: ร้านปลาปากอิงค์เจท | G17: 3240 | H17: ร้านปลาปากอิงค์เจท | I17: 3240 | J17: ราคาต่ำสุด | K17: 160/2569 ลว 8 เม.ย.2569
A18: 12 | B18: จัดจ้างโครงการก่อสร้างถนน คสล. ม.4 บ้านกุตาไก้ สายทางวิสาหกิจชุมชนขนมจีน-แยกไปหนองขาม กว้าง 4 เมตร ยาว 176 เมตร หนา 0.15 เมตร | C18: 446700 | D18: 503437.19 | E18: เฉพาะเจาะจง | F18: หจก.ปลาปากการโยธา | G18: 446700 | H18: หจก.ปลาปากการโยธา | I18: 446700 | J18: ราคาต่ำสุด | K18: 161/2569 ลว 9 เม.ย.2569
A19: 13 | B19: จัดซื้อน้ำดื่มบริการประชาชน (สงกรานต์) | C19: 10836 | D19: 10836 | E19: เฉพาะเจาะจง | F19: ร้านโอเค 20 บาท | G19: 10836 | H19: ร้านโอเค 20 บาท | I19: 10836 | J19: ราคาต่ำสุด | K19: 162/2569 ลว 9 เม.ย.2569
A20: 14 | B20: จัดซื้อวัสดุน้ำมันเชื้อเพลิงและหล่อลื่น รถกู้ชีพกู้ภัย บจ 7439 นครพนม | C20: 2500 | D20: 2500 | E20: เฉพาะเจาะจง/ตาม แนวทางการจัดซื้อน้ำมันเชื้อเพลิงของหน่วยงานของรัฐ | F20: หจก.พนมบริการ | G20: 2500 | H20: หจก.พนมบริการ | I20: 2500 | J20: จัดซื้อน้ำมันเชื้อเพลิง ตามแนวทางการจัดซื้อน้ำมันเชื้อเพลิงของหน่วยงานของรัฐ ผู้ค้าให้เครดิต | K20: 9-เม.ย.-2569 | L20: ไม่ลง eGp ตาม ว322
A21: 15 | B21: จัดซื้อวัสดุน้ำมันเชื้อเพลิงและหล่อลื่น รถบรรทุกขยะ 80-8595 นครพนม | C21: 4500 | D21: 4500 | E21: เฉพาะเจาะจง/ตาม แนวทางการจัดซื้อน้ำมันเชื้อเพลิงของหน่วยงานของรัฐ | F21: หจก.พนมบริการ | G21: 4500 | H21: หจก.พนมบริการ | I21: 4500 | J21: จัดซื้อน้ำมันเชื้อเพลิง ตามแนวทางการจัดซื้อน้ำมันเชื้อเพลิงของหน่วยงานของรัฐ ผู้ค้าให้เครดิต | K21: 9-เม.ย.-2569 | L21: ไม่ลง eGp ตาม ว322
A22: 16 | B22: จัดซื้อวัสดุเครื่องแต่งกาย | C22: 3140 | D22: 3140 | E22: เฉพาะเจาะจง | F22: ร้านเอกศิริพาณิชย์ | G22: 3140 | H22: ร้านเอกศิริพาณิชย์ | I22: 3140 | J22: ราคาต่ำสุด | K22: 163/2569 ลว 10 เม.ย.2569
A23: 17 | B23: จัดซื้อวัสดุสำนักงาน (สำนักปลัด)ชั้น | C23: 8050 | D23: 8050 | E23: เฉพาะเจาะจง | F23: หจก.กวงเชียง(2537) | G23: 8050 | H23: หจก.กวงเชียง(2537) | I23: 8050 | J23: ราคาต่ำสุด | K23: 165/2569 ลว 10 เม.ย.2569
A24: 18 | B24: จัดซื้อวัคซีน | C24: 62320 | D24: 62320 | E24: เฉพาะเจาะจง | F24: เอ็น เค พี เวชภัณฑ์สัตว์ | G24: 62320 | H24: เอ็น เค พี เวชภัณฑ์สัตว์ | I24: 62320 | J24: ราคาต่ำสุด | K24: 166/2569 ลว 10 เม.ย.2569
A25: 19 | B25: ซื้อครุภัณฑ์สำนักงาน กองคลัง โต๊ะ+เก้าอี้ | C25: 10500 | D25: 10500 | E25: เฉพาะเจาะจง | F25: หจก.กวงเชียง(2537) | G25: 10500 | H25: หจก.กวงเชียง(2537) | I25: 10500 | J25: ราคาต่ำสุด | K25: 167/2569 ลว 10 เม.ย.2569
A26: 20 | B26: จัดซื้อวัสดุสำนักงาน (สำนักปลัด) | C26: 1560 | D26: 1560 | E26: เฉพาะเจาะจง | F26: วีระซัฟฟลาย | G26: 1560 | H26: วีระซัฟฟลาย | I26: 1560 | J26: ราคาต่ำสุด | K26: 168/2569 ลว 16 เม.ย.2569
A27: 21 | B27: จัดซื้อวัสดุก่อสร้าง (ท่อ คสล.) | C27: 45200 | D27: 45200 | E27: เฉพาะเจาะจง | F27: ร้านเพิ่มพลูคูณยั่งยืน | G27: 45200 | H27: ร้านเพิ่มพลูคูณยั่งยืน | I27: 45200 | J27: ราคาต่ำสุด | K27: 169/2569 ลว 17 เม.ย.2569
A28: 22 | B28: จัดซื้อกระดาษ A4 (สำนักปลัด) | C28: 14500 | D28: 14500 | E28: เฉพาะเจาะจง | F28: ร้านสาม อ. เทคนิค | G28: 14500 | H28: ร้านสาม อ. เทคนิค | I28: 14500 | J28: ราคาต่ำสุด | K28: 170/2569 ลว 17 เม.ย.2569
A29: 23 | B29: จัดซื้อวัสดุน้ำมันเชื้อเพลิงและหล่อลื่น กง 1621 นครพนม | C29: 2000 | D29: 2000 | E29: เฉพาะเจาะจง/ตาม แนวทางการจัดซื้อน้ำมันเชื้อเพลิงของหน่วยงานของรัฐ | F29: หจก.พนมบริการ | G29: 2000 | H29: หจก.พนมบริการ | I29: 2000 | J29: จัดซื้อน้ำมันเชื้อเพลิง ตามแนวทางการจัดซื้อน้ำมันเชื้อเพลิงของหน่วยงานของรัฐ ผู้ค้าให้เครดิต | K29: 17-เม.ย.-2569 | L29: ไม่ลง eGp ตาม ว322
A30: 24 | B30: จัดซื้อวัสดุน้ำมันเชื้อเพลิงและหล่อลื่น กจ 1745 นครพนม | C30: 2500 | D30: 2500 | E30: เฉพาะเจาะจง/ตาม แนวทางการจัดซื้อน้ำมันเชื้อเพลิงของหน่วยงานของรัฐ | F30: หจก.พนมบริการ | G30: 2500 | H30: หจก.พนมบริการ | I30: 2500 | J30: จัดซื้อน้ำมันเชื้อเพลิง ตามแนวทางการจัดซื้อน้ำมันเชื้อเพลิงของหน่วยงานของรัฐ ผู้ค้าให้เครดิต | K30: 17-เม.ย.-2569 | L30: ไม่ลง eGp ตาม ว322
A31: 25 | B31: จัดซื้อวัสดุน้ำมันเชื้อเพลิงและหล่อลื่น กข 2971 นครพนม | C31: 2500 | D31: 2500 | E31: เฉพาะเจาะจง/ตาม แนวทางการจัดซื้อน้ำมันเชื้อเพลิงของหน่วยงานของรัฐ | F31: หจก.พนมบริการ | G31: 2500 | H31: หจก.พนมบริการ | I31: 2500 | J31: จัดซื้อน้ำมันเชื้อเพลิง ตามแนวทางการจัดซื้อน้ำมันเชื้อเพลิงของหน่วยงานของรัฐ ผู้ค้าให้เครดิต | K31: 17-เม.ย.-2569 | L31: ไม่ลง eGp ตาม ว322
A32: 26 | B32: จัดซื้อวัสดุวิทยาศาสตร์หรือการแพทย์ | C32: 1440 | D32: 1440 | E32: เฉพาะเจาะจง | F32: ชลลี่ เมดิคอล | G32: 1440 | H32: ชลลี่ เมดิคอล | I32: 1440 | J32: ราคาต่ำสุด | K32: 171/2569 ลว 21 เม.ย.2569
A33: 27 | B33: จัดซื้อวัสดุคอมพิวเตอร์ (กองคลัง) | C33: 2250 | D33: 2250 | E33: เฉพาะเจาะจง | F33: หจก.กวงเชียง(2537) | G33: 2250 | H33: หจก.กวงเชียง(2537) | I33: 2250 | J33: ราคาต่ำสุด | K33: 172/2569 ลว 21 เม.ย.2569
A34: 28 | B34: จัดซื้อวัสดุน้ำมันเชื้อเพลิงและหล่อลื่น รถบรรทุกขยะ 80-8595 นครพนม | C34: 4500 | D34: 4500 | E34: เฉพาะเจาะจง/ตาม แนวทางการจัดซื้อน้ำมันเชื้อเพลิงของหน่วยงานของรัฐ | F34: หจก.พนมบริการ | G34: 4500 | H34: หจก.พนมบริการ | I34: 4500 | J34: จัดซื้อน้ำมันเชื้อเพลิง ตามแนวทางการจัดซื้อน้ำมันเชื้อเพลิงของหน่วยงานของรัฐ ผู้ค้าให้เครดิต | K34: 21-เม.ย.-2569 | L34: ไม่ลง eGp ตาม ว322
A35: 29 | B35: จัดซื้อวัสดุสำนักงาน (กองช่าง) | C35: 3625 | D35: 3625 | E35: เฉพาะเจาะจง | F35: ร้านสาม อ. เทคนิค | G35: 3625 | H35: ร้านสาม อ. เทคนิค | I35: 3625 | J35: ราคาต่ำสุด | K35: 173/2569 ลว 23 เม.ย.2569
A36: 30 | B36: จัดซื้อวัสดุคอมพิวเตอร์ (กองช่าง) | C36: 1900 | D36: 1900 | E36: เฉพาะเจาะจง | F36: หจก.กวงเชียง(2537) | G36: 1900 | H36: หจก.กวงเชียง(2537) | I36: 1900 | J36: ราคาต่ำสุด | K36: 174/2569 ลว 23 เม.ย.2569
A37: 31 | B37: จัดจ้างโครงการก่อสร้างถนน คสล. ม.6 บ้านวังโพธิ์ สายที่ 2 สายทางบ้านนายสมชาย รัตนา-บ้านนางสมร มีสิมมา กว้าง 3 เมตร ยาว 218 เมตร หนา 0.15 เมตร | C37: 401300 | D37: 445697.42 | E37: เฉพาะเจาะจง | F37: หจก.ปลาปากการโยธา | G37: 401300 | H37: หจก.ปลาปากการโยธา | I37: 401300 | J37: ราคาต่ำสุด | K37: 175/2569 ลว 24 เม.ย.2569 | N37: =A37:N37 -> 0
A38: 32 | B38: จัดจ้างโครงการก่อสร้างรางระบายน้ำคสล.ม.5 บ้านกุตาไก้ จากร้านค้าชุมชน-บ้านนายอุดร อุสันสาห์ กว้าง 0.40 เมตร ยาว 154 เมตร | C38: 375000 | D38: 383966.47 | E38: เฉพาะเจาะจง | F38: หจก.ปลาปากการโยธา | G38: 375000 | H38: หจก.ปลาปากการโยธา | I38: 375000 | J38: ราคาต่ำสุด | K38: 176/2569 ลว 24 เม.ย.2569
A39: 33 | B39: จัดจ้างโครงก่อสร้างถนนคสล.ม.2 บ้านโพนทา สายทางบ้านนายวสุ น้อยชาลี - บ้านนายศรรักษ์ อุสาหะ กว้าง 3.50 เมตร ยาว 40 เมตร หนา 0.15 เมตร | C39: 84800 | D39: 95280.11 | E39: เฉพาะเจาะจง | F39: หจก.ปลาปากการโยธา | G39: 84800 | H39: หจก.ปลาปากการโยธา | I39: 84800 | J39: ราคาต่ำสุด | K39: 177/2569 ลว 24 เม.ย.2569
A40: 34 | B40: จัดจ้างโครงการก่อสร้างถนนคสล. ม.2 บ้านโพนทา สายทางบ้านนายเคน อินแสงแวง-บ้านนางแนวดี สมเภา กว้าง 4 เมตร ยาว 75 เมตร หนา 0.15 เมตร | C40: 186200 | D40: 209952.88 | E40: เฉพาะเจาะจง | F40: หจก.ปลาปากการโยธา | G40: 186200 | H40: หจก.ปลาปากการโยธา | I40: 186200 | J40: ราคาต่ำสุด | K40: 178/2569 ลว 24 เม.ย.2569
...

Sheet สขร1-มีค69
K1: แบบ สขร. 1
A2: แบบสรุปผลการดำเนินการจัดซื้อจัดจ้างในรอบเดือน มีนาคม พ.ศ.2569
A3: องค์การบริหารส่วนตำบลกุตาไก้ อำเภอปลาปาก จังหวัดนครพนม
A4: วันที่ 31 มีนาคม พ.ศ. 2569
A5: ลำดับที่ | B5: งานที่จัดซื้อหรือจัดจ้าง | C5: วงเงินที่จะซื้อหรือจ้าง | D5: ราคากลาง | E5: วิธีซื้อหรือจ้าง | F5: รายชื่อผู้เสนอราคาและราคาที่เสนอ | H5: ผู้ได้รับการคัดเลือกและราคาที่ตกลงซื้อหรือจ้าง | J5: เหตุผลที่คัดเลือก | K5: เลขที่และวันที่ของสัญญา | L5: หมายเหตุ
C6: (บาท) | D6: (บาท) | F6: ผู้เสนอราคา | G6: ราคาที่เสนอ | H6: ผู้ได้รับการคัดเลือก | I6: ราคาที่ตกลงซื้อหรือจ้าง | J6: โดยสรุป | K6: หรือข้อตกลงในการซื้อหรือจ้าง
A7: 1 | B7: จัดซื้อน้ำดื่มประจำเดือนมีนาคม | C7: 4000 | D7: 4,000.00 | E7: เฉพาะเจาะจง/ ดำเนินการตาม ว119 | F7: ร้านภูไท | G7: 4000 | H7: ร้านภูไท | I7: 4000 | J7: ตาม ว119/ราคาต่ำสุด | K7: 2-มี.ค.-2569 | L7: ไม่ลง eGp ตาม ว322
A8: 2 | B8: จัดซื้อวัสดุคอมพิวเตอร์ | C8: 2670 | D8: 2670 | E8: เฉพาะเจาะจง | F8: ร้านปริญญาการพิมพ์ | G8: 2670 | H8: ร้านปริญญาการพิมพ์ | I8: 2670 | J8: ราคาต่ำสุด | K8: 135/2569 ลว 2 มี.ค.2569 | L8: ไม่ลง eGp ตาม ว322
A9: 3 | B9: จัดซื้อวัสดุน้ำมันเชื้อเพลิงและหล่อลื่น ทะเบียน กข 2971 นครพนม | C9: 2000 | D9: 2000 | E9: เฉพาะเจาะจง/ตาม แนวทางการจัดซื้อน้ำมันเชื้อเพลิงของหน่วยงานของรัฐ | F9: หจก.พนมบริการ | G9: 2000 | H9: หจก.พนมบริการ | I9: 2000 | J9: จัดซื้อน้ำมันเชื้อเพลิง ตามแนวทางการจัดซื้อน้ำมันเชื้อเพลิงของหน่วยงานของรัฐ ผู้ค้าให้เครดิต | K9: 5-มี.ค.-2569 | L9: ไม่ลง eGp ตาม ว322
A10: 4 | B10: จัดจ้างซ่อมระบบไฟฟ้า(ศพด.) | C10: 46960 | D10: 46960 | E10: เฉพาะเจาะจง | F10: นายวิทยา ระพันธ์คำ | G10: 46960 | H10: นายวิทยา ระพันธ์คำ | I10: 46960 | J10: ราคาต่ำสุด | K10: 136/2569 ลว 6 มี.ค.2569
A11: 5 | B11: จัดจ้างซ่อมรถบรรทุกขยะ | C11: 21238.43 | D11: 21238.43 | E11: เฉพาะเจาะจง | F11: หจก.เจริญศรีเซลล์ | G11: 21238.43 | H11: หจก.เจริญศรีเซลล์ | I11: 21238.43 | J11: ราคาต่ำสุด | K11: 137/2569 ลว 9 มี.ค.2569
A12: 6 | B12: จัดซื้อชุดกีฬา | C12: 39600 | D12: 39600 | E12: เฉพาะเจาะจง | F12: ประทุมมาสปอร์ต | G12: 39600 | H12: ประทุมมาสปอร์ต | I12: 39600 | J12: ราคาต่ำสุด | K12: 138/2569 ลว 9 มี.ค.2569
A13: 7 | B13: จัดซื้อวัสดุน้ำมันเชื้อเพลิงและหล่อลื่น ทะเบียน บจ 7439 นครพนม | C13: 2500 | D13: 2500 | E13: เฉพาะเจาะจง/ตาม แนวทางการจัดซื้อน้ำมันเชื้อเพลิงของหน่วยงานของรัฐ | F13: หจก.พนมบริการ | G13: 2500 | H13: หจก.พนมบริการ | I13: 2500 | J13: จัดซื้อน้ำมันเชื้อเพลิง ตามแนวทางการจัดซื้อน้ำมันเชื้อเพลิงของหน่วยงานของรัฐ ผู้ค้าให้เครดิต | K13: 9-มี.ค.-2569 | L13: ไม่ลง eGp ตาม ว322
A14: 8 | B14: จัดซื้อวัสดุน้ำมันเชื้อเพลิงและหล่อลื่น ทะเบียน กง 1621 นครพนม | C14: 2000 | D14: 2000 | E14: เฉพาะเจาะจง/ตาม แนวทางการจัดซื้อน้ำมันเชื้อเพลิงของหน่วยงานของรัฐ | F14: หจก.พนมบริการ | G14: 2000 | H14: หจก.พนมบริการ | I14: 2000 | J14: จัดซื้อน้ำมันเชื้อเพลิง ตามแนวทางการจัดซื้อน้ำมันเชื้อเพลิงของหน่วยงานของรัฐ ผู้ค้าให้เครดิต | K14: 9-มี.ค.-2569 | L14: ไม่ลง eGp ตาม ว322
A15: 9 | B15: จัดซื้อวัสดุน้ำมันเชื้อเพลิงและหล่อลื่นรถบรรทุกขยะ ทะเบียน 80-8595 นครพนม | C15: 4500 | D15: 4500 | E15: เฉพาะเจาะจง/ตาม แนวทางการจัดซื้อน้ำมันเชื้อเพลิงของหน่วยงานของรัฐ | F15: หจก.พนมบริการ | G15: 4500 | H15: หจก.พนมบริการ | I15: 4500 | J15: จัดซื้อน้ำมันเชื้อเพลิง ตามแนวทางการจัดซื้อน้ำมันเชื้อเพลิงของหน่วยงานของรัฐ ผู้ค้าให้เครดิต | K15: 9-มี.ค.-2569 | L15: ไม่ลง eGp ตาม ว322
A16: 10 | B16: ซ่อมรถกู้ชีพ | C16: 21750 | D16: 21750 | E16: เฉพาะเจาะจง | F16: หจก.สยามการยาง | G16: 21750 | H16: หจก.สยามการยาง | I16: 21750 | J16: ราคาต่ำสุด | K16: 139/2569 ลว 11 มี.ค.2569
A17: 11 | B17: จัดซื้อวัสดุน้ำมันเชื้อเพลิงและหล่อลื่นรถกระเช้า ทะเบียน 80-8462 นครพนม | C17: 3000 | D17: 3000 | E17: เฉพาะเจาะจง/ตาม แนวทางการจัดซื้อน้ำมันเชื้อเพลิงของหน่วยงานของรัฐ | F17: หจก.พนมบริการ | G17: 3000 | H17: หจก.พนมบริการ | I17: 3000 | J17: จัดซื้อน้ำมันเชื้อเพลิง ตามแนวทางการจัดซื้อน้ำมันเชื้อเพลิงของหน่วยงานของรัฐ ผู้ค้าให้เครดิต | K17: 11-มี.ค.-2569 | L17: ไม่ลง eGp ตาม ว322
A18: 12 | B18: จัดซื้อวัสดุน้ำมันเชื้อเพลิงและหล่อลื่น ทะเบียน กจ 7003 นครพนม | C18: 2500 | D18: 2500 | E18: เฉพาะเจาะจง/ตาม แนวทางการจัดซื้อน้ำมันเชื้อเพลิงของหน่วยงานของรัฐ | F18: หจก.พนมบริการ | G18: 2500 | H18: หจก.พนมบริการ | I18: 2500 | J18: จัดซื้อน้ำมันเชื้อเพลิง ตามแนวทางการจัดซื้อน้ำมันเชื้อเพลิงของหน่วยงานของรัฐ ผู้ค้าให้เครดิต | K18: 11-มี.ค.-2569 | L18: ไม่ลง eGp ตาม ว322
A19: 13 | B19: จัดจ้างซ่อมแซมเครื่องคอมพิวเตอร์ตั้งโต๊ะแบบประมวลผล รหัสครุภัณฑ์ 416-58-002 | C19: 950 | D19: 950 | E19: เฉพาะเจาะจง | F19: หจก.กวงเชียง(2537) | G19: 950 | H19: หจก.กวงเชียง(2537) | I19: 950 | J19: ราคาต่ำสุด | K19: 140/2569 ลว 12 มี.ค.2569 | L19: ไม่ลง eGp ตาม ว322
A20: 14 | B20: จัดซื้อวัสดุสำนักงาน (กองคลัง) | C20: 14000 | D20: 14000 | E20: เฉพาะเจาะจง | F20: ร้านปริญญาการพิมพ์ | G20: 14000 | H20: ร้านปริญญาการพิมพ์ | I20: 14000 | J20: ราคาต่ำสุด | K20: 141/2569 ลว 12 มี.ค.2569
A21: 15 | B21: จัดจ้างวัสดุโฆษณาและเผยแพร่ (ป้ายไวนิลประชาสัมพันธ์แผนพัฒนาท้องถิ่น ฉบับที่ 3 (พ.ศ.2571-2575) ของอบต.กุตาไก้ | C21: 1800 | D21: 1800 | E21: เฉพาะเจาะจง | F21: ร้านปลาปากอิงค์เจ็ท | G21: 1800 | H21: ร้านปลาปากอิงค์เจ็ท | I21: 1800 | J21: ราคาต่ำสุด | K21: 142/2569 ลว 17 มี.ค.2569 | L21: ไม่ลง eGp ตาม ว322
A22: 16 | B22: ซ่อมรถบรรทุกน้ำ | C22: 6841.58 | D22: 6841.58 | E22: เฉพาะเจาะจง | F22: หจก.เจริญศรีเซลล์ | G22: 6841.58 | H22: หจก.เจริญศรีเซลล์ | I22: 6841.58 | J22: ราคาต่ำสุด | K22: 143/2569 ลว 17 มี.ค.2569
A23: 17 | B23: จัดซื้อวัสดุน้ำมันเชื้อเพลิงและหล่อลื่น ทะเบียน กง 1621 นครพนม | C23: 2000 | D23: 2000 | E23: เฉพาะเจาะจง/ตาม แนวทางการจัดซื้อน้ำมันเชื้อเพลิงของหน่วยงานของรัฐ | F23: หจก.พนมบริการ | G23: 2000 | H23: หจก.พนมบริการ | I23: 2000 | J23: จัดซื้อน้ำมันเชื้อเพลิง ตามแนวทางการจัดซื้อน้ำมันเชื้อเพลิงของหน่วยงานของรัฐ ผู้ค้าให้เครดิต | K23: 17-มี.ค.-2569 | L23: ไม่ลง eGp ตาม ว322
A24: 18 | B24: จัดซื้อวัสดุน้ำมันเชื้อเพลิงและหล่อลื่นรถบรรทุกขยะ ทะเบียน 80-8595 นครพนม | C24: 4500 | D24: 4500 | E24: เฉพาะเจาะจง/ตาม แนวทางการจัดซื้อน้ำมันเชื้อเพลิงของหน่วยงานของรัฐ | F24: หจก.พนมบริการ | G24: 4500 | H24: หจก.พนมบริการ | I24: 4500 | J24: จัดซื้อน้ำมันเชื้อเพลิง ตามแนวทางการจัดซื้อน้ำมันเชื้อเพลิงของหน่วยงานของรัฐ ผู้ค้าให้เครดิต | K24: 17-มี.ค.-2569 | L24: ไม่ลง eGp ตาม ว322
A25: 19 | B25: จัดซื้อวัสดุน้ำมันเชื้อเพลิงและหล่อลื่นรถบรรทุกน้ำ ทะเบียน 81-1331 นครพนม | C25: 4000 | D25: 4000 | E25: เฉพาะเจาะจง/ตาม แนวทางการจัดซื้อน้ำมันเชื้อเพลิงของหน่วยงานของรัฐ | F25: หจก.พนมบริการ | G25: 4000 | H25: หจก.พนมบริการ | I25: 4000 | J25: จัดซื้อน้ำมันเชื้อเพลิง ตามแนวทางการจัดซื้อน้ำมันเชื้อเพลิงของหน่วยงานของรัฐ ผู้ค้าให้เครดิต | K25: 17-มี.ค.-2569 | L25: ไม่ลง eGp ตาม ว322
A26: 20 | B26: จัดซื้อวัสดุน้ำมันเชื้อเพลิงและหล่อลื่น ทะเบียน บจ 7439 นครพนม (รถกู้ชีพกู้ภัย) | C26: 2500 | D26: 2500 | E26: เฉพาะเจาะจง/ตาม แนวทางการจัดซื้อน้ำมันเชื้อเพลิงของหน่วยงานของรัฐ | F26: หจก.พนมบริการ | G26: 2500 | H26: หจก.พนมบริการ | I26: 2500 | J26: จัดซื้อน้ำมันเชื้อเพลิง ตามแนวทางการจัดซื้อน้ำมันเชื้อเพลิงของหน่วยงานของรัฐ ผู้ค้าให้เครดิต | K26: 17-มี.ค.-2569 | L26: ไม่ลง eGp ตาม ว322
